BEGIN:VCALENDAR
VERSION:2.0
PRODID:-//Wimbledon Village - ECPv6.15.20//NONSGML v1.0//EN
CALSCALE:GREGORIAN
METHOD:PUBLISH
X-WR-CALNAME:Wimbledon Village
X-ORIGINAL-URL:https://wimbledonvillage.com
X-WR-CALDESC:Events for Wimbledon Village
REFRESH-INTERVAL;VALUE=DURATION:PT1H
X-Robots-Tag:noindex
X-PUBLISHED-TTL:PT1H
BEGIN:VTIMEZONE
TZID:Europe/London
BEGIN:DAYLIGHT
TZOFFSETFROM:+0000
TZOFFSETTO:+0100
TZNAME:BST
DTSTART:20230326T010000
END:DAYLIGHT
BEGIN:STANDARD
TZOFFSETFROM:+0100
TZOFFSETTO:+0000
TZNAME:GMT
DTSTART:20231029T010000
END:STANDARD
BEGIN:DAYLIGHT
TZOFFSETFROM:+0000
TZOFFSETTO:+0100
TZNAME:BST
DTSTART:20240331T010000
END:DAYLIGHT
BEGIN:STANDARD
TZOFFSETFROM:+0100
TZOFFSETTO:+0000
TZNAME:GMT
DTSTART:20241027T010000
END:STANDARD
BEGIN:DAYLIGHT
TZOFFSETFROM:+0000
TZOFFSETTO:+0100
TZNAME:BST
DTSTART:20250330T010000
END:DAYLIGHT
BEGIN:STANDARD
TZOFFSETFROM:+0100
TZOFFSETTO:+0000
TZNAME:GMT
DTSTART:20251026T010000
END:STANDARD
END:VTIMEZONE
BEGIN:VEVENT
DTSTART;TZID=Europe/London:20241002T190000
DTEND;TZID=Europe/London:20241002T220000
DTSTAMP:20260422T131021
CREATED:20240428T113530Z
LAST-MODIFIED:20250831T125653Z
UID:10006736-1727895600-1727906400@wimbledonvillage.com
SUMMARY:Pub Quiz @ The Dog & Fox
DESCRIPTION:Grab your team\, get your brain in gear and get quizzical at the Dog & Fox. \n  \nWhere & When: The Dog & Fox\, 24 High Street\, Wimbledon Village\, London SW19 5EA\, every Wednesday night\, 7 – 10 pm.
URL:https://wimbledonvillage.com/event/pub-quiz-the-dog-fox/2024-10-02/
ATTACH;FMTTYPE=image/png:https://wimbledonvillage.com/wp-content/uploads/2024/04/Dog-Fox-pub-quiz-image.png
END:VEVENT
BEGIN:VEVENT
DTSTART;TZID=Europe/London:20241001T193000
DTEND;TZID=Europe/London:20241001T224500
DTSTAMP:20260422T131021
CREATED:20240222T093828Z
LAST-MODIFIED:20250831T125428Z
UID:10002159-1727811000-1727822700@wimbledonvillage.com
SUMMARY:Pub Quiz @ The Rose & Crown
DESCRIPTION:Grab your cleverest pals & put your knowledge to the test with fantastic quiz master Duncan at the weekly Rose & Crown pub quiz. \n  \nWhere & When: The Rose & Crown\, 55 High Street\, Wimbledon Village\, London SW19 5BA\, every Tuesday from 7.30 – 10.45 pm (except during the Wimbledon tennis fortnight).
URL:https://wimbledonvillage.com/event/rose-crown-pub-quiz/2024-10-01/
ATTACH;FMTTYPE=image/jpeg:https://wimbledonvillage.com/wp-content/uploads/2023/08/Rose-Crown-pub-quiz-image.jpg
END:VEVENT
BEGIN:VEVENT
DTSTART;TZID=Europe/London:20240929T190000
DTEND;TZID=Europe/London:20240929T220000
DTSTAMP:20260422T131021
CREATED:20240108T125908Z
LAST-MODIFIED:20250831T125309Z
UID:10006383-1727636400-1727647200@wimbledonvillage.com
SUMMARY:Pub Quiz @ the Fire Stables
DESCRIPTION:Put your thinking hat on because this is a game for real players. Call your smartest friends and put together a winning team to answer questions about general knowledge\, music\, geography\, everything and nothing. A £50 bar tab is up for grabs each week. \n  \nWhere & When: Fire Stables\, every Sunday from 7 – 10 pm.
URL:https://wimbledonvillage.com/event/pub-quiz-the-fire-stables/2024-09-29/
ATTACH;FMTTYPE=image/jpeg:https://wimbledonvillage.com/wp-content/uploads/2024/01/rsz_pexels-elevate-1269025.jpg
END:VEVENT
BEGIN:VEVENT
DTSTART;TZID=Europe/London:20240929T100000
DTEND;TZID=Europe/London:20240929T150000
DTSTAMP:20260422T131021
CREATED:20230819T162853Z
LAST-MODIFIED:20250831T125135Z
UID:10005691-1727604000-1727622000@wimbledonvillage.com
SUMMARY:Wimbledon Village Farmers' Market
DESCRIPTION:The Village Farmers’ Market serves up a range of fabulous farm fresh and local products along with a varied offering of ready to eat goodies every Sunday from 10am to 3pm on the Village High Street. Stalls rotate each week. \n  \nFollow The Wimbledon Village Farmers’ Market on Instagram or Facebook for more details.
URL:https://wimbledonvillage.com/event/wimbledon-village-farmers-market/2024-09-29/
ATTACH;FMTTYPE=image/jpeg:https://wimbledonvillage.com/wp-content/uploads/2023/08/Farmers-Market-vegetables.jpg
END:VEVENT
BEGIN:VEVENT
DTSTART;TZID=Europe/London:20240929T090000
DTEND;TZID=Europe/London:20240929T180000
DTSTAMP:20260422T131021
CREATED:20240110T161318Z
LAST-MODIFIED:20240308T092806Z
UID:10002041-1727600400-1727632800@wimbledonvillage.com
SUMMARY:Wimbledon Common Half Marathon & 10K
DESCRIPTION:A half marathon and 10k run around Wimbledon Common in aid of Breast Cancer Now. 800 attendees.\n\n\n\n\nWhen & Where:  9:30 am –  12:30 pm\, Richard Evans Memorial Playing Fields Roehampton Vale London SW15 3PQ\n\n\n\nRace organiser: Runthrough
URL:https://wimbledonvillage.com/event/wimbledon-common-half-marathon-10k/2024-09-29/
ATTACH;FMTTYPE=image/png:https://wimbledonvillage.com/wp-content/uploads/2024/01/Screenshot-2024-01-10-at-15.55.4.png
END:VEVENT
BEGIN:VEVENT
DTSTART;TZID=Europe/London:20240929T080000
DTEND;TZID=Europe/London:20240929T170000
DTSTAMP:20260422T131021
CREATED:20240915T213231Z
LAST-MODIFIED:20240915T213353Z
UID:10003465-1727596800-1727629200@wimbledonvillage.com
SUMMARY:Music\, Arts & Crafts: Little Teds Family Session
DESCRIPTION:Discover the wonders of Wimbledon Museum through storytelling\, music and arts & crafts. This fun-filled session features songs\, stories and activities to entertain and inform the youngest visitors. \n  \nWhere & When: Wimbledon Museum\, Sunday 29th September 2024\, 10 – 10.45 am \n  \nTickets: £5 per child plus booking fee\, accompanying adult(s) free.
URL:https://wimbledonvillage.com/event/music-arts-crafts-little-teds-family-session/
ATTACH;FMTTYPE=image/jpeg:https://wimbledonvillage.com/wp-content/uploads/2024/09/oxana-lyashenko-FtNM2H1RXZ8-unsp.jpg
END:VEVENT
BEGIN:VEVENT
DTSTART;TZID=Europe/London:20240928T103000
DTEND;TZID=Europe/London:20240928T120000
DTSTAMP:20260422T131021
CREATED:20230819T155822Z
LAST-MODIFIED:20250831T132807Z
UID:10008195-1727519400-1727524800@wimbledonvillage.com
SUMMARY:Wimbledon Common and Village Walk & Talk
DESCRIPTION:A free and fun ‘walk and talk’ every Saturday morning around Wimbledon Common and Wimbledon Village. \n  \nWalk and talks are a chance for all generations to take a stroll\, chat\, meet friends and neighbours\, make new friends and enjoy their local area and green spaces together. From older adults to young children\, from buggies to beagles – everybody can join in. \n  \nNo booking\, no reservations\, just turn up and you will get a very warm welcome. \n  \nWhen & Where: 10.30am at the Wimbledon War Memorial on The Green\, at the corner of Parkside and The Causeway.
URL:https://wimbledonvillage.com/event/weekly-walk-talk/2024-09-28/
ATTACH;FMTTYPE=image/jpeg:https://wimbledonvillage.com/wp-content/uploads/2023/08/Walk-Talk-Wimbledon-Common-walkers-on-a-sunny-day.jpg
END:VEVENT
BEGIN:VEVENT
DTSTART;TZID=Europe/London:20240928T090000
DTEND;TZID=Europe/London:20240928T100000
DTSTAMP:20260422T131021
CREATED:20230819T151954Z
LAST-MODIFIED:20250831T130729Z
UID:10007502-1727514000-1727517600@wimbledonvillage.com
SUMMARY:Wimbledon Common Parkrun
DESCRIPTION:A free\, fun\, and friendly weekly 5k community event. Participants can choose to walk\, jog\, run\, volunteer or just spectate. \n  \nThe run starts from near the Windmill car park every Saturday at 9am. \n  \nJoin other runners and supporters for a post run coffee at the Windmill Cafe.
URL:https://wimbledonvillage.com/event/wimbledon-common-park-run/2024-09-28/
ATTACH;FMTTYPE=image/jpeg:https://wimbledonvillage.com/wp-content/uploads/2023/08/Wimbledon-Common-Parkrun-runners-enjoying-the-course.jpg
END:VEVENT
BEGIN:VEVENT
DTSTART;TZID=Europe/London:20240928T080000
DTEND;TZID=Europe/London:20240928T170000
DTSTAMP:20260422T131021
CREATED:20240923T111547Z
LAST-MODIFIED:20240923T111708Z
UID:10003475-1727510400-1727542800@wimbledonvillage.com
SUMMARY:Writing Saturdays at Southside House
DESCRIPTION:Connect with your creativity at this series of writing workshops in the beautiful setting of Southside House. Book individual sessions or sign up for the whole series. \n  \nWhere & When: Southside House\, 3-4 Woodhayes Road. Saturdays mornings\, 10 am – 12 pm \n  \nThemes: \n\nSaturday 28th: Voices & Conversations\nSaturday 5th October: Doors To Other Worlds\nSaturday 19th October: Haikus & Other Poems\n\n  \nTickets: Pricing is flexible to encourage participation. Minimum price £20 pp for each 2 hour session.
URL:https://wimbledonvillage.com/event/writing-saturdays-at-southside-house/2024-09-28/
ATTACH;FMTTYPE=image/png:https://wimbledonvillage.com/wp-content/uploads/2024/04/Screenshot-2024-04-28-at-10.53.1.png
END:VEVENT
BEGIN:VEVENT
DTSTART;TZID=Europe/London:20240928T080000
DTEND;TZID=Europe/London:20240928T170000
DTSTAMP:20260422T131021
CREATED:20240922T072841Z
LAST-MODIFIED:20240922T072941Z
UID:10003473-1727510400-1727542800@wimbledonvillage.com
SUMMARY:Bordeaux Month Wine Tasting @ Friarwood
DESCRIPTION:Enjoy Bordeaux Wine Month at Friarwood – a celebration of one of the world’s most renowned wine regions. Wines available to sample in their Wimbledon Village store from 12 – 5pm. No booking required.
URL:https://wimbledonvillage.com/event/bordeaux-month-wine-tasting-friarwood/
ATTACH;FMTTYPE=image/png:https://wimbledonvillage.com/wp-content/uploads/2024/09/unnamed-2-2.png
END:VEVENT
BEGIN:VEVENT
DTSTART;TZID=Europe/London:20240928T080000
DTEND;TZID=Europe/London:20240928T170000
DTSTAMP:20260422T131021
CREATED:20240917T124230Z
LAST-MODIFIED:20240917T124230Z
UID:10003467-1727510400-1727542800@wimbledonvillage.com
SUMMARY:Autumnal Herbs for Immunity and Longevity
DESCRIPTION:Join leading medical herbalist and naturopath Nadia Hill for a guided herbal medicine walk in Cannizaro Park.  The walk will focus on herbs that support immunity during winter\, fend off colds\, soothe coughs and promote longevity. \n  \nWhere & When: Cannizaro Park\, Saturday 28th September\, 10.30 am – 12 pm. \n  \nTickets: £15 plus booking fee
URL:https://wimbledonvillage.com/event/autumnal-herbs-for-immunity-and-longevity/
ATTACH;FMTTYPE=image/jpeg:https://wimbledonvillage.com/wp-content/uploads/2024/09/https-cdn.evbuc_.com-images-805.jpg
END:VEVENT
BEGIN:VEVENT
DTSTART;TZID=Europe/London:20240927T080000
DTEND;TZID=Europe/London:20240927T170000
DTSTAMP:20260422T131021
CREATED:20240622T105618Z
LAST-MODIFIED:20240622T105657Z
UID:10003044-1727424000-1727456400@wimbledonvillage.com
SUMMARY:St John's Lunchtime Recital
DESCRIPTION:Featuring Naomi Wright\, Cello. \n  \nThis event is one of a series of Lunchtime Recitals held on the final Friday of each month\, featuring local and international professional musicians. \n  \nWhere & When: St John the Baptist\, Spencer Hill\, Wimbledon SW19 4NZ on Friday 27th September at 1pm.  The Church is open for refreshments from 12.30pm with delicious home-made cakes available. Attendees are also welcome to bring their own food and drinks to enjoy before or after the recital. \n  \nBooking: No booking required. This event is free but donations are welcome in aid of the St John’s Music Fund.
URL:https://wimbledonvillage.com/event/st-johns-lunchtime-recital-3/
ATTACH;FMTTYPE=image/jpeg:https://wimbledonvillage.com/wp-content/uploads/2024/06/geert-pieters-8QrPJ3Kfie4-unspla.jpg
END:VEVENT
BEGIN:VEVENT
DTSTART;TZID=Europe/London:20240925T190000
DTEND;TZID=Europe/London:20240925T220000
DTSTAMP:20260422T131021
CREATED:20240428T113530Z
LAST-MODIFIED:20250831T125653Z
UID:10006735-1727290800-1727301600@wimbledonvillage.com
SUMMARY:Pub Quiz @ The Dog & Fox
DESCRIPTION:Grab your team\, get your brain in gear and get quizzical at the Dog & Fox. \n  \nWhere & When: The Dog & Fox\, 24 High Street\, Wimbledon Village\, London SW19 5EA\, every Wednesday night\, 7 – 10 pm.
URL:https://wimbledonvillage.com/event/pub-quiz-the-dog-fox/2024-09-25/
ATTACH;FMTTYPE=image/png:https://wimbledonvillage.com/wp-content/uploads/2024/04/Dog-Fox-pub-quiz-image.png
END:VEVENT
BEGIN:VEVENT
DTSTART;TZID=Europe/London:20240924T193000
DTEND;TZID=Europe/London:20240924T224500
DTSTAMP:20260422T131021
CREATED:20240222T093828Z
LAST-MODIFIED:20250831T125428Z
UID:10002158-1727206200-1727217900@wimbledonvillage.com
SUMMARY:Pub Quiz @ The Rose & Crown
DESCRIPTION:Grab your cleverest pals & put your knowledge to the test with fantastic quiz master Duncan at the weekly Rose & Crown pub quiz. \n  \nWhere & When: The Rose & Crown\, 55 High Street\, Wimbledon Village\, London SW19 5BA\, every Tuesday from 7.30 – 10.45 pm (except during the Wimbledon tennis fortnight).
URL:https://wimbledonvillage.com/event/rose-crown-pub-quiz/2024-09-24/
ATTACH;FMTTYPE=image/jpeg:https://wimbledonvillage.com/wp-content/uploads/2023/08/Rose-Crown-pub-quiz-image.jpg
END:VEVENT
BEGIN:VEVENT
DTSTART;TZID=Europe/London:20240924T080000
DTEND;TZID=Europe/London:20240924T170000
DTSTAMP:20260422T131021
CREATED:20240915T202801Z
LAST-MODIFIED:20240915T202941Z
UID:10003461-1727164800-1727197200@wimbledonvillage.com
SUMMARY:Big Billet Charity Quiz
DESCRIPTION:Join the team at the Crooked Billet for the Big Billet Charity Quiz in support of Dogs For Good! Amazing prizes to be won for 1st\, 2nd and 3rd places! Try out your trivia knowledge and support an amazing cause. \n  \nWhere/When: Crooked Billet\, from 7.30 – 11 pm on Tuesday 24th September. \n  \nTickets: Entry is just £3pp
URL:https://wimbledonvillage.com/event/6525/
ATTACH;FMTTYPE=image/jpeg:https://wimbledonvillage.com/wp-content/uploads/2024/09/paloma-a-a19U7mqK6OI-unsplash.jpg
END:VEVENT
BEGIN:VEVENT
DTSTART;TZID=Europe/London:20240923T090000
DTEND;TZID=Europe/London:20240923T180000
DTSTAMP:20260422T131021
CREATED:20240815T162326Z
LAST-MODIFIED:20240815T163135Z
UID:10003338-1727082000-1727114400@wimbledonvillage.com
SUMMARY:Prams & Pinot: Wine Tasting @ Friarwood
DESCRIPTION:A regular Monday afternoon wine tasting event that welcomes all parents & prams. \n  \nEnjoy and learn about 4 wines\, accompanied by light nibbles in a relaxed and informal environment. \n  \nSpitoons are provided\, plus there’s plenty of pram space and even a changing table. \n  \nEnjoy 10% discount on any wines tasted when purchased on the day. \n  \nWhere & When: Friarwood Wines from 1.30 pm – 3 pm\, but it is recommended attendees arrive by 1.20 pm. \n  \n 
URL:https://wimbledonvillage.com/event/prams-pinot-wine-tasting-friarwood/2024-09-23/
ATTACH;FMTTYPE=image/png:https://wimbledonvillage.com/wp-content/uploads/2024/08/Mumdays-Wine-Tastings_2022.png
END:VEVENT
BEGIN:VEVENT
DTSTART;TZID=Europe/London:20240922T190000
DTEND;TZID=Europe/London:20240922T220000
DTSTAMP:20260422T131021
CREATED:20240108T125908Z
LAST-MODIFIED:20250831T125309Z
UID:10006382-1727031600-1727042400@wimbledonvillage.com
SUMMARY:Pub Quiz @ the Fire Stables
DESCRIPTION:Put your thinking hat on because this is a game for real players. Call your smartest friends and put together a winning team to answer questions about general knowledge\, music\, geography\, everything and nothing. A £50 bar tab is up for grabs each week. \n  \nWhere & When: Fire Stables\, every Sunday from 7 – 10 pm.
URL:https://wimbledonvillage.com/event/pub-quiz-the-fire-stables/2024-09-22/
ATTACH;FMTTYPE=image/jpeg:https://wimbledonvillage.com/wp-content/uploads/2024/01/rsz_pexels-elevate-1269025.jpg
END:VEVENT
BEGIN:VEVENT
DTSTART;TZID=Europe/London:20240922T100000
DTEND;TZID=Europe/London:20240922T150000
DTSTAMP:20260422T131021
CREATED:20230819T162853Z
LAST-MODIFIED:20250831T125135Z
UID:10005690-1726999200-1727017200@wimbledonvillage.com
SUMMARY:Wimbledon Village Farmers' Market
DESCRIPTION:The Village Farmers’ Market serves up a range of fabulous farm fresh and local products along with a varied offering of ready to eat goodies every Sunday from 10am to 3pm on the Village High Street. Stalls rotate each week. \n  \nFollow The Wimbledon Village Farmers’ Market on Instagram or Facebook for more details.
URL:https://wimbledonvillage.com/event/wimbledon-village-farmers-market/2024-09-22/
ATTACH;FMTTYPE=image/jpeg:https://wimbledonvillage.com/wp-content/uploads/2023/08/Farmers-Market-vegetables.jpg
END:VEVENT
BEGIN:VEVENT
DTSTART;TZID=Europe/London:20240922T080000
DTEND;TZID=Europe/London:20240922T170000
DTSTAMP:20260422T131021
CREATED:20240821T074143Z
LAST-MODIFIED:20240821T074143Z
UID:10003458-1726992000-1727024400@wimbledonvillage.com
SUMMARY:John Parnham's Kids World
DESCRIPTION:Funfair rides\, stalls\, ‘dinosaur invasions’ and more! \n  \nWhere & When: Wimbledon Common\, near the Village\, from 11 am – 6 pm on  7/8th\, 14/15th\, 21st/22nd of September.
URL:https://wimbledonvillage.com/event/john-parnhams-kids-world/2024-09-22/
ATTACH;FMTTYPE=image/jpeg:https://wimbledonvillage.com/wp-content/uploads/2024/08/John-Parnhams-Kids-World-WIMBLED.jpg
END:VEVENT
BEGIN:VEVENT
DTSTART;TZID=Europe/London:20240921T103000
DTEND;TZID=Europe/London:20240921T120000
DTSTAMP:20260422T131021
CREATED:20230819T155822Z
LAST-MODIFIED:20250831T132807Z
UID:10008194-1726914600-1726920000@wimbledonvillage.com
SUMMARY:Wimbledon Common and Village Walk & Talk
DESCRIPTION:A free and fun ‘walk and talk’ every Saturday morning around Wimbledon Common and Wimbledon Village. \n  \nWalk and talks are a chance for all generations to take a stroll\, chat\, meet friends and neighbours\, make new friends and enjoy their local area and green spaces together. From older adults to young children\, from buggies to beagles – everybody can join in. \n  \nNo booking\, no reservations\, just turn up and you will get a very warm welcome. \n  \nWhen & Where: 10.30am at the Wimbledon War Memorial on The Green\, at the corner of Parkside and The Causeway.
URL:https://wimbledonvillage.com/event/weekly-walk-talk/2024-09-21/
ATTACH;FMTTYPE=image/jpeg:https://wimbledonvillage.com/wp-content/uploads/2023/08/Walk-Talk-Wimbledon-Common-walkers-on-a-sunny-day.jpg
END:VEVENT
BEGIN:VEVENT
DTSTART;TZID=Europe/London:20240921T090000
DTEND;TZID=Europe/London:20240921T100000
DTSTAMP:20260422T131021
CREATED:20230819T151954Z
LAST-MODIFIED:20250831T130729Z
UID:10007501-1726909200-1726912800@wimbledonvillage.com
SUMMARY:Wimbledon Common Parkrun
DESCRIPTION:A free\, fun\, and friendly weekly 5k community event. Participants can choose to walk\, jog\, run\, volunteer or just spectate. \n  \nThe run starts from near the Windmill car park every Saturday at 9am. \n  \nJoin other runners and supporters for a post run coffee at the Windmill Cafe.
URL:https://wimbledonvillage.com/event/wimbledon-common-park-run/2024-09-21/
ATTACH;FMTTYPE=image/jpeg:https://wimbledonvillage.com/wp-content/uploads/2023/08/Wimbledon-Common-Parkrun-runners-enjoying-the-course.jpg
END:VEVENT
BEGIN:VEVENT
DTSTART;TZID=Europe/London:20240921T080000
DTEND;TZID=Europe/London:20240921T170000
DTSTAMP:20260422T131021
CREATED:20240821T074143Z
LAST-MODIFIED:20240821T074143Z
UID:10003457-1726905600-1726938000@wimbledonvillage.com
SUMMARY:John Parnham's Kids World
DESCRIPTION:Funfair rides\, stalls\, ‘dinosaur invasions’ and more! \n  \nWhere & When: Wimbledon Common\, near the Village\, from 11 am – 6 pm on  7/8th\, 14/15th\, 21st/22nd of September.
URL:https://wimbledonvillage.com/event/john-parnhams-kids-world/2024-09-21/
ATTACH;FMTTYPE=image/jpeg:https://wimbledonvillage.com/wp-content/uploads/2024/08/John-Parnhams-Kids-World-WIMBLED.jpg
END:VEVENT
BEGIN:VEVENT
DTSTART;TZID=Europe/London:20240919T080000
DTEND;TZID=Europe/London:20240919T170000
DTSTAMP:20260422T131021
CREATED:20240915T201219Z
LAST-MODIFIED:20240915T201219Z
UID:10003460-1726732800-1726765200@wimbledonvillage.com
SUMMARY:Charity Barrel Race
DESCRIPTION:To celebrate Youngs’ 193rd birthday\, The Crooked Billet\, Hand in Hand\, Rose & Crown\, Fire Stables and Dog & Fox are hosting a charity beer barrel race in support of  Dogs For Good. \n  \nTeams will be made up of a maximum of 4 people so grab three friends or family\, and simply roll your barrel from the Billet to the Dog & Fox for a chance to win a range of prizes. \n  \nWhen/where: Thursday 19th September\, starting at the Crooked Billet @ 7 pm \n  \nTickets: £10pp
URL:https://wimbledonvillage.com/event/charity-barrel-race/
ATTACH;FMTTYPE=image/jpeg:https://wimbledonvillage.com/wp-content/uploads/2024/09/elevate-GCD9u5Xb8Bc-unsplash.jpg
END:VEVENT
BEGIN:VEVENT
DTSTART;TZID=Europe/London:20240919T080000
DTEND;TZID=Europe/London:20240919T170000
DTSTAMP:20260422T131022
CREATED:20240914T065116Z
LAST-MODIFIED:20240914T065116Z
UID:10003459-1726732800-1726765200@wimbledonvillage.com
SUMMARY:Jeroboams Late Summer Party
DESCRIPTION:The team at Jeroboams are a little sorry to see the summer ebbing away to make way for autumn\, so they’ve decided to see it out in style by throwing a party! \n  \nJoin them in the shop at 77 High Street from 4 – 7 pm on Thursday the 19th of September for a free nibble and spot of wine or Champagne\, and meet a few neighbours. Whether you are a regular\, or if you have never been inside the shop\, you are very welcome. \n  \nTickets/Booking: No need to RSVP\, just drop in.
URL:https://wimbledonvillage.com/event/jeroboams-late-summer-party/
ATTACH;FMTTYPE=image/jpeg:https://wimbledonvillage.com/wp-content/uploads/2024/09/Unknown-6.jpg
END:VEVENT
BEGIN:VEVENT
DTSTART;TZID=Europe/London:20240918T190000
DTEND;TZID=Europe/London:20240918T220000
DTSTAMP:20260422T131022
CREATED:20240428T113530Z
LAST-MODIFIED:20250831T125653Z
UID:10006734-1726686000-1726696800@wimbledonvillage.com
SUMMARY:Pub Quiz @ The Dog & Fox
DESCRIPTION:Grab your team\, get your brain in gear and get quizzical at the Dog & Fox. \n  \nWhere & When: The Dog & Fox\, 24 High Street\, Wimbledon Village\, London SW19 5EA\, every Wednesday night\, 7 – 10 pm.
URL:https://wimbledonvillage.com/event/pub-quiz-the-dog-fox/2024-09-18/
ATTACH;FMTTYPE=image/png:https://wimbledonvillage.com/wp-content/uploads/2024/04/Dog-Fox-pub-quiz-image.png
END:VEVENT
BEGIN:VEVENT
DTSTART;TZID=Europe/London:20240918T173000
DTEND;TZID=Europe/London:20240918T200000
DTSTAMP:20260422T131022
CREATED:20250902T190937Z
LAST-MODIFIED:20250903T000455Z
UID:10004882-1726680600-1726689600@wimbledonvillage.com
SUMMARY:Youngs' Charity Barrel Race
DESCRIPTION:Join in the fun with this annual barrel race around Wimbledon Village to celebrate Youngs’ Day and raise vital funds for children’s charity Wooden Spoon. \n  \nEvent Details: \n\nThursday 18th September\nMeet at The Alexandra at 5:30pm for a 6.30pm start\nRun around the Village Youngs’ pubs carrying a beer keg (don’t worry it won’t be full!)\nEnjoy a pint of Original at each station\nMeet for an after-race presentation and a selection of bar snacks and drinks.\n\n  \nTickets: £50 per team of 4. To register\, email Nicky at roseandcrown@youngs.co.uk
URL:https://wimbledonvillage.com/event/charity-barrel-race-2/
ATTACH;FMTTYPE=image/jpeg:https://wimbledonvillage.com/wp-content/uploads/2024/09/elevate-GCD9u5Xb8Bc-unsplash.jpg
END:VEVENT
BEGIN:VEVENT
DTSTART;TZID=Europe/London:20240917T193000
DTEND;TZID=Europe/London:20240917T224500
DTSTAMP:20260422T131022
CREATED:20240222T093828Z
LAST-MODIFIED:20250831T125428Z
UID:10002157-1726601400-1726613100@wimbledonvillage.com
SUMMARY:Pub Quiz @ The Rose & Crown
DESCRIPTION:Grab your cleverest pals & put your knowledge to the test with fantastic quiz master Duncan at the weekly Rose & Crown pub quiz. \n  \nWhere & When: The Rose & Crown\, 55 High Street\, Wimbledon Village\, London SW19 5BA\, every Tuesday from 7.30 – 10.45 pm (except during the Wimbledon tennis fortnight).
URL:https://wimbledonvillage.com/event/rose-crown-pub-quiz/2024-09-17/
ATTACH;FMTTYPE=image/jpeg:https://wimbledonvillage.com/wp-content/uploads/2023/08/Rose-Crown-pub-quiz-image.jpg
END:VEVENT
BEGIN:VEVENT
DTSTART;TZID=Europe/London:20240917T090000
DTEND;TZID=Europe/London:20240917T180000
DTSTAMP:20260422T131022
CREATED:20230825T165427Z
LAST-MODIFIED:20240226T180643Z
UID:10001244-1726563600-1726596000@wimbledonvillage.com
SUMMARY:Wimbledon Common Healthy Walks
DESCRIPTION:Take a little outdoor exercise and at the same time learn about the history and current management of the Commons at this regular programme of healthy walks on Wimbledon Common. \n  \nThese moderate walks take place every three weeks and last for approximately 1 hour. They are led by one of the Commons’ full-time staff or a regular volunteer. \n  \nWhere and When: Meeting/end point is outside the wooden garages near to the Rangers Office on Windmill Road. Time: 10am-11am. Booking is not required. \n  \nWalk dates for 2024: \n\n9 January\n30 January\n20 February\n12 March\n2 April\n23 April\n14 May\n4 June\n25 June\n16 July\n6 August\n27 August\n17 September\n8 October\n29 October\n19 November\n10 December
URL:https://wimbledonvillage.com/event/wimbledon-common-healthy-walks/2024-09-17/
ATTACH;FMTTYPE=image/jpeg:https://wimbledonvillage.com/wp-content/uploads/2023/08/Wimbledon-Common-Healthy-Walks-image.jpg
END:VEVENT
BEGIN:VEVENT
DTSTART;TZID=Europe/London:20240915T190000
DTEND;TZID=Europe/London:20240915T220000
DTSTAMP:20260422T131022
CREATED:20240108T125908Z
LAST-MODIFIED:20250831T125309Z
UID:10006381-1726426800-1726437600@wimbledonvillage.com
SUMMARY:Pub Quiz @ the Fire Stables
DESCRIPTION:Put your thinking hat on because this is a game for real players. Call your smartest friends and put together a winning team to answer questions about general knowledge\, music\, geography\, everything and nothing. A £50 bar tab is up for grabs each week. \n  \nWhere & When: Fire Stables\, every Sunday from 7 – 10 pm.
URL:https://wimbledonvillage.com/event/pub-quiz-the-fire-stables/2024-09-15/
ATTACH;FMTTYPE=image/jpeg:https://wimbledonvillage.com/wp-content/uploads/2024/01/rsz_pexels-elevate-1269025.jpg
END:VEVENT
BEGIN:VEVENT
DTSTART;TZID=Europe/London:20240915T100000
DTEND;TZID=Europe/London:20240915T150000
DTSTAMP:20260422T131022
CREATED:20230819T162853Z
LAST-MODIFIED:20250831T125135Z
UID:10005689-1726394400-1726412400@wimbledonvillage.com
SUMMARY:Wimbledon Village Farmers' Market
DESCRIPTION:The Village Farmers’ Market serves up a range of fabulous farm fresh and local products along with a varied offering of ready to eat goodies every Sunday from 10am to 3pm on the Village High Street. Stalls rotate each week. \n  \nFollow The Wimbledon Village Farmers’ Market on Instagram or Facebook for more details.
URL:https://wimbledonvillage.com/event/wimbledon-village-farmers-market/2024-09-15/
ATTACH;FMTTYPE=image/jpeg:https://wimbledonvillage.com/wp-content/uploads/2023/08/Farmers-Market-vegetables.jpg
END:VEVENT
END:VCALENDAR