BEGIN:VCALENDAR
VERSION:2.0
PRODID:-//Wimbledon Village - ECPv6.15.20//NONSGML v1.0//EN
CALSCALE:GREGORIAN
METHOD:PUBLISH
X-WR-CALNAME:Wimbledon Village
X-ORIGINAL-URL:https://wimbledonvillage.com
X-WR-CALDESC:Events for Wimbledon Village
REFRESH-INTERVAL;VALUE=DURATION:PT1H
X-Robots-Tag:noindex
X-PUBLISHED-TTL:PT1H
BEGIN:VTIMEZONE
TZID:Europe/London
BEGIN:DAYLIGHT
TZOFFSETFROM:+0000
TZOFFSETTO:+0100
TZNAME:BST
DTSTART:20230326T010000
END:DAYLIGHT
BEGIN:STANDARD
TZOFFSETFROM:+0100
TZOFFSETTO:+0000
TZNAME:GMT
DTSTART:20231029T010000
END:STANDARD
BEGIN:DAYLIGHT
TZOFFSETFROM:+0000
TZOFFSETTO:+0100
TZNAME:BST
DTSTART:20240331T010000
END:DAYLIGHT
BEGIN:STANDARD
TZOFFSETFROM:+0100
TZOFFSETTO:+0000
TZNAME:GMT
DTSTART:20241027T010000
END:STANDARD
BEGIN:DAYLIGHT
TZOFFSETFROM:+0000
TZOFFSETTO:+0100
TZNAME:BST
DTSTART:20250330T010000
END:DAYLIGHT
BEGIN:STANDARD
TZOFFSETFROM:+0100
TZOFFSETTO:+0000
TZNAME:GMT
DTSTART:20251026T010000
END:STANDARD
END:VTIMEZONE
BEGIN:VEVENT
DTSTART;TZID=Europe/London:20240821T190000
DTEND;TZID=Europe/London:20240821T220000
DTSTAMP:20260420T204937
CREATED:20240428T113530Z
LAST-MODIFIED:20250831T125653Z
UID:10006730-1724266800-1724277600@wimbledonvillage.com
SUMMARY:Pub Quiz @ The Dog & Fox
DESCRIPTION:Grab your team\, get your brain in gear and get quizzical at the Dog & Fox. \n  \nWhere & When: The Dog & Fox\, 24 High Street\, Wimbledon Village\, London SW19 5EA\, every Wednesday night\, 7 – 10 pm.
URL:https://wimbledonvillage.com/event/pub-quiz-the-dog-fox/2024-08-21/
ATTACH;FMTTYPE=image/png:https://wimbledonvillage.com/wp-content/uploads/2024/04/Dog-Fox-pub-quiz-image.png
END:VEVENT
BEGIN:VEVENT
DTSTART;TZID=Europe/London:20240820T193000
DTEND;TZID=Europe/London:20240820T224500
DTSTAMP:20260420T204937
CREATED:20240222T093828Z
LAST-MODIFIED:20250831T125428Z
UID:10002153-1724182200-1724193900@wimbledonvillage.com
SUMMARY:Pub Quiz @ The Rose & Crown
DESCRIPTION:Grab your cleverest pals & put your knowledge to the test with fantastic quiz master Duncan at the weekly Rose & Crown pub quiz. \n  \nWhere & When: The Rose & Crown\, 55 High Street\, Wimbledon Village\, London SW19 5BA\, every Tuesday from 7.30 – 10.45 pm (except during the Wimbledon tennis fortnight).
URL:https://wimbledonvillage.com/event/rose-crown-pub-quiz/2024-08-20/
ATTACH;FMTTYPE=image/jpeg:https://wimbledonvillage.com/wp-content/uploads/2023/08/Rose-Crown-pub-quiz-image.jpg
END:VEVENT
BEGIN:VEVENT
DTSTART;TZID=Europe/London:20240820T080000
DTEND;TZID=Europe/London:20240820T170000
DTSTAMP:20260420T204937
CREATED:20240722T092933Z
LAST-MODIFIED:20240722T093009Z
UID:10003324-1724140800-1724173200@wimbledonvillage.com
SUMMARY:Cuppa with a Coppa
DESCRIPTION:The regular ‘Cuppa with a Copper’ sessions are held to give local residents an opportunity to discuss any local policing issues. \n  \nWhere & When: The Windmill Tearooms\, Wimbledon Common\, @ 10 am on 20th August 2024
URL:https://wimbledonvillage.com/event/cuppa-with-a-coppa/
ATTACH;FMTTYPE=image/jpeg:https://wimbledonvillage.com/wp-content/uploads/2023/09/Police-Drop-In-Surgery-image.jpg
END:VEVENT
BEGIN:VEVENT
DTSTART;TZID=Europe/London:20240818T190000
DTEND;TZID=Europe/London:20240818T220000
DTSTAMP:20260420T204937
CREATED:20240108T125908Z
LAST-MODIFIED:20250831T125309Z
UID:10006377-1724007600-1724018400@wimbledonvillage.com
SUMMARY:Pub Quiz @ the Fire Stables
DESCRIPTION:Put your thinking hat on because this is a game for real players. Call your smartest friends and put together a winning team to answer questions about general knowledge\, music\, geography\, everything and nothing. A £50 bar tab is up for grabs each week. \n  \nWhere & When: Fire Stables\, every Sunday from 7 – 10 pm.
URL:https://wimbledonvillage.com/event/pub-quiz-the-fire-stables/2024-08-18/
ATTACH;FMTTYPE=image/jpeg:https://wimbledonvillage.com/wp-content/uploads/2024/01/rsz_pexels-elevate-1269025.jpg
END:VEVENT
BEGIN:VEVENT
DTSTART;TZID=Europe/London:20240818T100000
DTEND;TZID=Europe/London:20240818T150000
DTSTAMP:20260420T204937
CREATED:20230819T162853Z
LAST-MODIFIED:20250831T125135Z
UID:10005685-1723975200-1723993200@wimbledonvillage.com
SUMMARY:Wimbledon Village Farmers' Market
DESCRIPTION:The Village Farmers’ Market serves up a range of fabulous farm fresh and local products along with a varied offering of ready to eat goodies every Sunday from 10am to 3pm on the Village High Street. Stalls rotate each week. \n  \nFollow The Wimbledon Village Farmers’ Market on Instagram or Facebook for more details.
URL:https://wimbledonvillage.com/event/wimbledon-village-farmers-market/2024-08-18/
ATTACH;FMTTYPE=image/jpeg:https://wimbledonvillage.com/wp-content/uploads/2023/08/Farmers-Market-vegetables.jpg
END:VEVENT
BEGIN:VEVENT
DTSTART;TZID=Europe/London:20240818T080000
DTEND;TZID=Europe/London:20240818T170000
DTSTAMP:20260420T204937
CREATED:20240722T090921Z
LAST-MODIFIED:20240722T092144Z
UID:10003323-1723968000-1724000400@wimbledonvillage.com
SUMMARY:Police Community Liaison & Bike Marking Event
DESCRIPTION:A regular event where the Village Ward Police team invite the public to come and meet them at their stall at the Sunday Farmers Market\, voice any crime-related concerns they may have and receive crime prevention advice. They also offer theft-deterrent bike-marking on these days (See bikeregister.com for more details). \n\n\n  \nWhere & When: Village Ward Police stall at the Farmers Market\, Wimbledon Village High Street from 10 am – 12 pm. \n  \n\n\n\n\nFor more details: \nT: 020 7175 9762 \nEmail: village@met.police.pnn.uk
URL:https://wimbledonvillage.com/event/police-community-liaison-bike-marking-event/
ATTACH;FMTTYPE=image/jpeg:https://wimbledonvillage.com/wp-content/uploads/2023/09/Police-Drop-In-Surgery-image.jpg
END:VEVENT
BEGIN:VEVENT
DTSTART;TZID=Europe/London:20240817T103000
DTEND;TZID=Europe/London:20240817T120000
DTSTAMP:20260420T204937
CREATED:20230819T155822Z
LAST-MODIFIED:20250831T132807Z
UID:10008189-1723890600-1723896000@wimbledonvillage.com
SUMMARY:Wimbledon Common and Village Walk & Talk
DESCRIPTION:A free and fun ‘walk and talk’ every Saturday morning around Wimbledon Common and Wimbledon Village. \n  \nWalk and talks are a chance for all generations to take a stroll\, chat\, meet friends and neighbours\, make new friends and enjoy their local area and green spaces together. From older adults to young children\, from buggies to beagles – everybody can join in. \n  \nNo booking\, no reservations\, just turn up and you will get a very warm welcome. \n  \nWhen & Where: 10.30am at the Wimbledon War Memorial on The Green\, at the corner of Parkside and The Causeway.
URL:https://wimbledonvillage.com/event/weekly-walk-talk/2024-08-17/
ATTACH;FMTTYPE=image/jpeg:https://wimbledonvillage.com/wp-content/uploads/2023/08/Walk-Talk-Wimbledon-Common-walkers-on-a-sunny-day.jpg
END:VEVENT
BEGIN:VEVENT
DTSTART;TZID=Europe/London:20240817T090000
DTEND;TZID=Europe/London:20240817T100000
DTSTAMP:20260420T204937
CREATED:20230819T151954Z
LAST-MODIFIED:20250831T130729Z
UID:10007496-1723885200-1723888800@wimbledonvillage.com
SUMMARY:Wimbledon Common Parkrun
DESCRIPTION:A free\, fun\, and friendly weekly 5k community event. Participants can choose to walk\, jog\, run\, volunteer or just spectate. \n  \nThe run starts from near the Windmill car park every Saturday at 9am. \n  \nJoin other runners and supporters for a post run coffee at the Windmill Cafe.
URL:https://wimbledonvillage.com/event/wimbledon-common-park-run/2024-08-17/
ATTACH;FMTTYPE=image/jpeg:https://wimbledonvillage.com/wp-content/uploads/2023/08/Wimbledon-Common-Parkrun-runners-enjoying-the-course.jpg
END:VEVENT
BEGIN:VEVENT
DTSTART;TZID=Europe/London:20240816T080000
DTEND;TZID=Europe/London:20240816T170000
DTSTAMP:20260420T204937
CREATED:20240811T200656Z
LAST-MODIFIED:20240811T200656Z
UID:10003328-1723795200-1723827600@wimbledonvillage.com
SUMMARY:Wine Tasting @ Jeroboams: Wines of the Americas
DESCRIPTION:Take a trip around the Americas with a taste tour from Oregon to Uruguay. The tasting will include some refreshing whites and sumptuous reds from across the two continents. \n  \nWhen & Where: Friday 16th August\, from 6 pm at Jeroboams\, 77 High Street\, Wimbledon Village. \n  \nTickets: £30 per person. Bookable on Eventbrite via the button below. Or you can email: wimbledon@jeroboams.co.uk\, phone on 020 4586 2030\, or pop into the shop to get your tickets.
URL:https://wimbledonvillage.com/event/wine-tasting-jeroboams-wines-of-the-americas/
ATTACH;FMTTYPE=image/jpeg:https://wimbledonvillage.com/wp-content/uploads/2024/08/Unknown-5.jpg
END:VEVENT
BEGIN:VEVENT
DTSTART;TZID=Europe/London:20240814T190000
DTEND;TZID=Europe/London:20240814T220000
DTSTAMP:20260420T204937
CREATED:20240428T113530Z
LAST-MODIFIED:20250831T125653Z
UID:10006729-1723662000-1723672800@wimbledonvillage.com
SUMMARY:Pub Quiz @ The Dog & Fox
DESCRIPTION:Grab your team\, get your brain in gear and get quizzical at the Dog & Fox. \n  \nWhere & When: The Dog & Fox\, 24 High Street\, Wimbledon Village\, London SW19 5EA\, every Wednesday night\, 7 – 10 pm.
URL:https://wimbledonvillage.com/event/pub-quiz-the-dog-fox/2024-08-14/
ATTACH;FMTTYPE=image/png:https://wimbledonvillage.com/wp-content/uploads/2024/04/Dog-Fox-pub-quiz-image.png
END:VEVENT
BEGIN:VEVENT
DTSTART;TZID=Europe/London:20240814T090000
DTEND;TZID=Europe/London:20240814T180000
DTSTAMP:20260420T204937
CREATED:20230825T093421Z
LAST-MODIFIED:20240226T121649Z
UID:10000703-1723626000-1723658400@wimbledonvillage.com
SUMMARY:Beer Masterclass at the Hand in Hand
DESCRIPTION:Join the Hand in Hand’s General Manager Andrew on the second Wednesday of each month from 7 – 8.30 pm for a beer masterclass. You’ll ‘hop’ away with expert knowledge of all things beer\, starting from the raw materials\, the brewing process\, and the fun part: getting to try the beer! \n  \nSpaces for the Masterclasses are extremely limited\, so make sure you book your spot in advance online at handinhand@youngs.co.uk or call 020 8946 5720. \n  \n100% of ticket sales revenue from the events is donated to Wimbledon and Putney Commons.
URL:https://wimbledonvillage.com/event/beer-masterclass-at-the-hand-in-hand/2024-08-14/
ATTACH;FMTTYPE=image/jpeg:https://wimbledonvillage.com/wp-content/uploads/2023/08/Hand-in-Hands-GM-Andrew-promotiing-the-beer-masterclass.jpg
END:VEVENT
BEGIN:VEVENT
DTSTART;TZID=Europe/London:20240813T193000
DTEND;TZID=Europe/London:20240813T224500
DTSTAMP:20260420T204937
CREATED:20240222T093828Z
LAST-MODIFIED:20250831T125428Z
UID:10002152-1723577400-1723589100@wimbledonvillage.com
SUMMARY:Pub Quiz @ The Rose & Crown
DESCRIPTION:Grab your cleverest pals & put your knowledge to the test with fantastic quiz master Duncan at the weekly Rose & Crown pub quiz. \n  \nWhere & When: The Rose & Crown\, 55 High Street\, Wimbledon Village\, London SW19 5BA\, every Tuesday from 7.30 – 10.45 pm (except during the Wimbledon tennis fortnight).
URL:https://wimbledonvillage.com/event/rose-crown-pub-quiz/2024-08-13/
ATTACH;FMTTYPE=image/jpeg:https://wimbledonvillage.com/wp-content/uploads/2023/08/Rose-Crown-pub-quiz-image.jpg
END:VEVENT
BEGIN:VEVENT
DTSTART;TZID=Europe/London:20240813T090000
DTEND;TZID=Europe/London:20240813T180000
DTSTAMP:20260420T204937
CREATED:20240522T103127Z
LAST-MODIFIED:20240522T103543Z
UID:10003030-1723539600-1723572000@wimbledonvillage.com
SUMMARY:Mumdays: Wine Tasting @ Friarwood
DESCRIPTION:A regular Monday afternoon wine tasting event that welcomes all parents & prams. \n  \nEnjoy and learn about 4 wines\, accompanied by light nibbles in a relaxed and informal environment. \n  \nSpitoons are provided\, plus there’s plenty of pram space and even a changing table. \n  \nEnjoy 10% discount on any wines tasted when purchased on the day. \n  \nWhere & When: Friarwood Wines from 1.30 pm – 3 pm\, but it is recommended attendees arrive by 1.20 pm. \n  \n 
URL:https://wimbledonvillage.com/event/mumdays-wine-tasting-friarwood-2/2024-08-13/
ATTACH;FMTTYPE=image/jpeg:https://wimbledonvillage.com/wp-content/uploads/2023/08/Friarwood-Mumdays-Promotional-Image.jpg
END:VEVENT
BEGIN:VEVENT
DTSTART;TZID=Europe/London:20240812T080000
DTEND;TZID=Europe/London:20240816T170000
DTSTAMP:20260420T204937
CREATED:20240731T070114Z
LAST-MODIFIED:20240731T070137Z
UID:10003326-1723449600-1723827600@wimbledonvillage.com
SUMMARY:Matilda Summer Dance Camp
DESCRIPTION:Five fun-packed days of dance\, song\, theatre and craft with The Village School of Dance. Suitable for children aged 3 and above. All children will receive a summer dance week 2024 t-shirt. \n  \nWhere & When: The Village Hall\, Lingfield Road\, SW19 4QD\, from 12th – 16th August.  Sessions run 10 am – 12:30 pm for 3-4 year olds and 10 am – 3 pm for children 5 and above. \n  \nPrice: 3 – 4 year olds £142.50 per child. 5 years and older £192.50 per child.
URL:https://wimbledonvillage.com/event/matilda-summer-dance-camp/
ATTACH;FMTTYPE=image/png:https://wimbledonvillage.com/wp-content/uploads/2024/07/Screenshot-2024-07-31-at-07.48.2.png
END:VEVENT
BEGIN:VEVENT
DTSTART;TZID=Europe/London:20240811T190000
DTEND;TZID=Europe/London:20240811T220000
DTSTAMP:20260420T204937
CREATED:20240108T125908Z
LAST-MODIFIED:20250831T125309Z
UID:10006376-1723402800-1723413600@wimbledonvillage.com
SUMMARY:Pub Quiz @ the Fire Stables
DESCRIPTION:Put your thinking hat on because this is a game for real players. Call your smartest friends and put together a winning team to answer questions about general knowledge\, music\, geography\, everything and nothing. A £50 bar tab is up for grabs each week. \n  \nWhere & When: Fire Stables\, every Sunday from 7 – 10 pm.
URL:https://wimbledonvillage.com/event/pub-quiz-the-fire-stables/2024-08-11/
ATTACH;FMTTYPE=image/jpeg:https://wimbledonvillage.com/wp-content/uploads/2024/01/rsz_pexels-elevate-1269025.jpg
END:VEVENT
BEGIN:VEVENT
DTSTART;TZID=Europe/London:20240811T100000
DTEND;TZID=Europe/London:20240811T150000
DTSTAMP:20260420T204937
CREATED:20230819T162853Z
LAST-MODIFIED:20250831T125135Z
UID:10005684-1723370400-1723388400@wimbledonvillage.com
SUMMARY:Wimbledon Village Farmers' Market
DESCRIPTION:The Village Farmers’ Market serves up a range of fabulous farm fresh and local products along with a varied offering of ready to eat goodies every Sunday from 10am to 3pm on the Village High Street. Stalls rotate each week. \n  \nFollow The Wimbledon Village Farmers’ Market on Instagram or Facebook for more details.
URL:https://wimbledonvillage.com/event/wimbledon-village-farmers-market/2024-08-11/
ATTACH;FMTTYPE=image/jpeg:https://wimbledonvillage.com/wp-content/uploads/2023/08/Farmers-Market-vegetables.jpg
END:VEVENT
BEGIN:VEVENT
DTSTART;TZID=Europe/London:20240810T103000
DTEND;TZID=Europe/London:20240810T120000
DTSTAMP:20260420T204937
CREATED:20230819T155822Z
LAST-MODIFIED:20250831T132807Z
UID:10008188-1723285800-1723291200@wimbledonvillage.com
SUMMARY:Wimbledon Common and Village Walk & Talk
DESCRIPTION:A free and fun ‘walk and talk’ every Saturday morning around Wimbledon Common and Wimbledon Village. \n  \nWalk and talks are a chance for all generations to take a stroll\, chat\, meet friends and neighbours\, make new friends and enjoy their local area and green spaces together. From older adults to young children\, from buggies to beagles – everybody can join in. \n  \nNo booking\, no reservations\, just turn up and you will get a very warm welcome. \n  \nWhen & Where: 10.30am at the Wimbledon War Memorial on The Green\, at the corner of Parkside and The Causeway.
URL:https://wimbledonvillage.com/event/weekly-walk-talk/2024-08-10/
ATTACH;FMTTYPE=image/jpeg:https://wimbledonvillage.com/wp-content/uploads/2023/08/Walk-Talk-Wimbledon-Common-walkers-on-a-sunny-day.jpg
END:VEVENT
BEGIN:VEVENT
DTSTART;TZID=Europe/London:20240810T090000
DTEND;TZID=Europe/London:20240810T100000
DTSTAMP:20260420T204937
CREATED:20230819T151954Z
LAST-MODIFIED:20250831T130729Z
UID:10007495-1723280400-1723284000@wimbledonvillage.com
SUMMARY:Wimbledon Common Parkrun
DESCRIPTION:A free\, fun\, and friendly weekly 5k community event. Participants can choose to walk\, jog\, run\, volunteer or just spectate. \n  \nThe run starts from near the Windmill car park every Saturday at 9am. \n  \nJoin other runners and supporters for a post run coffee at the Windmill Cafe.
URL:https://wimbledonvillage.com/event/wimbledon-common-park-run/2024-08-10/
ATTACH;FMTTYPE=image/jpeg:https://wimbledonvillage.com/wp-content/uploads/2023/08/Wimbledon-Common-Parkrun-runners-enjoying-the-course.jpg
END:VEVENT
BEGIN:VEVENT
DTSTART;TZID=Europe/London:20240810T080000
DTEND;TZID=Europe/London:20240810T170000
DTSTAMP:20260420T204937
CREATED:20240414T092931Z
LAST-MODIFIED:20250831T134400Z
UID:10002436-1723276800-1723309200@wimbledonvillage.com
SUMMARY:Wimbledon Village Stables Open Day
DESCRIPTION:On the second Saturday of every month\, the Stables invites visitors to explore the yard\, meet the horses\, and see how everything runs behind the scenes. \n  \nIt’s a great opportunity to learn about membership options\, and see the Equicise horse simulator\, designed for all ages and abilities. Plus children will love meeting Mr Fudge\, the friendly Shetland pony!  \n  \nWhere & When: Wimbledon Village Stables\, 24 A/B\, High St\, Wimbledon Village\, London SW19 5DX\, second Saturday of every month\, from 2 – 3 pm. \n  \nBooking: No booking required—just turn up and enjoy a relaxed\, informative afternoon.
URL:https://wimbledonvillage.com/event/wimbledon-village-stables-open-afternoons/2024-08-10/
ATTACH;FMTTYPE=image/jpeg:https://wimbledonvillage.com/wp-content/uploads/2025/03/IMG_7836.jpg
END:VEVENT
BEGIN:VEVENT
DTSTART;TZID=Europe/London:20240807T190000
DTEND;TZID=Europe/London:20240807T220000
DTSTAMP:20260420T204937
CREATED:20240428T113530Z
LAST-MODIFIED:20250831T125653Z
UID:10006728-1723057200-1723068000@wimbledonvillage.com
SUMMARY:Pub Quiz @ The Dog & Fox
DESCRIPTION:Grab your team\, get your brain in gear and get quizzical at the Dog & Fox. \n  \nWhere & When: The Dog & Fox\, 24 High Street\, Wimbledon Village\, London SW19 5EA\, every Wednesday night\, 7 – 10 pm.
URL:https://wimbledonvillage.com/event/pub-quiz-the-dog-fox/2024-08-07/
ATTACH;FMTTYPE=image/png:https://wimbledonvillage.com/wp-content/uploads/2024/04/Dog-Fox-pub-quiz-image.png
END:VEVENT
BEGIN:VEVENT
DTSTART;TZID=Europe/London:20240806T193000
DTEND;TZID=Europe/London:20240806T224500
DTSTAMP:20260420T204937
CREATED:20240222T093828Z
LAST-MODIFIED:20250831T125428Z
UID:10002151-1722972600-1722984300@wimbledonvillage.com
SUMMARY:Pub Quiz @ The Rose & Crown
DESCRIPTION:Grab your cleverest pals & put your knowledge to the test with fantastic quiz master Duncan at the weekly Rose & Crown pub quiz. \n  \nWhere & When: The Rose & Crown\, 55 High Street\, Wimbledon Village\, London SW19 5BA\, every Tuesday from 7.30 – 10.45 pm (except during the Wimbledon tennis fortnight).
URL:https://wimbledonvillage.com/event/rose-crown-pub-quiz/2024-08-06/
ATTACH;FMTTYPE=image/jpeg:https://wimbledonvillage.com/wp-content/uploads/2023/08/Rose-Crown-pub-quiz-image.jpg
END:VEVENT
BEGIN:VEVENT
DTSTART;TZID=Europe/London:20240806T090000
DTEND;TZID=Europe/London:20240806T180000
DTSTAMP:20260420T204937
CREATED:20230825T165427Z
LAST-MODIFIED:20240226T180643Z
UID:10001242-1722934800-1722967200@wimbledonvillage.com
SUMMARY:Wimbledon Common Healthy Walks
DESCRIPTION:Take a little outdoor exercise and at the same time learn about the history and current management of the Commons at this regular programme of healthy walks on Wimbledon Common. \n  \nThese moderate walks take place every three weeks and last for approximately 1 hour. They are led by one of the Commons’ full-time staff or a regular volunteer. \n  \nWhere and When: Meeting/end point is outside the wooden garages near to the Rangers Office on Windmill Road. Time: 10am-11am. Booking is not required. \n  \nWalk dates for 2024: \n\n9 January\n30 January\n20 February\n12 March\n2 April\n23 April\n14 May\n4 June\n25 June\n16 July\n6 August\n27 August\n17 September\n8 October\n29 October\n19 November\n10 December
URL:https://wimbledonvillage.com/event/wimbledon-common-healthy-walks/2024-08-06/
ATTACH;FMTTYPE=image/jpeg:https://wimbledonvillage.com/wp-content/uploads/2023/08/Wimbledon-Common-Healthy-Walks-image.jpg
END:VEVENT
BEGIN:VEVENT
DTSTART;TZID=Europe/London:20240804T190000
DTEND;TZID=Europe/London:20240804T220000
DTSTAMP:20260420T204937
CREATED:20240108T125908Z
LAST-MODIFIED:20250831T125309Z
UID:10006375-1722798000-1722808800@wimbledonvillage.com
SUMMARY:Pub Quiz @ the Fire Stables
DESCRIPTION:Put your thinking hat on because this is a game for real players. Call your smartest friends and put together a winning team to answer questions about general knowledge\, music\, geography\, everything and nothing. A £50 bar tab is up for grabs each week. \n  \nWhere & When: Fire Stables\, every Sunday from 7 – 10 pm.
URL:https://wimbledonvillage.com/event/pub-quiz-the-fire-stables/2024-08-04/
ATTACH;FMTTYPE=image/jpeg:https://wimbledonvillage.com/wp-content/uploads/2024/01/rsz_pexels-elevate-1269025.jpg
END:VEVENT
BEGIN:VEVENT
DTSTART;TZID=Europe/London:20240804T100000
DTEND;TZID=Europe/London:20240804T150000
DTSTAMP:20260420T204937
CREATED:20230819T162853Z
LAST-MODIFIED:20250831T125135Z
UID:10005683-1722765600-1722783600@wimbledonvillage.com
SUMMARY:Wimbledon Village Farmers' Market
DESCRIPTION:The Village Farmers’ Market serves up a range of fabulous farm fresh and local products along with a varied offering of ready to eat goodies every Sunday from 10am to 3pm on the Village High Street. Stalls rotate each week. \n  \nFollow The Wimbledon Village Farmers’ Market on Instagram or Facebook for more details.
URL:https://wimbledonvillage.com/event/wimbledon-village-farmers-market/2024-08-04/
ATTACH;FMTTYPE=image/jpeg:https://wimbledonvillage.com/wp-content/uploads/2023/08/Farmers-Market-vegetables.jpg
END:VEVENT
BEGIN:VEVENT
DTSTART;TZID=Europe/London:20240803T103000
DTEND;TZID=Europe/London:20240803T120000
DTSTAMP:20260420T204937
CREATED:20230819T155822Z
LAST-MODIFIED:20250831T132807Z
UID:10008187-1722681000-1722686400@wimbledonvillage.com
SUMMARY:Wimbledon Common and Village Walk & Talk
DESCRIPTION:A free and fun ‘walk and talk’ every Saturday morning around Wimbledon Common and Wimbledon Village. \n  \nWalk and talks are a chance for all generations to take a stroll\, chat\, meet friends and neighbours\, make new friends and enjoy their local area and green spaces together. From older adults to young children\, from buggies to beagles – everybody can join in. \n  \nNo booking\, no reservations\, just turn up and you will get a very warm welcome. \n  \nWhen & Where: 10.30am at the Wimbledon War Memorial on The Green\, at the corner of Parkside and The Causeway.
URL:https://wimbledonvillage.com/event/weekly-walk-talk/2024-08-03/
ATTACH;FMTTYPE=image/jpeg:https://wimbledonvillage.com/wp-content/uploads/2023/08/Walk-Talk-Wimbledon-Common-walkers-on-a-sunny-day.jpg
END:VEVENT
BEGIN:VEVENT
DTSTART;TZID=Europe/London:20240803T090000
DTEND;TZID=Europe/London:20240803T100000
DTSTAMP:20260420T204937
CREATED:20230819T151954Z
LAST-MODIFIED:20250831T130729Z
UID:10007494-1722675600-1722679200@wimbledonvillage.com
SUMMARY:Wimbledon Common Parkrun
DESCRIPTION:A free\, fun\, and friendly weekly 5k community event. Participants can choose to walk\, jog\, run\, volunteer or just spectate. \n  \nThe run starts from near the Windmill car park every Saturday at 9am. \n  \nJoin other runners and supporters for a post run coffee at the Windmill Cafe.
URL:https://wimbledonvillage.com/event/wimbledon-common-park-run/2024-08-03/
ATTACH;FMTTYPE=image/jpeg:https://wimbledonvillage.com/wp-content/uploads/2023/08/Wimbledon-Common-Parkrun-runners-enjoying-the-course.jpg
END:VEVENT
BEGIN:VEVENT
DTSTART;TZID=Europe/London:20240731T190000
DTEND;TZID=Europe/London:20240731T220000
DTSTAMP:20260420T204937
CREATED:20240428T113530Z
LAST-MODIFIED:20250831T125653Z
UID:10006727-1722452400-1722463200@wimbledonvillage.com
SUMMARY:Pub Quiz @ The Dog & Fox
DESCRIPTION:Grab your team\, get your brain in gear and get quizzical at the Dog & Fox. \n  \nWhere & When: The Dog & Fox\, 24 High Street\, Wimbledon Village\, London SW19 5EA\, every Wednesday night\, 7 – 10 pm.
URL:https://wimbledonvillage.com/event/pub-quiz-the-dog-fox/2024-07-31/
ATTACH;FMTTYPE=image/png:https://wimbledonvillage.com/wp-content/uploads/2024/04/Dog-Fox-pub-quiz-image.png
END:VEVENT
BEGIN:VEVENT
DTSTART;TZID=Europe/London:20240730T193000
DTEND;TZID=Europe/London:20240730T224500
DTSTAMP:20260420T204937
CREATED:20240222T093828Z
LAST-MODIFIED:20250831T125428Z
UID:10002150-1722367800-1722379500@wimbledonvillage.com
SUMMARY:Pub Quiz @ The Rose & Crown
DESCRIPTION:Grab your cleverest pals & put your knowledge to the test with fantastic quiz master Duncan at the weekly Rose & Crown pub quiz. \n  \nWhere & When: The Rose & Crown\, 55 High Street\, Wimbledon Village\, London SW19 5BA\, every Tuesday from 7.30 – 10.45 pm (except during the Wimbledon tennis fortnight).
URL:https://wimbledonvillage.com/event/rose-crown-pub-quiz/2024-07-30/
ATTACH;FMTTYPE=image/jpeg:https://wimbledonvillage.com/wp-content/uploads/2023/08/Rose-Crown-pub-quiz-image.jpg
END:VEVENT
BEGIN:VEVENT
DTSTART;TZID=Europe/London:20240729T090000
DTEND;TZID=Europe/London:20240729T180000
DTSTAMP:20260420T204937
CREATED:20240522T103127Z
LAST-MODIFIED:20240522T103543Z
UID:10003027-1722243600-1722276000@wimbledonvillage.com
SUMMARY:Mumdays: Wine Tasting @ Friarwood
DESCRIPTION:A regular Monday afternoon wine tasting event that welcomes all parents & prams. \n  \nEnjoy and learn about 4 wines\, accompanied by light nibbles in a relaxed and informal environment. \n  \nSpitoons are provided\, plus there’s plenty of pram space and even a changing table. \n  \nEnjoy 10% discount on any wines tasted when purchased on the day. \n  \nWhere & When: Friarwood Wines from 1.30 pm – 3 pm\, but it is recommended attendees arrive by 1.20 pm. \n  \n 
URL:https://wimbledonvillage.com/event/mumdays-wine-tasting-friarwood-2/2024-07-29/
ATTACH;FMTTYPE=image/jpeg:https://wimbledonvillage.com/wp-content/uploads/2023/08/Friarwood-Mumdays-Promotional-Image.jpg
END:VEVENT
BEGIN:VEVENT
DTSTART;TZID=Europe/London:20240728T190000
DTEND;TZID=Europe/London:20240728T220000
DTSTAMP:20260420T204937
CREATED:20240108T125908Z
LAST-MODIFIED:20250831T125309Z
UID:10006374-1722193200-1722204000@wimbledonvillage.com
SUMMARY:Pub Quiz @ the Fire Stables
DESCRIPTION:Put your thinking hat on because this is a game for real players. Call your smartest friends and put together a winning team to answer questions about general knowledge\, music\, geography\, everything and nothing. A £50 bar tab is up for grabs each week. \n  \nWhere & When: Fire Stables\, every Sunday from 7 – 10 pm.
URL:https://wimbledonvillage.com/event/pub-quiz-the-fire-stables/2024-07-28/
ATTACH;FMTTYPE=image/jpeg:https://wimbledonvillage.com/wp-content/uploads/2024/01/rsz_pexels-elevate-1269025.jpg
END:VEVENT
END:VCALENDAR