BEGIN:VCALENDAR
VERSION:2.0
PRODID:-//Wimbledon Village - ECPv6.15.20//NONSGML v1.0//EN
CALSCALE:GREGORIAN
METHOD:PUBLISH
X-WR-CALNAME:Wimbledon Village
X-ORIGINAL-URL:https://wimbledonvillage.com
X-WR-CALDESC:Events for Wimbledon Village
REFRESH-INTERVAL;VALUE=DURATION:PT1H
X-Robots-Tag:noindex
X-PUBLISHED-TTL:PT1H
BEGIN:VTIMEZONE
TZID:Europe/London
BEGIN:DAYLIGHT
TZOFFSETFROM:+0000
TZOFFSETTO:+0100
TZNAME:BST
DTSTART:20230326T010000
END:DAYLIGHT
BEGIN:STANDARD
TZOFFSETFROM:+0100
TZOFFSETTO:+0000
TZNAME:GMT
DTSTART:20231029T010000
END:STANDARD
BEGIN:DAYLIGHT
TZOFFSETFROM:+0000
TZOFFSETTO:+0100
TZNAME:BST
DTSTART:20240331T010000
END:DAYLIGHT
BEGIN:STANDARD
TZOFFSETFROM:+0100
TZOFFSETTO:+0000
TZNAME:GMT
DTSTART:20241027T010000
END:STANDARD
BEGIN:DAYLIGHT
TZOFFSETFROM:+0000
TZOFFSETTO:+0100
TZNAME:BST
DTSTART:20250330T010000
END:DAYLIGHT
BEGIN:STANDARD
TZOFFSETFROM:+0100
TZOFFSETTO:+0000
TZNAME:GMT
DTSTART:20251026T010000
END:STANDARD
END:VTIMEZONE
BEGIN:VEVENT
DTSTART;TZID=Europe/London:20241110T190000
DTEND;TZID=Europe/London:20241110T220000
DTSTAMP:20260422T130854
CREATED:20240108T125908Z
LAST-MODIFIED:20250831T125309Z
UID:10006389-1731265200-1731276000@wimbledonvillage.com
SUMMARY:Pub Quiz @ the Fire Stables
DESCRIPTION:Put your thinking hat on because this is a game for real players. Call your smartest friends and put together a winning team to answer questions about general knowledge\, music\, geography\, everything and nothing. A £50 bar tab is up for grabs each week. \n  \nWhere & When: Fire Stables\, every Sunday from 7 – 10 pm.
URL:https://wimbledonvillage.com/event/pub-quiz-the-fire-stables/2024-11-10/
ATTACH;FMTTYPE=image/jpeg:https://wimbledonvillage.com/wp-content/uploads/2024/01/rsz_pexels-elevate-1269025.jpg
END:VEVENT
BEGIN:VEVENT
DTSTART;TZID=Europe/London:20241110T100000
DTEND;TZID=Europe/London:20241110T150000
DTSTAMP:20260422T130854
CREATED:20230819T162853Z
LAST-MODIFIED:20250831T125135Z
UID:10005697-1731232800-1731250800@wimbledonvillage.com
SUMMARY:Wimbledon Village Farmers' Market
DESCRIPTION:The Village Farmers’ Market serves up a range of fabulous farm fresh and local products along with a varied offering of ready to eat goodies every Sunday from 10am to 3pm on the Village High Street. Stalls rotate each week. \n  \nFollow The Wimbledon Village Farmers’ Market on Instagram or Facebook for more details.
URL:https://wimbledonvillage.com/event/wimbledon-village-farmers-market/2024-11-10/
ATTACH;FMTTYPE=image/jpeg:https://wimbledonvillage.com/wp-content/uploads/2023/08/Farmers-Market-vegetables.jpg
END:VEVENT
BEGIN:VEVENT
DTSTART;TZID=Europe/London:20241110T080000
DTEND;TZID=Europe/London:20241110T170000
DTSTAMP:20260422T130854
CREATED:20241109T164413Z
LAST-MODIFIED:20241109T164413Z
UID:10003541-1731225600-1731258000@wimbledonvillage.com
SUMMARY:Service of Remembrance
DESCRIPTION:Join us at 10.40am for this year’s Wimbledon Village Service of Remembrance. The service\, at the Village War Memorial\, will be attended by Deputy Mayor of Merton Councillor Brenda Fraser\, civic representatives and the Wimbledon branch of The Royal British Legion.
URL:https://wimbledonvillage.com/event/service-of-remembrance/
ATTACH;FMTTYPE=image/jpeg:https://wimbledonvillage.com/wp-content/uploads/2024/11/corina-ardeleanu-sWlxCweDzzs-uns.jpg
END:VEVENT
BEGIN:VEVENT
DTSTART;TZID=Europe/London:20241110T080000
DTEND;TZID=Europe/London:20241110T170000
DTSTAMP:20260422T130854
CREATED:20241021T104659Z
LAST-MODIFIED:20241021T104659Z
UID:10003506-1731225600-1731258000@wimbledonvillage.com
SUMMARY:Poppy-Making Craft Workshop
DESCRIPTION:This family-friendly session explores the history of Wimbledon during the Blitz and how the museum once housed families whose homes had been bombed.  Children of all ages can enjoy a fun poppy-making craft activity. \n  \nWhere & When: Wimbledon Museum\, Sunday 10th November from 1 – 5 pm. \n  \nBooking: Free\, walk-in event\, no booking required.
URL:https://wimbledonvillage.com/event/poppy-making-craft-workshop/
ATTACH;FMTTYPE=image/jpeg:https://wimbledonvillage.com/wp-content/uploads/2024/10/victoria-tronina-L0RqBLzQq2c-uns.jpg
END:VEVENT
BEGIN:VEVENT
DTSTART;TZID=Europe/London:20241110T080000
DTEND;TZID=Europe/London:20241110T170000
DTSTAMP:20260422T130854
CREATED:20241007T213138Z
LAST-MODIFIED:20241007T213138Z
UID:10003496-1731225600-1731258000@wimbledonvillage.com
SUMMARY:Loy Krathong Festival
DESCRIPTION:Buddhapadipa Temple celebrates the popular Thai Festival: Loy Krathong. \n  \nActivities include: \n\nFloating krattongs on the pond\nCultural performances on stage\nMerit making & blessing\nAuthentic Thai food all day\n\n  \nWhere & When: Buddhapadipa Temple\, 14 Calonne Road London SW19 5HJ on Sunday 10th November from 10 am – 5 pm. \n  \nBooking: Free entry\, no booking required. \n 
URL:https://wimbledonvillage.com/event/loy-krathong-festival/
ATTACH;FMTTYPE=image/jpeg:https://wimbledonvillage.com/wp-content/uploads/2024/05/327177492_673643004554979_776308-1.jpg
END:VEVENT
BEGIN:VEVENT
DTSTART;TZID=Europe/London:20241109T103000
DTEND;TZID=Europe/London:20241109T120000
DTSTAMP:20260422T130854
CREATED:20230819T155822Z
LAST-MODIFIED:20250831T132807Z
UID:10008201-1731148200-1731153600@wimbledonvillage.com
SUMMARY:Wimbledon Common and Village Walk & Talk
DESCRIPTION:A free and fun ‘walk and talk’ every Saturday morning around Wimbledon Common and Wimbledon Village. \n  \nWalk and talks are a chance for all generations to take a stroll\, chat\, meet friends and neighbours\, make new friends and enjoy their local area and green spaces together. From older adults to young children\, from buggies to beagles – everybody can join in. \n  \nNo booking\, no reservations\, just turn up and you will get a very warm welcome. \n  \nWhen & Where: 10.30am at the Wimbledon War Memorial on The Green\, at the corner of Parkside and The Causeway.
URL:https://wimbledonvillage.com/event/weekly-walk-talk/2024-11-09/
ATTACH;FMTTYPE=image/jpeg:https://wimbledonvillage.com/wp-content/uploads/2023/08/Walk-Talk-Wimbledon-Common-walkers-on-a-sunny-day.jpg
END:VEVENT
BEGIN:VEVENT
DTSTART;TZID=Europe/London:20241109T090000
DTEND;TZID=Europe/London:20241109T100000
DTSTAMP:20260422T130854
CREATED:20230819T151954Z
LAST-MODIFIED:20250831T130729Z
UID:10007508-1731142800-1731146400@wimbledonvillage.com
SUMMARY:Wimbledon Common Parkrun
DESCRIPTION:A free\, fun\, and friendly weekly 5k community event. Participants can choose to walk\, jog\, run\, volunteer or just spectate. \n  \nThe run starts from near the Windmill car park every Saturday at 9am. \n  \nJoin other runners and supporters for a post run coffee at the Windmill Cafe.
URL:https://wimbledonvillage.com/event/wimbledon-common-park-run/2024-11-09/
ATTACH;FMTTYPE=image/jpeg:https://wimbledonvillage.com/wp-content/uploads/2023/08/Wimbledon-Common-Parkrun-runners-enjoying-the-course.jpg
END:VEVENT
BEGIN:VEVENT
DTSTART;TZID=Europe/London:20241109T080000
DTEND;TZID=Europe/London:20241109T170000
DTSTAMP:20260422T130854
CREATED:20241103T162624Z
LAST-MODIFIED:20241103T173941Z
UID:10003522-1731139200-1731171600@wimbledonvillage.com
SUMMARY:Meet the Producer @ Friarwood: Luca Fraccaroli
DESCRIPTION:Friarwood Wines & Sprits invites you to meet Luca Fraccaroli from Domenico Fraccaroli. Taste Valpolicella\, Ripasso and Amarone wines. \n  \nWhere & When: Friarwood Wines & Spirits\, from 11.30 am – 5.30 pm on Saturday 9th November. \n  \nBooking: Not required. Walk-in event.
URL:https://wimbledonvillage.com/event/meet-the-producer-friarwood-luca-fraccaroli/
ATTACH;FMTTYPE=image/jpeg:https://wimbledonvillage.com/wp-content/uploads/2024/11/IMG_0197.jpg
END:VEVENT
BEGIN:VEVENT
DTSTART;TZID=Europe/London:20241109T080000
DTEND;TZID=Europe/London:20241109T170000
DTSTAMP:20260422T130854
CREATED:20241006T182626Z
LAST-MODIFIED:20241006T182627Z
UID:10002119-1731139200-1731171600@wimbledonvillage.com
SUMMARY:Guided Tree Walk @ Cannizaro Park
DESCRIPTION:Enjoy an informative walking tour of Cannizaro Park’s trees with arboriculturist Greg Packman. \n  \nFor millennia trees have been amongst the most sacred and important parts of life. From sources of food\, timber\, shelter and worship; trees have shaped human existence\, evolution and society. This walk explores the relationship between trees and humans\, the importance that trees have played in society and the beliefs surrounding them. \n  \nWhere & When: Cannizaro Park\, 11 am – 1 pm. \n  \nTickets: £15 plus booking fee.
URL:https://wimbledonvillage.com/event/guided-tree-walk-cannizaro-park-2-2/
ATTACH;FMTTYPE=image/jpeg:https://wimbledonvillage.com/wp-content/uploads/2023/08/Cannizaro-Autumn-23-Tree-Walk-image.jpg
END:VEVENT
BEGIN:VEVENT
DTSTART;TZID=Europe/London:20241109T080000
DTEND;TZID=Europe/London:20241109T170000
DTSTAMP:20260422T130854
CREATED:20240414T092931Z
LAST-MODIFIED:20250831T134400Z
UID:10002439-1731139200-1731171600@wimbledonvillage.com
SUMMARY:Wimbledon Village Stables Open Day
DESCRIPTION:On the second Saturday of every month\, the Stables invites visitors to explore the yard\, meet the horses\, and see how everything runs behind the scenes. \n  \nIt’s a great opportunity to learn about membership options\, and see the Equicise horse simulator\, designed for all ages and abilities. Plus children will love meeting Mr Fudge\, the friendly Shetland pony!  \n  \nWhere & When: Wimbledon Village Stables\, 24 A/B\, High St\, Wimbledon Village\, London SW19 5DX\, second Saturday of every month\, from 2 – 3 pm. \n  \nBooking: No booking required—just turn up and enjoy a relaxed\, informative afternoon.
URL:https://wimbledonvillage.com/event/wimbledon-village-stables-open-afternoons/2024-11-09/
ATTACH;FMTTYPE=image/jpeg:https://wimbledonvillage.com/wp-content/uploads/2025/03/IMG_7836.jpg
END:VEVENT
BEGIN:VEVENT
DTSTART;TZID=Europe/London:20241108T080000
DTEND;TZID=Europe/London:20241108T170000
DTSTAMP:20260422T130854
CREATED:20241106T120157Z
LAST-MODIFIED:20241106T120157Z
UID:10003537-1731052800-1731085200@wimbledonvillage.com
SUMMARY:Macmillan Christmas Shopping Fair
DESCRIPTION:Avoid the last minute Xmas rush! Stock up early on your Christmas gifts and cards and support Macmillan Merton in the process. With a wonderful range of hand-picked stalls there’s gifts for everyone. \n  \nWhen & Where: Friday 8th November at The Coach House at the Dog & Fox\, 24 High Street\, Wimbledon Village from 10 am – 4.30 pm.
URL:https://wimbledonvillage.com/event/macmillan-christmas-shopping-fair-2/
ATTACH;FMTTYPE=image/jpeg:https://wimbledonvillage.com/wp-content/uploads/2023/09/Macmillan-Christmas-Fair-selection-of-wrapped-presents.jpg
END:VEVENT
BEGIN:VEVENT
DTSTART;TZID=Europe/London:20241108T080000
DTEND;TZID=Europe/London:20241108T170000
DTSTAMP:20260422T130854
CREATED:20241103T235345Z
LAST-MODIFIED:20241103T235554Z
UID:10003531-1731052800-1731085200@wimbledonvillage.com
SUMMARY:Wine Tasting @ Jeroboams: A Taste of the Rhone
DESCRIPTION:Taste the diverse and Autumnal flavours of the Côtes-du-Rhône at this intimate and informative wine-tasting event. \n  \nThe tasting will showcase a flight of at least 5 fantastic wines. Sample some of the region’s iconic wines that include Hermitage\, Châteauneuf-du-Pape and Condrieu. From aromatic Viognier to spice-laden Syrah and voluptuous Grenache\, there is something for everyone to enjoy. \n  \nWhere & When: Jeroboams Wimbledon Village\, on Friday November 8th from 6 – 7 pm. \n  \nTickets: £25.
URL:https://wimbledonvillage.com/event/wine-tasting-jeroboams-a-taste-of-the-rhone/
ATTACH;FMTTYPE=image/jpeg:https://wimbledonvillage.com/wp-content/uploads/2024/11/https-cdn.evbuc_.com-images-871.jpg
END:VEVENT
BEGIN:VEVENT
DTSTART;TZID=Europe/London:20241106T190000
DTEND;TZID=Europe/London:20241106T220000
DTSTAMP:20260422T130854
CREATED:20240428T113530Z
LAST-MODIFIED:20250831T125653Z
UID:10006741-1730919600-1730930400@wimbledonvillage.com
SUMMARY:Pub Quiz @ The Dog & Fox
DESCRIPTION:Grab your team\, get your brain in gear and get quizzical at the Dog & Fox. \n  \nWhere & When: The Dog & Fox\, 24 High Street\, Wimbledon Village\, London SW19 5EA\, every Wednesday night\, 7 – 10 pm.
URL:https://wimbledonvillage.com/event/pub-quiz-the-dog-fox/2024-11-06/
ATTACH;FMTTYPE=image/png:https://wimbledonvillage.com/wp-content/uploads/2024/04/Dog-Fox-pub-quiz-image.png
END:VEVENT
BEGIN:VEVENT
DTSTART;TZID=Europe/London:20241106T080000
DTEND;TZID=Europe/London:20241106T170000
DTSTAMP:20260422T130854
CREATED:20241002T184258Z
LAST-MODIFIED:20241002T184335Z
UID:10003486-1730880000-1730912400@wimbledonvillage.com
SUMMARY:Cooking Demonstration: Exploring Truffles
DESCRIPTION:Part of a series of fun and social lunchtime cooking demos at Vallebona’s Vineria wine bar. Held every Wednesday during school term time. \n  \n  \nWhen & Where: Wednesday 6th November. 12-30 – 2.30 pm at Vineria. \n  \n  \nTickets: £20 pp. Ticket includes welcome drink\, light lunch\, samples for tasting\, recipes and top tips.
URL:https://wimbledonvillage.com/event/cooking-demonstration-exploring-truffles/
ATTACH;FMTTYPE=image/jpeg:https://wimbledonvillage.com/wp-content/uploads/2024/10/CAPUNTI_FUGHI_TRUFFLE__20619.jpg
END:VEVENT
BEGIN:VEVENT
DTSTART;TZID=Europe/London:20241106T080000
DTEND;TZID=Europe/London:20241106T170000
DTSTAMP:20260422T130854
CREATED:20240109T132714Z
LAST-MODIFIED:20240308T081653Z
UID:10002025-1730880000-1730912400@wimbledonvillage.com
SUMMARY:Conservators General Open Meeting
DESCRIPTION:An opportunity for Friends and members of the public to meet the Wimbledon & Putney Commons Conservators and hear about achievements in 2024 and plans for the Commons in the year ahead. \n  \nFor details of venue/time please click on the button below to visit the WPCC website.
URL:https://wimbledonvillage.com/event/common-conservators-general-open-meeting/
ATTACH;FMTTYPE=image/jpeg:https://wimbledonvillage.com/wp-content/uploads/2024/01/IMG_1394.jpg
END:VEVENT
BEGIN:VEVENT
DTSTART;TZID=Europe/London:20241105T193000
DTEND;TZID=Europe/London:20241105T224500
DTSTAMP:20260422T130854
CREATED:20240222T093828Z
LAST-MODIFIED:20250831T125428Z
UID:10002164-1730835000-1730846700@wimbledonvillage.com
SUMMARY:Pub Quiz @ The Rose & Crown
DESCRIPTION:Grab your cleverest pals & put your knowledge to the test with fantastic quiz master Duncan at the weekly Rose & Crown pub quiz. \n  \nWhere & When: The Rose & Crown\, 55 High Street\, Wimbledon Village\, London SW19 5BA\, every Tuesday from 7.30 – 10.45 pm (except during the Wimbledon tennis fortnight).
URL:https://wimbledonvillage.com/event/rose-crown-pub-quiz/2024-11-05/
ATTACH;FMTTYPE=image/jpeg:https://wimbledonvillage.com/wp-content/uploads/2023/08/Rose-Crown-pub-quiz-image.jpg
END:VEVENT
BEGIN:VEVENT
DTSTART;TZID=Europe/London:20241105T080000
DTEND;TZID=Europe/London:20241105T170000
DTSTAMP:20260422T130854
CREATED:20240815T162326Z
LAST-MODIFIED:20240815T163135Z
UID:10003342-1730793600-1730826000@wimbledonvillage.com
SUMMARY:Prams & Pinot: Wine Tasting @ Friarwood
DESCRIPTION:A regular Monday afternoon wine tasting event that welcomes all parents & prams. \n  \nEnjoy and learn about 4 wines\, accompanied by light nibbles in a relaxed and informal environment. \n  \nSpitoons are provided\, plus there’s plenty of pram space and even a changing table. \n  \nEnjoy 10% discount on any wines tasted when purchased on the day. \n  \nWhere & When: Friarwood Wines from 1.30 pm – 3 pm\, but it is recommended attendees arrive by 1.20 pm. \n  \n 
URL:https://wimbledonvillage.com/event/prams-pinot-wine-tasting-friarwood/2024-11-05/
ATTACH;FMTTYPE=image/png:https://wimbledonvillage.com/wp-content/uploads/2024/08/Mumdays-Wine-Tastings_2022.png
END:VEVENT
BEGIN:VEVENT
DTSTART;TZID=Europe/London:20241104T080000
DTEND;TZID=Europe/London:20241104T170000
DTSTAMP:20260422T130854
CREATED:20240815T162326Z
LAST-MODIFIED:20240815T163135Z
UID:10003341-1730707200-1730739600@wimbledonvillage.com
SUMMARY:Prams & Pinot: Wine Tasting @ Friarwood
DESCRIPTION:A regular Monday afternoon wine tasting event that welcomes all parents & prams. \n  \nEnjoy and learn about 4 wines\, accompanied by light nibbles in a relaxed and informal environment. \n  \nSpitoons are provided\, plus there’s plenty of pram space and even a changing table. \n  \nEnjoy 10% discount on any wines tasted when purchased on the day. \n  \nWhere & When: Friarwood Wines from 1.30 pm – 3 pm\, but it is recommended attendees arrive by 1.20 pm. \n  \n 
URL:https://wimbledonvillage.com/event/prams-pinot-wine-tasting-friarwood/2024-11-04/
ATTACH;FMTTYPE=image/png:https://wimbledonvillage.com/wp-content/uploads/2024/08/Mumdays-Wine-Tastings_2022.png
END:VEVENT
BEGIN:VEVENT
DTSTART;TZID=Europe/London:20241103T190000
DTEND;TZID=Europe/London:20241103T220000
DTSTAMP:20260422T130854
CREATED:20240108T125908Z
LAST-MODIFIED:20250831T125309Z
UID:10006388-1730660400-1730671200@wimbledonvillage.com
SUMMARY:Pub Quiz @ the Fire Stables
DESCRIPTION:Put your thinking hat on because this is a game for real players. Call your smartest friends and put together a winning team to answer questions about general knowledge\, music\, geography\, everything and nothing. A £50 bar tab is up for grabs each week. \n  \nWhere & When: Fire Stables\, every Sunday from 7 – 10 pm.
URL:https://wimbledonvillage.com/event/pub-quiz-the-fire-stables/2024-11-03/
ATTACH;FMTTYPE=image/jpeg:https://wimbledonvillage.com/wp-content/uploads/2024/01/rsz_pexels-elevate-1269025.jpg
END:VEVENT
BEGIN:VEVENT
DTSTART;TZID=Europe/London:20241103T100000
DTEND;TZID=Europe/London:20241103T150000
DTSTAMP:20260422T130854
CREATED:20230819T162853Z
LAST-MODIFIED:20250831T125135Z
UID:10005696-1730628000-1730646000@wimbledonvillage.com
SUMMARY:Wimbledon Village Farmers' Market
DESCRIPTION:The Village Farmers’ Market serves up a range of fabulous farm fresh and local products along with a varied offering of ready to eat goodies every Sunday from 10am to 3pm on the Village High Street. Stalls rotate each week. \n  \nFollow The Wimbledon Village Farmers’ Market on Instagram or Facebook for more details.
URL:https://wimbledonvillage.com/event/wimbledon-village-farmers-market/2024-11-03/
ATTACH;FMTTYPE=image/jpeg:https://wimbledonvillage.com/wp-content/uploads/2023/08/Farmers-Market-vegetables.jpg
END:VEVENT
BEGIN:VEVENT
DTSTART;TZID=Europe/London:20241103T100000
DTEND;TZID=Europe/London:20241103T120000
DTSTAMP:20260422T130854
CREATED:20241013T092756Z
LAST-MODIFIED:20241013T093556Z
UID:10003498-1730628000-1730635200@wimbledonvillage.com
SUMMARY:Fungi Foray @ Wimbledon Common Nature Club
DESCRIPTION:The Wimbledon Common Nature Club meets on the first Sunday of each month between 10am and 12 noon to do hands on activities with nature\, from making bird feeders to examining life under a microscope. Events are suitable for 6 – 14 year olds. Parents are welcome to come along too. \n  \nIn the November event\, Dr June Chatfield of the South London Botanical Institute joins the team for a foray into fungi.\n \n  \nMeeting point: Information Centre\, Windmill Road\, Wimbledon Common \n  \nTime: 10 am – 12 pm \n  \nCost: Free\, although the Club welcomes donations towards equipment and invited guests.
URL:https://wimbledonvillage.com/event/fungi-foray-wimbledon-common-nature-club/
ATTACH;FMTTYPE=image/jpeg:https://wimbledonvillage.com/wp-content/uploads/2023/09/Foray-into-fungi-image-fungi-on-tree.jpg
END:VEVENT
BEGIN:VEVENT
DTSTART;TZID=Europe/London:20241102T103000
DTEND;TZID=Europe/London:20241102T120000
DTSTAMP:20260422T130854
CREATED:20230819T155822Z
LAST-MODIFIED:20250831T132807Z
UID:10008200-1730543400-1730548800@wimbledonvillage.com
SUMMARY:Wimbledon Common and Village Walk & Talk
DESCRIPTION:A free and fun ‘walk and talk’ every Saturday morning around Wimbledon Common and Wimbledon Village. \n  \nWalk and talks are a chance for all generations to take a stroll\, chat\, meet friends and neighbours\, make new friends and enjoy their local area and green spaces together. From older adults to young children\, from buggies to beagles – everybody can join in. \n  \nNo booking\, no reservations\, just turn up and you will get a very warm welcome. \n  \nWhen & Where: 10.30am at the Wimbledon War Memorial on The Green\, at the corner of Parkside and The Causeway.
URL:https://wimbledonvillage.com/event/weekly-walk-talk/2024-11-02/
ATTACH;FMTTYPE=image/jpeg:https://wimbledonvillage.com/wp-content/uploads/2023/08/Walk-Talk-Wimbledon-Common-walkers-on-a-sunny-day.jpg
END:VEVENT
BEGIN:VEVENT
DTSTART;TZID=Europe/London:20241102T090000
DTEND;TZID=Europe/London:20241102T100000
DTSTAMP:20260422T130854
CREATED:20230819T151954Z
LAST-MODIFIED:20250831T130729Z
UID:10007507-1730538000-1730541600@wimbledonvillage.com
SUMMARY:Wimbledon Common Parkrun
DESCRIPTION:A free\, fun\, and friendly weekly 5k community event. Participants can choose to walk\, jog\, run\, volunteer or just spectate. \n  \nThe run starts from near the Windmill car park every Saturday at 9am. \n  \nJoin other runners and supporters for a post run coffee at the Windmill Cafe.
URL:https://wimbledonvillage.com/event/wimbledon-common-park-run/2024-11-02/
ATTACH;FMTTYPE=image/jpeg:https://wimbledonvillage.com/wp-content/uploads/2023/08/Wimbledon-Common-Parkrun-runners-enjoying-the-course.jpg
END:VEVENT
BEGIN:VEVENT
DTSTART;TZID=Europe/London:20241102T080000
DTEND;TZID=Europe/London:20241124T170000
DTSTAMP:20260422T130854
CREATED:20241003T202525Z
LAST-MODIFIED:20241003T202626Z
UID:10003492-1730534400-1732467600@wimbledonvillage.com
SUMMARY:Wimbledon International Music Festival 2024
DESCRIPTION:A three week music extravaganza featuring a host of fabulous concerts performed by an array of hugely distinguished artists. \n  \nWhere & When: Various venues including local churches\, St John’s and Sacred Heart. The festival runs from Saturday 2nd to Sunday 24th November and features both lunchtime and evening performances. For a full programme of events see the WiFM website. \n  \nTickets & Booking: For ticket prices and booking details please click the button below.
URL:https://wimbledonvillage.com/event/wimbledon-international-music-festival-2024/
ATTACH;FMTTYPE=image/jpeg:https://wimbledonvillage.com/wp-content/uploads/2024/10/10-RegentsOpera-DonGiovanni-e171.jpg
END:VEVENT
BEGIN:VEVENT
DTSTART;TZID=Europe/London:20241102T080000
DTEND;TZID=Europe/London:20241102T170000
DTSTAMP:20260422T130854
CREATED:20240923T105645Z
LAST-MODIFIED:20240923T105856Z
UID:10003474-1730534400-1730566800@wimbledonvillage.com
SUMMARY:Jazz @ Southside House
DESCRIPTION:An exciting evening of jazz and folk fusion with gifted multi-instrumentalist and composer Catriona Bourne and her brilliant jazz quartet. With Francis Tulip on the guitar\, Asaph Tal on the bass and Joe Brainbridge on the drums\, Catriona will be playing a selection of favourite jazz standards together with original compositions from her just released album Triquetra. \n  \nWhere & When: Southside House\, 3-4 Woodhayes Road\, SW19 4TT\, on Saturday 2nd November\, 8 – 9.45 pm \n  \nTickets: General Admission – £28\, Seniors & Students – £21. Booking fee applies.
URL:https://wimbledonvillage.com/event/jazz-southside-house/
ATTACH;FMTTYPE=image/jpeg:https://wimbledonvillage.com/wp-content/uploads/2024/09/unnamed-6-4.jpg
END:VEVENT
BEGIN:VEVENT
DTSTART;TZID=Europe/London:20241102T080000
DTEND;TZID=Europe/London:20241102T170000
DTSTAMP:20260422T130854
CREATED:20240917T132126Z
LAST-MODIFIED:20241006T182236Z
UID:10003472-1730534400-1730566800@wimbledonvillage.com
SUMMARY:Forest Bathing @ Cannizaro Park
DESCRIPTION:Enjoy a guided slow sensory walk and immerse yourself in the wooded world of Cannizaro Park. \n  \nJoin Susanne Meis\, an experienced Forest Bathing Guide and Nature Wellbeing Educator to calm your mind\, energise your body and connect deeply with nature. \n  \nWhere & When? : Cannizaro Park from 10.30 am – 12.30 pm
URL:https://wimbledonvillage.com/event/forest-bathing-cannizaro-park-2/
ATTACH;FMTTYPE=image/jpeg:https://wimbledonvillage.com/wp-content/uploads/2023/08/Forest-Bathing-Walk-@-Cannizaro-Park.jpg
END:VEVENT
BEGIN:VEVENT
DTSTART;TZID=Europe/London:20241101T080000
DTEND;TZID=Europe/London:20241101T170000
DTSTAMP:20260422T130854
CREATED:20241024T151925Z
LAST-MODIFIED:20241024T151925Z
UID:10003510-1730448000-1730480400@wimbledonvillage.com
SUMMARY:Dog & Fox Sustainable Supper Club: Game Night
DESCRIPTION:The Dog & Fox invites you to join them for the second of their sustainable supper club series\, which brings you all things game. \n  \nEnjoy all the autumnal flavours of this delicious tasting menu using the best of British ingredients\, along with delicious drink pairings. \n  \nWhere & When: The Library private dining space\, Dog & Fox on Friday November 1st from 7 – 10 pm. \n  \nTickets: £80 pp
URL:https://wimbledonvillage.com/event/dog-fox-sustainable-supper-club-game-night/
ATTACH;FMTTYPE=image/png:https://wimbledonvillage.com/wp-content/uploads/2024/10/game-optimised.png
END:VEVENT
BEGIN:VEVENT
DTSTART;TZID=Europe/London:20241101T080000
DTEND;TZID=Europe/London:20241101T170000
DTSTAMP:20260422T130854
CREATED:20240923T143530Z
LAST-MODIFIED:20241007T200036Z
UID:10003478-1730448000-1730480400@wimbledonvillage.com
SUMMARY:Storytelling Evening @ Southside House: Ghost Stories by Candlelight
DESCRIPTION:Extend your Halloween fun with this special ‘Ghost Stories by Candlelight’ storytelling event in the atmospheric Southside House. \n  \nWhere & When: Southside House\, 3-4 Woodhayes Road on Friday 1st November at 6pm. \n  \nTickets: Flexible pricing to encourage participation\, minimum price: £12 pp.
URL:https://wimbledonvillage.com/event/storytelling-evening-southside-house-ghost-stories-by-candlelight/
ATTACH;FMTTYPE=image/jpeg:https://wimbledonvillage.com/wp-content/uploads/2024/09/carlos-felipe-ramirez-mesa-Sohy_.jpg
END:VEVENT
BEGIN:VEVENT
DTSTART;TZID=Europe/London:20241031T080000
DTEND;TZID=Europe/London:20241031T170000
DTSTAMP:20260422T130854
CREATED:20241020T102143Z
LAST-MODIFIED:20241020T102432Z
UID:10003502-1730361600-1730394000@wimbledonvillage.com
SUMMARY:Carribean Showcase @ Swords Travel
DESCRIPTION:Enjoy an evening of rum punch and Carribean travel inspiration with Swords Travel and their partners from St Lucia\, St Barts and yacht style Caribbean Cruising. During the event you’ll get the chance to speak to a team of experts about your future travel plans and learn about some of the best places these wonderful destinations have to offer. \n  \nWhen & Where: Thursday 31st October 2024\, 6:30 – 8 pm at Swords Travel\, 38A High Street\, Wimbledon Village\, SW19 5BY
URL:https://wimbledonvillage.com/event/carribean-showcase-swords-travel/
ATTACH;FMTTYPE=image/jpeg:https://wimbledonvillage.com/wp-content/uploads/2024/10/Caribbean.jpg
END:VEVENT
BEGIN:VEVENT
DTSTART;TZID=Europe/London:20241030T190000
DTEND;TZID=Europe/London:20241030T220000
DTSTAMP:20260422T130854
CREATED:20240428T113530Z
LAST-MODIFIED:20250831T125653Z
UID:10006740-1730314800-1730325600@wimbledonvillage.com
SUMMARY:Pub Quiz @ The Dog & Fox
DESCRIPTION:Grab your team\, get your brain in gear and get quizzical at the Dog & Fox. \n  \nWhere & When: The Dog & Fox\, 24 High Street\, Wimbledon Village\, London SW19 5EA\, every Wednesday night\, 7 – 10 pm.
URL:https://wimbledonvillage.com/event/pub-quiz-the-dog-fox/2024-10-30/
ATTACH;FMTTYPE=image/png:https://wimbledonvillage.com/wp-content/uploads/2024/04/Dog-Fox-pub-quiz-image.png
END:VEVENT
END:VCALENDAR