BEGIN:VCALENDAR
VERSION:2.0
PRODID:-//Wimbledon Village - ECPv6.15.20//NONSGML v1.0//EN
CALSCALE:GREGORIAN
METHOD:PUBLISH
X-ORIGINAL-URL:https://wimbledonvillage.com
X-WR-CALDESC:Events for Wimbledon Village
REFRESH-INTERVAL;VALUE=DURATION:PT1H
X-Robots-Tag:noindex
X-PUBLISHED-TTL:PT1H
BEGIN:VTIMEZONE
TZID:Europe/London
BEGIN:DAYLIGHT
TZOFFSETFROM:+0000
TZOFFSETTO:+0100
TZNAME:BST
DTSTART:20250330T010000
END:DAYLIGHT
BEGIN:STANDARD
TZOFFSETFROM:+0100
TZOFFSETTO:+0000
TZNAME:GMT
DTSTART:20251026T010000
END:STANDARD
BEGIN:DAYLIGHT
TZOFFSETFROM:+0000
TZOFFSETTO:+0100
TZNAME:BST
DTSTART:20260329T010000
END:DAYLIGHT
BEGIN:STANDARD
TZOFFSETFROM:+0100
TZOFFSETTO:+0000
TZNAME:GMT
DTSTART:20261025T010000
END:STANDARD
BEGIN:DAYLIGHT
TZOFFSETFROM:+0000
TZOFFSETTO:+0100
TZNAME:BST
DTSTART:20270328T010000
END:DAYLIGHT
BEGIN:STANDARD
TZOFFSETFROM:+0100
TZOFFSETTO:+0000
TZNAME:GMT
DTSTART:20271031T010000
END:STANDARD
END:VTIMEZONE
BEGIN:VEVENT
DTSTART;TZID=Europe/London:20260808T090000
DTEND;TZID=Europe/London:20260808T100000
DTSTAMP:20260420T090954
CREATED:20230819T151954Z
LAST-MODIFIED:20250831T130729Z
UID:10007599-1786179600-1786183200@wimbledonvillage.com
SUMMARY:Wimbledon Common Parkrun
DESCRIPTION:A free\, fun\, and friendly weekly 5k community event. Participants can choose to walk\, jog\, run\, volunteer or just spectate. \n  \nThe run starts from near the Windmill car park every Saturday at 9am. \n  \nJoin other runners and supporters for a post run coffee at the Windmill Cafe.
URL:https://wimbledonvillage.com/event/wimbledon-common-park-run/2026-08-08/
ATTACH;FMTTYPE=image/jpeg:https://wimbledonvillage.com/wp-content/uploads/2023/08/Wimbledon-Common-Parkrun-runners-enjoying-the-course.jpg
END:VEVENT
BEGIN:VEVENT
DTSTART;TZID=Europe/London:20260808T103000
DTEND;TZID=Europe/London:20260808T120000
DTSTAMP:20260420T090954
CREATED:20230819T155822Z
LAST-MODIFIED:20250831T132807Z
UID:10008291-1786185000-1786190400@wimbledonvillage.com
SUMMARY:Wimbledon Common and Village Walk & Talk
DESCRIPTION:A free and fun ‘walk and talk’ every Saturday morning around Wimbledon Common and Wimbledon Village. \n  \nWalk and talks are a chance for all generations to take a stroll\, chat\, meet friends and neighbours\, make new friends and enjoy their local area and green spaces together. From older adults to young children\, from buggies to beagles – everybody can join in. \n  \nNo booking\, no reservations\, just turn up and you will get a very warm welcome. \n  \nWhen & Where: 10.30am at the Wimbledon War Memorial on The Green\, at the corner of Parkside and The Causeway.
URL:https://wimbledonvillage.com/event/weekly-walk-talk/2026-08-08/
ATTACH;FMTTYPE=image/jpeg:https://wimbledonvillage.com/wp-content/uploads/2023/08/Walk-Talk-Wimbledon-Common-walkers-on-a-sunny-day.jpg
END:VEVENT
BEGIN:VEVENT
DTSTART;TZID=Europe/London:20260808T140000
DTEND;TZID=Europe/London:20260808T150000
DTSTAMP:20260420T090954
CREATED:20260104T133826Z
LAST-MODIFIED:20260104T133826Z
UID:10008789-1786197600-1786201200@wimbledonvillage.com
SUMMARY:Wimbledon Village Stables Open Day
DESCRIPTION:On the second Saturday of every month\, the Village Stables invites visitors to explore the yard\, meet the horses\, and see how everything runs behind the scenes. \n  \nIt’s a great opportunity to learn about membership options\, and see the Equicise horse simulator\, designed for all ages and abilities. Plus children will love meeting Mr Fudge\, the friendly Shetland pony! \n  \nWhere & When: Wimbledon Village Stables on the second Saturday of every month\, from 2 – 3 pm. \n  \nBooking: No booking required – just turn up and enjoy a relaxed\, informative afternoon.
URL:https://wimbledonvillage.com/event/wimbledon-village-stables-open-day/2026-08-08/
ATTACH;FMTTYPE=image/jpeg:https://wimbledonvillage.com/wp-content/uploads/2025/03/IMG_7836.jpg
END:VEVENT
BEGIN:VEVENT
DTSTART;TZID=Europe/London:20260809T100000
DTEND;TZID=Europe/London:20260809T150000
DTSTAMP:20260420T090954
CREATED:20230819T162853Z
LAST-MODIFIED:20250831T125135Z
UID:10005788-1786269600-1786287600@wimbledonvillage.com
SUMMARY:Wimbledon Village Farmers' Market
DESCRIPTION:The Village Farmers’ Market serves up a range of fabulous farm fresh and local products along with a varied offering of ready to eat goodies every Sunday from 10am to 3pm on the Village High Street. Stalls rotate each week. \n  \nFollow The Wimbledon Village Farmers’ Market on Instagram or Facebook for more details.
URL:https://wimbledonvillage.com/event/wimbledon-village-farmers-market/2026-08-09/
ATTACH;FMTTYPE=image/jpeg:https://wimbledonvillage.com/wp-content/uploads/2023/08/Farmers-Market-vegetables.jpg
END:VEVENT
BEGIN:VEVENT
DTSTART;TZID=Europe/London:20260809T190000
DTEND;TZID=Europe/London:20260809T220000
DTSTAMP:20260420T090954
CREATED:20240108T125908Z
LAST-MODIFIED:20250831T125309Z
UID:10006480-1786302000-1786312800@wimbledonvillage.com
SUMMARY:Pub Quiz @ the Fire Stables
DESCRIPTION:Put your thinking hat on because this is a game for real players. Call your smartest friends and put together a winning team to answer questions about general knowledge\, music\, geography\, everything and nothing. A £50 bar tab is up for grabs each week. \n  \nWhere & When: Fire Stables\, every Sunday from 7 – 10 pm.
URL:https://wimbledonvillage.com/event/pub-quiz-the-fire-stables/2026-08-09/
ATTACH;FMTTYPE=image/jpeg:https://wimbledonvillage.com/wp-content/uploads/2024/01/rsz_pexels-elevate-1269025.jpg
END:VEVENT
BEGIN:VEVENT
DTSTART;TZID=Europe/London:20260811T100000
DTEND;TZID=Europe/London:20260811T110000
DTSTAMP:20260420T090954
CREATED:20260104T114342Z
LAST-MODIFIED:20260104T114342Z
UID:10008676-1786442400-1786446000@wimbledonvillage.com
SUMMARY:Wimbledon Common Healthy Walks
DESCRIPTION:Take a little outdoor exercise and at the same time learn about the history and current management of the Commons at this regular programme of healthy walks on Wimbledon Common. \n  \nThese moderate walks take place every three weeks and last for approximately 1 hour. They are led by one of the Commons’ full-time staff or a regular volunteer. \n  \nWhere and When: Meeting/end point is outside the wooden garages near to the Rangers Office on Windmill Road. Time: 10am-11am. Booking is not required. \n  \nWalk dates for 2026: \n\n13 January\n3 February\n24 February\n17 March\n7 April\n28 April\n19 May\n9 June\n30 June\n21 July\n11 August\n1 September\n22 September\n13 October\n3 November\n24 November\n15 December
URL:https://wimbledonvillage.com/event/wimbledon-common-healthy-walks-3/2026-08-11/
ATTACH;FMTTYPE=image/jpeg:https://wimbledonvillage.com/wp-content/uploads/2025/02/img20230815105914035hdr_cropped_.jpg
END:VEVENT
BEGIN:VEVENT
DTSTART;TZID=Europe/London:20260811T193000
DTEND;TZID=Europe/London:20260811T224500
DTSTAMP:20260420T090954
CREATED:20250922T102723Z
LAST-MODIFIED:20260202T082017Z
UID:10002256-1786476600-1786488300@wimbledonvillage.com
SUMMARY:Pub Quiz @ The Rose & Crown
DESCRIPTION:Grab your cleverest pals & put your knowledge to the test with fantastic quiz master Duncan at the weekly Rose & Crown pub quiz. \n  \nWhere & When: The Rose & Crown\, 55 High Street\, Wimbledon Village\, London SW19 5BA\, every Tuesday from 7.30 – 10.45 pm (except during the Wimbledon tennis fortnight).
URL:https://wimbledonvillage.com/event/rose-crown-pub-quiz-3/2026-08-11/
ATTACH;FMTTYPE=image/jpeg:https://wimbledonvillage.com/wp-content/uploads/2023/08/Rose-Crown-pub-quiz-image.jpg
END:VEVENT
BEGIN:VEVENT
DTSTART;TZID=Europe/London:20260811T200000
DTEND;TZID=Europe/London:20260811T220000
DTSTAMP:20260420T090954
CREATED:20260301T153138Z
LAST-MODIFIED:20260301T153254Z
UID:10008930-1786478400-1786485600@wimbledonvillage.com
SUMMARY:Pub Quiz @ The Hand in Hand
DESCRIPTION:Get your brainiest mates together\, come up with the funniest team name and put your trivia knowledge to the test at the Hand in Hands’ weekly quiz for a chance to win one of the lovely prizes on offer. \n  \nQuizmaster John Spain will put you through your paces from general knowledge to music and sport. You’ve got to be in it\, to win it! \n  \nWhere & When: Hand in Hand\, every Tuesday from 8 -10 pm.
URL:https://wimbledonvillage.com/event/pub-quiz-the-hand-in-hand/2026-08-11/
ATTACH;FMTTYPE=image/jpeg:https://wimbledonvillage.com/wp-content/uploads/2024/04/Screenshot-2026-03-01-at-15.29.0.jpg
END:VEVENT
BEGIN:VEVENT
DTSTART;TZID=Europe/London:20260812T190000
DTEND;TZID=Europe/London:20260812T220000
DTSTAMP:20260420T090954
CREATED:20240428T113530Z
LAST-MODIFIED:20250831T125653Z
UID:10006831-1786561200-1786572000@wimbledonvillage.com
SUMMARY:Pub Quiz @ The Dog & Fox
DESCRIPTION:Grab your team\, get your brain in gear and get quizzical at the Dog & Fox. \n  \nWhere & When: The Dog & Fox\, 24 High Street\, Wimbledon Village\, London SW19 5EA\, every Wednesday night\, 7 – 10 pm.
URL:https://wimbledonvillage.com/event/pub-quiz-the-dog-fox/2026-08-12/
ATTACH;FMTTYPE=image/png:https://wimbledonvillage.com/wp-content/uploads/2024/04/Dog-Fox-pub-quiz-image.png
END:VEVENT
BEGIN:VEVENT
DTSTART;TZID=Europe/London:20260815T090000
DTEND;TZID=Europe/London:20260815T100000
DTSTAMP:20260420T090954
CREATED:20230819T151954Z
LAST-MODIFIED:20250831T130729Z
UID:10007600-1786784400-1786788000@wimbledonvillage.com
SUMMARY:Wimbledon Common Parkrun
DESCRIPTION:A free\, fun\, and friendly weekly 5k community event. Participants can choose to walk\, jog\, run\, volunteer or just spectate. \n  \nThe run starts from near the Windmill car park every Saturday at 9am. \n  \nJoin other runners and supporters for a post run coffee at the Windmill Cafe.
URL:https://wimbledonvillage.com/event/wimbledon-common-park-run/2026-08-15/
ATTACH;FMTTYPE=image/jpeg:https://wimbledonvillage.com/wp-content/uploads/2023/08/Wimbledon-Common-Parkrun-runners-enjoying-the-course.jpg
END:VEVENT
BEGIN:VEVENT
DTSTART;TZID=Europe/London:20260815T103000
DTEND;TZID=Europe/London:20260815T120000
DTSTAMP:20260420T090954
CREATED:20230819T155822Z
LAST-MODIFIED:20250831T132807Z
UID:10008292-1786789800-1786795200@wimbledonvillage.com
SUMMARY:Wimbledon Common and Village Walk & Talk
DESCRIPTION:A free and fun ‘walk and talk’ every Saturday morning around Wimbledon Common and Wimbledon Village. \n  \nWalk and talks are a chance for all generations to take a stroll\, chat\, meet friends and neighbours\, make new friends and enjoy their local area and green spaces together. From older adults to young children\, from buggies to beagles – everybody can join in. \n  \nNo booking\, no reservations\, just turn up and you will get a very warm welcome. \n  \nWhen & Where: 10.30am at the Wimbledon War Memorial on The Green\, at the corner of Parkside and The Causeway.
URL:https://wimbledonvillage.com/event/weekly-walk-talk/2026-08-15/
ATTACH;FMTTYPE=image/jpeg:https://wimbledonvillage.com/wp-content/uploads/2023/08/Walk-Talk-Wimbledon-Common-walkers-on-a-sunny-day.jpg
END:VEVENT
BEGIN:VEVENT
DTSTART;TZID=Europe/London:20260816T100000
DTEND;TZID=Europe/London:20260816T150000
DTSTAMP:20260420T090954
CREATED:20230819T162853Z
LAST-MODIFIED:20250831T125135Z
UID:10005789-1786874400-1786892400@wimbledonvillage.com
SUMMARY:Wimbledon Village Farmers' Market
DESCRIPTION:The Village Farmers’ Market serves up a range of fabulous farm fresh and local products along with a varied offering of ready to eat goodies every Sunday from 10am to 3pm on the Village High Street. Stalls rotate each week. \n  \nFollow The Wimbledon Village Farmers’ Market on Instagram or Facebook for more details.
URL:https://wimbledonvillage.com/event/wimbledon-village-farmers-market/2026-08-16/
ATTACH;FMTTYPE=image/jpeg:https://wimbledonvillage.com/wp-content/uploads/2023/08/Farmers-Market-vegetables.jpg
END:VEVENT
BEGIN:VEVENT
DTSTART;TZID=Europe/London:20260816T190000
DTEND;TZID=Europe/London:20260816T220000
DTSTAMP:20260420T090954
CREATED:20240108T125908Z
LAST-MODIFIED:20250831T125309Z
UID:10006481-1786906800-1786917600@wimbledonvillage.com
SUMMARY:Pub Quiz @ the Fire Stables
DESCRIPTION:Put your thinking hat on because this is a game for real players. Call your smartest friends and put together a winning team to answer questions about general knowledge\, music\, geography\, everything and nothing. A £50 bar tab is up for grabs each week. \n  \nWhere & When: Fire Stables\, every Sunday from 7 – 10 pm.
URL:https://wimbledonvillage.com/event/pub-quiz-the-fire-stables/2026-08-16/
ATTACH;FMTTYPE=image/jpeg:https://wimbledonvillage.com/wp-content/uploads/2024/01/rsz_pexels-elevate-1269025.jpg
END:VEVENT
BEGIN:VEVENT
DTSTART;TZID=Europe/London:20260818T193000
DTEND;TZID=Europe/London:20260818T224500
DTSTAMP:20260420T090954
CREATED:20250922T102723Z
LAST-MODIFIED:20260202T082017Z
UID:10002257-1787081400-1787093100@wimbledonvillage.com
SUMMARY:Pub Quiz @ The Rose & Crown
DESCRIPTION:Grab your cleverest pals & put your knowledge to the test with fantastic quiz master Duncan at the weekly Rose & Crown pub quiz. \n  \nWhere & When: The Rose & Crown\, 55 High Street\, Wimbledon Village\, London SW19 5BA\, every Tuesday from 7.30 – 10.45 pm (except during the Wimbledon tennis fortnight).
URL:https://wimbledonvillage.com/event/rose-crown-pub-quiz-3/2026-08-18/
ATTACH;FMTTYPE=image/jpeg:https://wimbledonvillage.com/wp-content/uploads/2023/08/Rose-Crown-pub-quiz-image.jpg
END:VEVENT
BEGIN:VEVENT
DTSTART;TZID=Europe/London:20260818T200000
DTEND;TZID=Europe/London:20260818T220000
DTSTAMP:20260420T090954
CREATED:20260301T153138Z
LAST-MODIFIED:20260301T153254Z
UID:10008931-1787083200-1787090400@wimbledonvillage.com
SUMMARY:Pub Quiz @ The Hand in Hand
DESCRIPTION:Get your brainiest mates together\, come up with the funniest team name and put your trivia knowledge to the test at the Hand in Hands’ weekly quiz for a chance to win one of the lovely prizes on offer. \n  \nQuizmaster John Spain will put you through your paces from general knowledge to music and sport. You’ve got to be in it\, to win it! \n  \nWhere & When: Hand in Hand\, every Tuesday from 8 -10 pm.
URL:https://wimbledonvillage.com/event/pub-quiz-the-hand-in-hand/2026-08-18/
ATTACH;FMTTYPE=image/jpeg:https://wimbledonvillage.com/wp-content/uploads/2024/04/Screenshot-2026-03-01-at-15.29.0.jpg
END:VEVENT
BEGIN:VEVENT
DTSTART;TZID=Europe/London:20260819T190000
DTEND;TZID=Europe/London:20260819T220000
DTSTAMP:20260420T090954
CREATED:20240428T113530Z
LAST-MODIFIED:20250831T125653Z
UID:10006832-1787166000-1787176800@wimbledonvillage.com
SUMMARY:Pub Quiz @ The Dog & Fox
DESCRIPTION:Grab your team\, get your brain in gear and get quizzical at the Dog & Fox. \n  \nWhere & When: The Dog & Fox\, 24 High Street\, Wimbledon Village\, London SW19 5EA\, every Wednesday night\, 7 – 10 pm.
URL:https://wimbledonvillage.com/event/pub-quiz-the-dog-fox/2026-08-19/
ATTACH;FMTTYPE=image/png:https://wimbledonvillage.com/wp-content/uploads/2024/04/Dog-Fox-pub-quiz-image.png
END:VEVENT
BEGIN:VEVENT
DTSTART;TZID=Europe/London:20260822T090000
DTEND;TZID=Europe/London:20260822T100000
DTSTAMP:20260420T090954
CREATED:20230819T151954Z
LAST-MODIFIED:20250831T130729Z
UID:10007601-1787389200-1787392800@wimbledonvillage.com
SUMMARY:Wimbledon Common Parkrun
DESCRIPTION:A free\, fun\, and friendly weekly 5k community event. Participants can choose to walk\, jog\, run\, volunteer or just spectate. \n  \nThe run starts from near the Windmill car park every Saturday at 9am. \n  \nJoin other runners and supporters for a post run coffee at the Windmill Cafe.
URL:https://wimbledonvillage.com/event/wimbledon-common-park-run/2026-08-22/
ATTACH;FMTTYPE=image/jpeg:https://wimbledonvillage.com/wp-content/uploads/2023/08/Wimbledon-Common-Parkrun-runners-enjoying-the-course.jpg
END:VEVENT
BEGIN:VEVENT
DTSTART;TZID=Europe/London:20260822T103000
DTEND;TZID=Europe/London:20260822T120000
DTSTAMP:20260420T090954
CREATED:20230819T155822Z
LAST-MODIFIED:20250831T132807Z
UID:10008293-1787394600-1787400000@wimbledonvillage.com
SUMMARY:Wimbledon Common and Village Walk & Talk
DESCRIPTION:A free and fun ‘walk and talk’ every Saturday morning around Wimbledon Common and Wimbledon Village. \n  \nWalk and talks are a chance for all generations to take a stroll\, chat\, meet friends and neighbours\, make new friends and enjoy their local area and green spaces together. From older adults to young children\, from buggies to beagles – everybody can join in. \n  \nNo booking\, no reservations\, just turn up and you will get a very warm welcome. \n  \nWhen & Where: 10.30am at the Wimbledon War Memorial on The Green\, at the corner of Parkside and The Causeway.
URL:https://wimbledonvillage.com/event/weekly-walk-talk/2026-08-22/
ATTACH;FMTTYPE=image/jpeg:https://wimbledonvillage.com/wp-content/uploads/2023/08/Walk-Talk-Wimbledon-Common-walkers-on-a-sunny-day.jpg
END:VEVENT
BEGIN:VEVENT
DTSTART;TZID=Europe/London:20260823T100000
DTEND;TZID=Europe/London:20260823T150000
DTSTAMP:20260420T090954
CREATED:20230819T162853Z
LAST-MODIFIED:20250831T125135Z
UID:10005790-1787479200-1787497200@wimbledonvillage.com
SUMMARY:Wimbledon Village Farmers' Market
DESCRIPTION:The Village Farmers’ Market serves up a range of fabulous farm fresh and local products along with a varied offering of ready to eat goodies every Sunday from 10am to 3pm on the Village High Street. Stalls rotate each week. \n  \nFollow The Wimbledon Village Farmers’ Market on Instagram or Facebook for more details.
URL:https://wimbledonvillage.com/event/wimbledon-village-farmers-market/2026-08-23/
ATTACH;FMTTYPE=image/jpeg:https://wimbledonvillage.com/wp-content/uploads/2023/08/Farmers-Market-vegetables.jpg
END:VEVENT
BEGIN:VEVENT
DTSTART;TZID=Europe/London:20260823T190000
DTEND;TZID=Europe/London:20260823T220000
DTSTAMP:20260420T090954
CREATED:20240108T125908Z
LAST-MODIFIED:20250831T125309Z
UID:10006482-1787511600-1787522400@wimbledonvillage.com
SUMMARY:Pub Quiz @ the Fire Stables
DESCRIPTION:Put your thinking hat on because this is a game for real players. Call your smartest friends and put together a winning team to answer questions about general knowledge\, music\, geography\, everything and nothing. A £50 bar tab is up for grabs each week. \n  \nWhere & When: Fire Stables\, every Sunday from 7 – 10 pm.
URL:https://wimbledonvillage.com/event/pub-quiz-the-fire-stables/2026-08-23/
ATTACH;FMTTYPE=image/jpeg:https://wimbledonvillage.com/wp-content/uploads/2024/01/rsz_pexels-elevate-1269025.jpg
END:VEVENT
BEGIN:VEVENT
DTSTART;TZID=Europe/London:20260825T193000
DTEND;TZID=Europe/London:20260825T224500
DTSTAMP:20260420T090954
CREATED:20250922T102723Z
LAST-MODIFIED:20260202T082017Z
UID:10002258-1787686200-1787697900@wimbledonvillage.com
SUMMARY:Pub Quiz @ The Rose & Crown
DESCRIPTION:Grab your cleverest pals & put your knowledge to the test with fantastic quiz master Duncan at the weekly Rose & Crown pub quiz. \n  \nWhere & When: The Rose & Crown\, 55 High Street\, Wimbledon Village\, London SW19 5BA\, every Tuesday from 7.30 – 10.45 pm (except during the Wimbledon tennis fortnight).
URL:https://wimbledonvillage.com/event/rose-crown-pub-quiz-3/2026-08-25/
ATTACH;FMTTYPE=image/jpeg:https://wimbledonvillage.com/wp-content/uploads/2023/08/Rose-Crown-pub-quiz-image.jpg
END:VEVENT
BEGIN:VEVENT
DTSTART;TZID=Europe/London:20260825T200000
DTEND;TZID=Europe/London:20260825T220000
DTSTAMP:20260420T090954
CREATED:20260301T153138Z
LAST-MODIFIED:20260301T153254Z
UID:10008932-1787688000-1787695200@wimbledonvillage.com
SUMMARY:Pub Quiz @ The Hand in Hand
DESCRIPTION:Get your brainiest mates together\, come up with the funniest team name and put your trivia knowledge to the test at the Hand in Hands’ weekly quiz for a chance to win one of the lovely prizes on offer. \n  \nQuizmaster John Spain will put you through your paces from general knowledge to music and sport. You’ve got to be in it\, to win it! \n  \nWhere & When: Hand in Hand\, every Tuesday from 8 -10 pm.
URL:https://wimbledonvillage.com/event/pub-quiz-the-hand-in-hand/2026-08-25/
ATTACH;FMTTYPE=image/jpeg:https://wimbledonvillage.com/wp-content/uploads/2024/04/Screenshot-2026-03-01-at-15.29.0.jpg
END:VEVENT
BEGIN:VEVENT
DTSTART;TZID=Europe/London:20260826T190000
DTEND;TZID=Europe/London:20260826T220000
DTSTAMP:20260420T090954
CREATED:20240428T113530Z
LAST-MODIFIED:20250831T125653Z
UID:10006833-1787770800-1787781600@wimbledonvillage.com
SUMMARY:Pub Quiz @ The Dog & Fox
DESCRIPTION:Grab your team\, get your brain in gear and get quizzical at the Dog & Fox. \n  \nWhere & When: The Dog & Fox\, 24 High Street\, Wimbledon Village\, London SW19 5EA\, every Wednesday night\, 7 – 10 pm.
URL:https://wimbledonvillage.com/event/pub-quiz-the-dog-fox/2026-08-26/
ATTACH;FMTTYPE=image/png:https://wimbledonvillage.com/wp-content/uploads/2024/04/Dog-Fox-pub-quiz-image.png
END:VEVENT
BEGIN:VEVENT
DTSTART;TZID=Europe/London:20260829T090000
DTEND;TZID=Europe/London:20260829T100000
DTSTAMP:20260420T090954
CREATED:20230819T151954Z
LAST-MODIFIED:20250831T130729Z
UID:10007602-1787994000-1787997600@wimbledonvillage.com
SUMMARY:Wimbledon Common Parkrun
DESCRIPTION:A free\, fun\, and friendly weekly 5k community event. Participants can choose to walk\, jog\, run\, volunteer or just spectate. \n  \nThe run starts from near the Windmill car park every Saturday at 9am. \n  \nJoin other runners and supporters for a post run coffee at the Windmill Cafe.
URL:https://wimbledonvillage.com/event/wimbledon-common-park-run/2026-08-29/
ATTACH;FMTTYPE=image/jpeg:https://wimbledonvillage.com/wp-content/uploads/2023/08/Wimbledon-Common-Parkrun-runners-enjoying-the-course.jpg
END:VEVENT
BEGIN:VEVENT
DTSTART;TZID=Europe/London:20260829T103000
DTEND;TZID=Europe/London:20260829T120000
DTSTAMP:20260420T090954
CREATED:20230819T155822Z
LAST-MODIFIED:20250831T132807Z
UID:10008294-1787999400-1788004800@wimbledonvillage.com
SUMMARY:Wimbledon Common and Village Walk & Talk
DESCRIPTION:A free and fun ‘walk and talk’ every Saturday morning around Wimbledon Common and Wimbledon Village. \n  \nWalk and talks are a chance for all generations to take a stroll\, chat\, meet friends and neighbours\, make new friends and enjoy their local area and green spaces together. From older adults to young children\, from buggies to beagles – everybody can join in. \n  \nNo booking\, no reservations\, just turn up and you will get a very warm welcome. \n  \nWhen & Where: 10.30am at the Wimbledon War Memorial on The Green\, at the corner of Parkside and The Causeway.
URL:https://wimbledonvillage.com/event/weekly-walk-talk/2026-08-29/
ATTACH;FMTTYPE=image/jpeg:https://wimbledonvillage.com/wp-content/uploads/2023/08/Walk-Talk-Wimbledon-Common-walkers-on-a-sunny-day.jpg
END:VEVENT
BEGIN:VEVENT
DTSTART;TZID=Europe/London:20260830T100000
DTEND;TZID=Europe/London:20260830T150000
DTSTAMP:20260420T090954
CREATED:20230819T162853Z
LAST-MODIFIED:20250831T125135Z
UID:10005791-1788084000-1788102000@wimbledonvillage.com
SUMMARY:Wimbledon Village Farmers' Market
DESCRIPTION:The Village Farmers’ Market serves up a range of fabulous farm fresh and local products along with a varied offering of ready to eat goodies every Sunday from 10am to 3pm on the Village High Street. Stalls rotate each week. \n  \nFollow The Wimbledon Village Farmers’ Market on Instagram or Facebook for more details.
URL:https://wimbledonvillage.com/event/wimbledon-village-farmers-market/2026-08-30/
ATTACH;FMTTYPE=image/jpeg:https://wimbledonvillage.com/wp-content/uploads/2023/08/Farmers-Market-vegetables.jpg
END:VEVENT
BEGIN:VEVENT
DTSTART;TZID=Europe/London:20260830T190000
DTEND;TZID=Europe/London:20260830T220000
DTSTAMP:20260420T090954
CREATED:20240108T125908Z
LAST-MODIFIED:20250831T125309Z
UID:10006483-1788116400-1788127200@wimbledonvillage.com
SUMMARY:Pub Quiz @ the Fire Stables
DESCRIPTION:Put your thinking hat on because this is a game for real players. Call your smartest friends and put together a winning team to answer questions about general knowledge\, music\, geography\, everything and nothing. A £50 bar tab is up for grabs each week. \n  \nWhere & When: Fire Stables\, every Sunday from 7 – 10 pm.
URL:https://wimbledonvillage.com/event/pub-quiz-the-fire-stables/2026-08-30/
ATTACH;FMTTYPE=image/jpeg:https://wimbledonvillage.com/wp-content/uploads/2024/01/rsz_pexels-elevate-1269025.jpg
END:VEVENT
BEGIN:VEVENT
DTSTART;TZID=Europe/London:20260901T100000
DTEND;TZID=Europe/London:20260901T110000
DTSTAMP:20260420T090954
CREATED:20260104T114342Z
LAST-MODIFIED:20260104T114342Z
UID:10008677-1788256800-1788260400@wimbledonvillage.com
SUMMARY:Wimbledon Common Healthy Walks
DESCRIPTION:Take a little outdoor exercise and at the same time learn about the history and current management of the Commons at this regular programme of healthy walks on Wimbledon Common. \n  \nThese moderate walks take place every three weeks and last for approximately 1 hour. They are led by one of the Commons’ full-time staff or a regular volunteer. \n  \nWhere and When: Meeting/end point is outside the wooden garages near to the Rangers Office on Windmill Road. Time: 10am-11am. Booking is not required. \n  \nWalk dates for 2026: \n\n13 January\n3 February\n24 February\n17 March\n7 April\n28 April\n19 May\n9 June\n30 June\n21 July\n11 August\n1 September\n22 September\n13 October\n3 November\n24 November\n15 December
URL:https://wimbledonvillage.com/event/wimbledon-common-healthy-walks-3/2026-09-01/
ATTACH;FMTTYPE=image/jpeg:https://wimbledonvillage.com/wp-content/uploads/2025/02/img20230815105914035hdr_cropped_.jpg
END:VEVENT
BEGIN:VEVENT
DTSTART;TZID=Europe/London:20260901T193000
DTEND;TZID=Europe/London:20260901T224500
DTSTAMP:20260420T090954
CREATED:20250922T102723Z
LAST-MODIFIED:20260202T082017Z
UID:10002259-1788291000-1788302700@wimbledonvillage.com
SUMMARY:Pub Quiz @ The Rose & Crown
DESCRIPTION:Grab your cleverest pals & put your knowledge to the test with fantastic quiz master Duncan at the weekly Rose & Crown pub quiz. \n  \nWhere & When: The Rose & Crown\, 55 High Street\, Wimbledon Village\, London SW19 5BA\, every Tuesday from 7.30 – 10.45 pm (except during the Wimbledon tennis fortnight).
URL:https://wimbledonvillage.com/event/rose-crown-pub-quiz-3/2026-09-01/
ATTACH;FMTTYPE=image/jpeg:https://wimbledonvillage.com/wp-content/uploads/2023/08/Rose-Crown-pub-quiz-image.jpg
END:VEVENT
BEGIN:VEVENT
DTSTART;TZID=Europe/London:20260901T200000
DTEND;TZID=Europe/London:20260901T220000
DTSTAMP:20260420T090954
CREATED:20260301T153138Z
LAST-MODIFIED:20260301T153254Z
UID:10008933-1788292800-1788300000@wimbledonvillage.com
SUMMARY:Pub Quiz @ The Hand in Hand
DESCRIPTION:Get your brainiest mates together\, come up with the funniest team name and put your trivia knowledge to the test at the Hand in Hands’ weekly quiz for a chance to win one of the lovely prizes on offer. \n  \nQuizmaster John Spain will put you through your paces from general knowledge to music and sport. You’ve got to be in it\, to win it! \n  \nWhere & When: Hand in Hand\, every Tuesday from 8 -10 pm.
URL:https://wimbledonvillage.com/event/pub-quiz-the-hand-in-hand/2026-09-01/
ATTACH;FMTTYPE=image/jpeg:https://wimbledonvillage.com/wp-content/uploads/2024/04/Screenshot-2026-03-01-at-15.29.0.jpg
END:VEVENT
END:VCALENDAR