BEGIN:VCALENDAR
VERSION:2.0
PRODID:-//Wimbledon Village - ECPv6.15.20//NONSGML v1.0//EN
CALSCALE:GREGORIAN
METHOD:PUBLISH
X-WR-CALNAME:Wimbledon Village
X-ORIGINAL-URL:https://wimbledonvillage.com
X-WR-CALDESC:Events for Wimbledon Village
REFRESH-INTERVAL;VALUE=DURATION:PT1H
X-Robots-Tag:noindex
X-PUBLISHED-TTL:PT1H
BEGIN:VTIMEZONE
TZID:Europe/London
BEGIN:DAYLIGHT
TZOFFSETFROM:+0000
TZOFFSETTO:+0100
TZNAME:BST
DTSTART:20240331T010000
END:DAYLIGHT
BEGIN:STANDARD
TZOFFSETFROM:+0100
TZOFFSETTO:+0000
TZNAME:GMT
DTSTART:20241027T010000
END:STANDARD
BEGIN:DAYLIGHT
TZOFFSETFROM:+0000
TZOFFSETTO:+0100
TZNAME:BST
DTSTART:20250330T010000
END:DAYLIGHT
BEGIN:STANDARD
TZOFFSETFROM:+0100
TZOFFSETTO:+0000
TZNAME:GMT
DTSTART:20251026T010000
END:STANDARD
BEGIN:DAYLIGHT
TZOFFSETFROM:+0000
TZOFFSETTO:+0100
TZNAME:BST
DTSTART:20260329T010000
END:DAYLIGHT
BEGIN:STANDARD
TZOFFSETFROM:+0100
TZOFFSETTO:+0000
TZNAME:GMT
DTSTART:20261025T010000
END:STANDARD
END:VTIMEZONE
BEGIN:VEVENT
DTSTART;TZID=Europe/London:20250423T080000
DTEND;TZID=Europe/London:20250423T170000
DTSTAMP:20260420T071255
CREATED:20250418T094419Z
LAST-MODIFIED:20250418T094711Z
UID:10004578-1745395200-1745427600@wimbledonvillage.com
SUMMARY:Meet the Brewer @ the Hand in Hand
DESCRIPTION:Meet the team from Wimbledon Brewery and sample four of their best-selling beers. A different platter of food will be served to accompany each one. This is a charity event raising funds for Wooden Spoon. \n  \nWhere & When: Hand in Hand\, Wednesday 23rd April\, from 7 – 9 pm \n  \nTickets:  £20 pp
URL:https://wimbledonvillage.com/event/meet-the-brewer-the-hand-in-hand/
ATTACH;FMTTYPE=image/jpeg:https://wimbledonvillage.com/wp-content/uploads/2025/04/Untitled_design_24.png.jpg
END:VEVENT
BEGIN:VEVENT
DTSTART;TZID=Europe/London:20250423T080000
DTEND;TZID=Europe/London:20250423T170000
DTSTAMP:20260420T071255
CREATED:20250327T063525Z
LAST-MODIFIED:20250327T063525Z
UID:10004382-1745395200-1745427600@wimbledonvillage.com
SUMMARY:The Lakes Distillery Whisky Tasting
DESCRIPTION:An English Whisky masterclass with the Lakes Distillery – home of the “World’s Best Single Malt 2022”. Taste five superb whiskies\, including The Whiskymaker’s Editions Equinox\, The One Colheita and The Whiskymaker’s Reserve No.7. The perfect way to celebrate St George’s Day if you’re a whisky lover. \n  \nWhere & When: Amathus\, Wednesday 23rd April from 6.30 to 8 pm \n  \nTickets: £30pp
URL:https://wimbledonvillage.com/event/the-lakes-distillery-whisky-tasting/
ATTACH;FMTTYPE=image/jpeg:https://wimbledonvillage.com/wp-content/uploads/2025/03/Evolution-Home-9x16_8c392e0b-97a.jpg
END:VEVENT
BEGIN:VEVENT
DTSTART;TZID=Europe/London:20250422T193000
DTEND;TZID=Europe/London:20250422T224500
DTSTAMP:20260420T071255
CREATED:20240222T093828Z
LAST-MODIFIED:20250831T125428Z
UID:10002188-1745350200-1745361900@wimbledonvillage.com
SUMMARY:Pub Quiz @ The Rose & Crown
DESCRIPTION:Grab your cleverest pals & put your knowledge to the test with fantastic quiz master Duncan at the weekly Rose & Crown pub quiz. \n  \nWhere & When: The Rose & Crown\, 55 High Street\, Wimbledon Village\, London SW19 5BA\, every Tuesday from 7.30 – 10.45 pm (except during the Wimbledon tennis fortnight).
URL:https://wimbledonvillage.com/event/rose-crown-pub-quiz/2025-04-22/
ATTACH;FMTTYPE=image/jpeg:https://wimbledonvillage.com/wp-content/uploads/2023/08/Rose-Crown-pub-quiz-image.jpg
END:VEVENT
BEGIN:VEVENT
DTSTART;TZID=Europe/London:20250422T080000
DTEND;TZID=Europe/London:20250422T170000
DTSTAMP:20260420T071255
CREATED:20250406T074649Z
LAST-MODIFIED:20250409T080826Z
UID:10004492-1745308800-1745341200@wimbledonvillage.com
SUMMARY:Live Music at The Ivy Café Wimbledon
DESCRIPTION:Enjoy live music and a complimentary glass of The Ivy Cuvee* \n  \nWhere & When: The Ivy Café\, Wimbledon\, every Tuesday in April & May from 6 – 8 pm. \n  \n*T&Cs apply – see The Ivy Cafe Wimbledon website for details.
URL:https://wimbledonvillage.com/event/live-music-at-the-ivy-cafe-wimbledon/2025-04-22/
ATTACH;FMTTYPE=image/png:https://wimbledonvillage.com/wp-content/uploads/2025/04/THE-IVY-APERITIF-MAR2511146-Not-.png
END:VEVENT
BEGIN:VEVENT
DTSTART;TZID=Europe/London:20250420T190000
DTEND;TZID=Europe/London:20250420T220000
DTSTAMP:20260420T071255
CREATED:20240108T125908Z
LAST-MODIFIED:20250831T125309Z
UID:10006412-1745175600-1745186400@wimbledonvillage.com
SUMMARY:Pub Quiz @ the Fire Stables
DESCRIPTION:Put your thinking hat on because this is a game for real players. Call your smartest friends and put together a winning team to answer questions about general knowledge\, music\, geography\, everything and nothing. A £50 bar tab is up for grabs each week. \n  \nWhere & When: Fire Stables\, every Sunday from 7 – 10 pm.
URL:https://wimbledonvillage.com/event/pub-quiz-the-fire-stables/2025-04-20/
ATTACH;FMTTYPE=image/jpeg:https://wimbledonvillage.com/wp-content/uploads/2024/01/rsz_pexels-elevate-1269025.jpg
END:VEVENT
BEGIN:VEVENT
DTSTART;TZID=Europe/London:20250420T100000
DTEND;TZID=Europe/London:20250420T150000
DTSTAMP:20260420T071255
CREATED:20230819T162853Z
LAST-MODIFIED:20250831T125135Z
UID:10005720-1745143200-1745161200@wimbledonvillage.com
SUMMARY:Wimbledon Village Farmers' Market
DESCRIPTION:The Village Farmers’ Market serves up a range of fabulous farm fresh and local products along with a varied offering of ready to eat goodies every Sunday from 10am to 3pm on the Village High Street. Stalls rotate each week. \n  \nFollow The Wimbledon Village Farmers’ Market on Instagram or Facebook for more details.
URL:https://wimbledonvillage.com/event/wimbledon-village-farmers-market/2025-04-20/
ATTACH;FMTTYPE=image/jpeg:https://wimbledonvillage.com/wp-content/uploads/2023/08/Farmers-Market-vegetables.jpg
END:VEVENT
BEGIN:VEVENT
DTSTART;TZID=Europe/London:20250420T080000
DTEND;TZID=Europe/London:20250420T170000
DTSTAMP:20260420T071255
CREATED:20250409T080509Z
LAST-MODIFIED:20250409T080641Z
UID:10004557-1745136000-1745168400@wimbledonvillage.com
SUMMARY:Easter Egg Hunt in Cannizaro Park
DESCRIPTION:Enjoy a magical afternoon of adventure\, treats\, and community spirit at this annual Easter Egg Hunt. \n  \nWhere & When: Cannizaro Park Sunken Gardens at 1 pm on Sunday 20th April (event lasts 90 mins) \n  \nTickets: £10.99 per child (plus bkg fee). Tickets include a refreshing soft drink\, delicious Easter treats\, and an exciting activity! Adult tickets not required. All proceeds from ticket sales will be donated to The Brain Charity\, supporting those affected by neurological conditions.
URL:https://wimbledonvillage.com/event/easter-egg-hunt-in-cannizaro-park/
ATTACH;FMTTYPE=image/jpeg:https://wimbledonvillage.com/wp-content/uploads/2024/03/pexels-nicky-pe-7149613.jpg
END:VEVENT
BEGIN:VEVENT
DTSTART;TZID=Europe/London:20250420T080000
DTEND;TZID=Europe/London:20250420T170000
DTSTAMP:20260420T071255
CREATED:20250302T090917Z
LAST-MODIFIED:20250411T121216Z
UID:10004321-1745136000-1745168400@wimbledonvillage.com
SUMMARY:Wimbledon Common Easter Egg Hunt\, Colouring Competition & Face Painting
DESCRIPTION:Enjoy some family fun at the annual Wimbledon Common Easter Egg Hunt. Follow the trails to hunt for the hidden wooden Easter Eggs with clues to gather – collect them all and claim your prize. \n  \nWhere & When: Collect your entry from from the Easter Gazebos opposite the Windmill. The Egg Hunt runs all day from 11 am to 4 pm on Easter Sunday\, 20th April \n  \nCost/Booking: Entry fee is £3.00.  No need to book – there are no fixed start times. \n  \nEaster Colouring Competition \nAlongside the Egg Hunt\, there will also be a free to enter Easter-themed colouring competition with prizes for the winners in each category: \n\nUp to 8 years of age\n9 to 16 years of age\nGrown ups!\n\n  \nFace Painting \nHead to the Easter Gazebo for some fun face-painting!
URL:https://wimbledonvillage.com/event/wimbledon-common-easter-egg-hunt/
ATTACH;FMTTYPE=image/jpeg:https://wimbledonvillage.com/wp-content/uploads/2025/03/rodrigo-rodriguez-z_YBqSB-4tg-un.jpg
END:VEVENT
BEGIN:VEVENT
DTSTART;TZID=Europe/London:20250419T103000
DTEND;TZID=Europe/London:20250419T120000
DTSTAMP:20260420T071255
CREATED:20230819T155822Z
LAST-MODIFIED:20250831T132807Z
UID:10008224-1745058600-1745064000@wimbledonvillage.com
SUMMARY:Wimbledon Common and Village Walk & Talk
DESCRIPTION:A free and fun ‘walk and talk’ every Saturday morning around Wimbledon Common and Wimbledon Village. \n  \nWalk and talks are a chance for all generations to take a stroll\, chat\, meet friends and neighbours\, make new friends and enjoy their local area and green spaces together. From older adults to young children\, from buggies to beagles – everybody can join in. \n  \nNo booking\, no reservations\, just turn up and you will get a very warm welcome. \n  \nWhen & Where: 10.30am at the Wimbledon War Memorial on The Green\, at the corner of Parkside and The Causeway.
URL:https://wimbledonvillage.com/event/weekly-walk-talk/2025-04-19/
ATTACH;FMTTYPE=image/jpeg:https://wimbledonvillage.com/wp-content/uploads/2023/08/Walk-Talk-Wimbledon-Common-walkers-on-a-sunny-day.jpg
END:VEVENT
BEGIN:VEVENT
DTSTART;TZID=Europe/London:20250419T090000
DTEND;TZID=Europe/London:20250419T100000
DTSTAMP:20260420T071255
CREATED:20230819T151954Z
LAST-MODIFIED:20250831T130729Z
UID:10007531-1745053200-1745056800@wimbledonvillage.com
SUMMARY:Wimbledon Common Parkrun
DESCRIPTION:A free\, fun\, and friendly weekly 5k community event. Participants can choose to walk\, jog\, run\, volunteer or just spectate. \n  \nThe run starts from near the Windmill car park every Saturday at 9am. \n  \nJoin other runners and supporters for a post run coffee at the Windmill Cafe.
URL:https://wimbledonvillage.com/event/wimbledon-common-park-run/2025-04-19/
ATTACH;FMTTYPE=image/jpeg:https://wimbledonvillage.com/wp-content/uploads/2023/08/Wimbledon-Common-Parkrun-runners-enjoying-the-course.jpg
END:VEVENT
BEGIN:VEVENT
DTSTART;TZID=Europe/London:20250419T080000
DTEND;TZID=Europe/London:20250419T170000
DTSTAMP:20260420T071255
CREATED:20250410T162443Z
LAST-MODIFIED:20250410T162443Z
UID:10004568-1745049600-1745082000@wimbledonvillage.com
SUMMARY:Wimbledon Common Easter Bird Walk
DESCRIPTION:Join a local volunteer bird expert on a walk to spot and learn about the bird life on the Commons. The walk will be 2-3 miles. We will cover some different terrains and waterproof footwear is recommended as some areas may be wet underfoot. Please do bring binoculars if you have some. Refreshments will be available at the end of the walk. \n  \nWhere & When: Meet at the Commons Ranger’s Office any time from 7.45 am on Saturday 19th April. The walk will start promptly at 8am and will last around 2.5/3 hours. \n  \nTickets/Booking: The walk is free of charge but donations are always gratefully accepted. Booking is essential.
URL:https://wimbledonvillage.com/event/wimbledon-common-easter-bird-walk-2/
ATTACH;FMTTYPE=image/png:https://wimbledonvillage.com/wp-content/uploads/2024/01/Screenshot-2024-01-09-at-10.35.3.png
END:VEVENT
BEGIN:VEVENT
DTSTART;TZID=Europe/London:20250419T080000
DTEND;TZID=Europe/London:20250419T170000
DTSTAMP:20260420T071255
CREATED:20250409T064257Z
LAST-MODIFIED:20250409T064257Z
UID:10004554-1745049600-1745082000@wimbledonvillage.com
SUMMARY:Artisan Market at Cannizaro House
DESCRIPTION:Browse a wonderful range of over 30 small independent businesses offering jewellery\, clothes\, skincare\, candles\, dog accessories\, glass\, gin\, rum & more. \n  \nWhere & When: Front lawn\, Cannizaro House\, Saturday 19th April\, 10 am – 4 pm \n  \nTickets: Free entrance
URL:https://wimbledonvillage.com/event/artisan-market-at-cannizaro-house/
ATTACH;FMTTYPE=image/jpeg:https://wimbledonvillage.com/wp-content/uploads/2025/04/488482975_1318118029710284_53711.jpg
END:VEVENT
BEGIN:VEVENT
DTSTART;TZID=Europe/London:20250418T080000
DTEND;TZID=Europe/London:20250418T170000
DTSTAMP:20260420T071255
CREATED:20250413T213722Z
LAST-MODIFIED:20250413T214358Z
UID:10004574-1744963200-1744995600@wimbledonvillage.com
SUMMARY:The Youngs Easter Egg Hunt
DESCRIPTION:This fun Easter Egg Hunt is a pub crawl with a difference!  Move from pub to pub solving the clues and the kids get to collect chocolate eggs in each one! \n  \nWhere & When: Dog & Fox\, Rose & Crown\, Hand in Hand and the Crooked Billet on Good Friday\, 18th April from 12 – 3 pm. \n  \nBooking: No need to book. Just turn up on the day. \n  \n\nCLUE 1:\n\nI’m a house where dogs might bark\, \nAnd foxes sneak when it gets dark. \nCome on in\, don’t be shy— \nYour first egg’s here\, give it a try!” \n  \n\nCLUE 2:\n\n“Roses bloom and crowns do shine\, \nFind this pub—it’s your next sign! \nIt’s regal\, sweet\, and smells so fine\, \nYour second egg will taste divine!” \n  \n\nCLUE 3:\n\n“You walk with me and I with you\, \nTogether we’re a happy crew. \nWe’re side by side just like a band— \nNext egg’s waiting… Hand in Hand!” \n  \n\nCLUE 4:\n\n“I may be crooked\, but I’m fun\, \nFind me quickly—nearly done! \nI’m the last stop on your trail\, \nAnd your final egg will tip the scale!’’
URL:https://wimbledonvillage.com/event/the-youngs-easter-egg-hunt/
ATTACH;FMTTYPE=image/jpeg:https://wimbledonvillage.com/wp-content/uploads/2025/04/pexels-photo-7169548.jpg
END:VEVENT
BEGIN:VEVENT
DTSTART;TZID=Europe/London:20250418T080000
DTEND;TZID=Europe/London:20250418T170000
DTSTAMP:20260420T071255
CREATED:20250401T142853Z
LAST-MODIFIED:20250401T142853Z
UID:10004384-1744963200-1744995600@wimbledonvillage.com
SUMMARY:Easter Crafting and Live Music @ the Rose & Crown
DESCRIPTION:Join Landlady Nicky and her friendly team for a Crafting Workshop\, where the kids can show off their creative talents at the crafting table making Easter Cards\, while the grown-ups can enjoy live music from Adam Temple. \n  \nWhere & When: Rose & Crown\, Good Friday – 18th April. Crafting: 12 – 3 pm. Live music: 2 – 6 pm. \n  \nBooking/Tickets: Free event.
URL:https://wimbledonvillage.com/event/easter-crafting-and-live-music-the-rose-crown/
ATTACH;FMTTYPE=image/jpeg:https://wimbledonvillage.com/wp-content/uploads/2024/03/Easter-Colouring.jpg
END:VEVENT
BEGIN:VEVENT
DTSTART;TZID=Europe/London:20250417T080000
DTEND;TZID=Europe/London:20250427T170000
DTSTAMP:20260420T071255
CREATED:20250410T112249Z
LAST-MODIFIED:20250410T112314Z
UID:10004558-1744876800-1745773200@wimbledonvillage.com
SUMMARY:Something Classy: An Exhibition by James Mylne
DESCRIPTION:A solo exhibition by James Mylne\, Britain’s premier ballpoint pen artist\, whose technical abilities with the unorthodox art medium have earned him recognition across Europe and the UK. \n  \nWhere & When: Ad Lib Gallery\, Thursday 17 to Sunday 27 April. Launch Event: Thursday 17th April\, 6 – 8 pm.
URL:https://wimbledonvillage.com/event/something-classy-an-exhibition-by-james-mylne/
ATTACH;FMTTYPE=image/jpeg:https://wimbledonvillage.com/wp-content/uploads/2025/04/james-mylne-audrey-20-note-ad-l.jpg
END:VEVENT
BEGIN:VEVENT
DTSTART;TZID=Europe/London:20250417T080000
DTEND;TZID=Europe/London:20250417T170000
DTSTAMP:20260420T071255
CREATED:20250413T205850Z
LAST-MODIFIED:20250413T205850Z
UID:10004573-1744876800-1744909200@wimbledonvillage.com
SUMMARY:Free Whisky Tasting – The Macallan
DESCRIPTION:A guest host from one of the Highlands most prestigious distilleries\, The Macallan\, will take you through a flight of incredible spirits including some new releases that have just landed. \n  \nWhere & When: Jeroboams\, Thursday 17th of April from 5 – 6 pm \n  \nTickets/Booking: No need to book\, just drop in to the shop to enjoy a fantastic dram or two.
URL:https://wimbledonvillage.com/event/free-whisky-tasting-the-macallan/
ATTACH;FMTTYPE=image/jpeg:https://wimbledonvillage.com/wp-content/uploads/2025/04/MAC-2023-SignatureTaste-DC-18YO-.jpg
END:VEVENT
BEGIN:VEVENT
DTSTART;TZID=Europe/London:20250417T080000
DTEND;TZID=Europe/London:20250417T170000
DTSTAMP:20260420T071255
CREATED:20250401T134049Z
LAST-MODIFIED:20250401T151237Z
UID:10004383-1744876800-1744909200@wimbledonvillage.com
SUMMARY:Meet the Brewer: Wimbledon Brewery @ the Rose & Crown
DESCRIPTION:Meet the team from Wimbledon Brewery and sample some of their best selling beers. \n  \nWhere & When: Rose & Crown\, Thursday 17th April\, 6 – 8 pm \n  \nBooking/Tickets: Not required. Free event.
URL:https://wimbledonvillage.com/event/meet-the-brewer-wimbledon-brewery-the-rose-crown/
ATTACH;FMTTYPE=image/png:https://wimbledonvillage.com/wp-content/uploads/2025/04/Screenshot-2025-04-01-at-14.26.4.png
END:VEVENT
BEGIN:VEVENT
DTSTART;TZID=Europe/London:20250417T080000
DTEND;TZID=Europe/London:20250417T170000
DTSTAMP:20260420T071255
CREATED:20250302T105631Z
LAST-MODIFIED:20250302T105631Z
UID:10004331-1744876800-1744909200@wimbledonvillage.com
SUMMARY:Crafting Afternoons @ St John the Baptist
DESCRIPTION:Join a friendly group at St John’s for regular crafting afternoons (and chat!) to make items for the Church Christmas Fair. All welcome. \n  \nWhere & When: St John the Baptist. Held every 1st and 3rd Thursday of the month from 3.15 – 5.15 pm.
URL:https://wimbledonvillage.com/event/crafting-afternoons-st-john-the-baptist/2025-04-17/
ATTACH;FMTTYPE=image/jpeg:https://wimbledonvillage.com/wp-content/uploads/2025/03/pexels-castorlystock-3945638.jpg
END:VEVENT
BEGIN:VEVENT
DTSTART;TZID=Europe/London:20250417T080000
DTEND;TZID=Europe/London:20250417T170000
DTSTAMP:20260420T071255
CREATED:20250302T075010Z
LAST-MODIFIED:20250302T081026Z
UID:10004317-1744876800-1744909200@wimbledonvillage.com
SUMMARY:The Lakes Distillery Barrel-top Tasting
DESCRIPTION:A second opportunity to enjoy a barrel-top tasting from The Lakes Distillery. Expect enticing English whisky from the winner of the ‘World’s Best Single Malt 2022’. \n  \nWhere & When: Amathus\, Thursday 17th April from 3 to 6 pm \n  \nTickets/Booking: Free event. Booking not required.
URL:https://wimbledonvillage.com/event/the-lakes-distillery-barrel-top-tasting-2/
ATTACH;FMTTYPE=image/jpeg:https://wimbledonvillage.com/wp-content/uploads/2025/03/Evolution-Home-9x16_8c392e0b-97a.jpg
END:VEVENT
BEGIN:VEVENT
DTSTART;TZID=Europe/London:20250416T190000
DTEND;TZID=Europe/London:20250416T220000
DTSTAMP:20260420T071255
CREATED:20240428T113530Z
LAST-MODIFIED:20250831T125653Z
UID:10006764-1744830000-1744840800@wimbledonvillage.com
SUMMARY:Pub Quiz @ The Dog & Fox
DESCRIPTION:Grab your team\, get your brain in gear and get quizzical at the Dog & Fox. \n  \nWhere & When: The Dog & Fox\, 24 High Street\, Wimbledon Village\, London SW19 5EA\, every Wednesday night\, 7 – 10 pm.
URL:https://wimbledonvillage.com/event/pub-quiz-the-dog-fox/2025-04-16/
ATTACH;FMTTYPE=image/png:https://wimbledonvillage.com/wp-content/uploads/2024/04/Dog-Fox-pub-quiz-image.png
END:VEVENT
BEGIN:VEVENT
DTSTART;TZID=Europe/London:20250415T193000
DTEND;TZID=Europe/London:20250415T224500
DTSTAMP:20260420T071255
CREATED:20240222T093828Z
LAST-MODIFIED:20250831T125428Z
UID:10002187-1744745400-1744757100@wimbledonvillage.com
SUMMARY:Pub Quiz @ The Rose & Crown
DESCRIPTION:Grab your cleverest pals & put your knowledge to the test with fantastic quiz master Duncan at the weekly Rose & Crown pub quiz. \n  \nWhere & When: The Rose & Crown\, 55 High Street\, Wimbledon Village\, London SW19 5BA\, every Tuesday from 7.30 – 10.45 pm (except during the Wimbledon tennis fortnight).
URL:https://wimbledonvillage.com/event/rose-crown-pub-quiz/2025-04-15/
ATTACH;FMTTYPE=image/jpeg:https://wimbledonvillage.com/wp-content/uploads/2023/08/Rose-Crown-pub-quiz-image.jpg
END:VEVENT
BEGIN:VEVENT
DTSTART;TZID=Europe/London:20250415T080000
DTEND;TZID=Europe/London:20250415T170000
DTSTAMP:20260420T071255
CREATED:20250406T074649Z
LAST-MODIFIED:20250409T080826Z
UID:10004491-1744704000-1744736400@wimbledonvillage.com
SUMMARY:Live Music at The Ivy Café Wimbledon
DESCRIPTION:Enjoy live music and a complimentary glass of The Ivy Cuvee* \n  \nWhere & When: The Ivy Café\, Wimbledon\, every Tuesday in April & May from 6 – 8 pm. \n  \n*T&Cs apply – see The Ivy Cafe Wimbledon website for details.
URL:https://wimbledonvillage.com/event/live-music-at-the-ivy-cafe-wimbledon/2025-04-15/
ATTACH;FMTTYPE=image/png:https://wimbledonvillage.com/wp-content/uploads/2025/04/THE-IVY-APERITIF-MAR2511146-Not-.png
END:VEVENT
BEGIN:VEVENT
DTSTART;TZID=Europe/London:20250415T080000
DTEND;TZID=Europe/London:20250415T170000
DTSTAMP:20260420T071255
CREATED:20250208T102615Z
LAST-MODIFIED:20250831T133614Z
UID:10004280-1744704000-1744736400@wimbledonvillage.com
SUMMARY:Wimbledon Common Healthy Walks
DESCRIPTION:Take a little outdoor exercise and at the same time learn about the history and current management of the Commons at this regular programme of healthy walks on Wimbledon Common. \n  \nThese moderate walks take place every three weeks and last for approximately 1 hour. They are led by one of the Commons’ full-time staff or a regular volunteer. \n  \nWhere and When: Meeting/end point is outside the wooden garages near to the Rangers Office on Windmill Road. Time: 10am-11am. Booking is not required. \n  \nWalk dates for 2025: \n\n11 February\n4 March\n25 March\n15 April\n6 May\n27 May\n17 June\n8 July\n29 July\n19 August\n9 September\n30 September\n21 October\n11 November\n2 December\n23 December
URL:https://wimbledonvillage.com/event/wimbledon-common-healthy-walks-2/2025-04-15/
ATTACH;FMTTYPE=image/jpeg:https://wimbledonvillage.com/wp-content/uploads/2025/02/img20230815105914035hdr_cropped_.jpg
END:VEVENT
BEGIN:VEVENT
DTSTART;TZID=Europe/London:20250414T080000
DTEND;TZID=Europe/London:20250416T170000
DTSTAMP:20260420T071255
CREATED:20250302T084251Z
LAST-MODIFIED:20250302T091714Z
UID:10004319-1744617600-1744822800@wimbledonvillage.com
SUMMARY:The Great Easter Make-Off Camp
DESCRIPTION:Hop into creativity this spring with this Easter Holiday Camp from Planet Art.  Your little ones will get crafty\, make new friends\, and celebrate Easter in style with three days of Easter-themed fun: \n\nArts and crafts\nEaster Hat Parade\nEgg Hunt\nBunny Dance Show\nEaster Party\nGames & outdoor adventures (if the weather behaves)!\n\n  \nSuitable for children from 4 – 9 years (4-year-olds must be in Reception). \n  \nWhere & When: The Garden Hall @ St Mary’s Church\, April 14th – 16th\, 9.30 am to 3 pm daily. \n  \nCost: £60 per day.
URL:https://wimbledonvillage.com/event/the-great-easter-make-off-camp/
ATTACH;FMTTYPE=image/jpeg:https://wimbledonvillage.com/wp-content/uploads/2025/03/IMG_9795.jpg
END:VEVENT
BEGIN:VEVENT
DTSTART;TZID=Europe/London:20250413T190000
DTEND;TZID=Europe/London:20250413T220000
DTSTAMP:20260420T071255
CREATED:20240108T125908Z
LAST-MODIFIED:20250831T125309Z
UID:10006411-1744570800-1744581600@wimbledonvillage.com
SUMMARY:Pub Quiz @ the Fire Stables
DESCRIPTION:Put your thinking hat on because this is a game for real players. Call your smartest friends and put together a winning team to answer questions about general knowledge\, music\, geography\, everything and nothing. A £50 bar tab is up for grabs each week. \n  \nWhere & When: Fire Stables\, every Sunday from 7 – 10 pm.
URL:https://wimbledonvillage.com/event/pub-quiz-the-fire-stables/2025-04-13/
ATTACH;FMTTYPE=image/jpeg:https://wimbledonvillage.com/wp-content/uploads/2024/01/rsz_pexels-elevate-1269025.jpg
END:VEVENT
BEGIN:VEVENT
DTSTART;TZID=Europe/London:20250413T100000
DTEND;TZID=Europe/London:20250413T150000
DTSTAMP:20260420T071255
CREATED:20230819T162853Z
LAST-MODIFIED:20250831T125135Z
UID:10005719-1744538400-1744556400@wimbledonvillage.com
SUMMARY:Wimbledon Village Farmers' Market
DESCRIPTION:The Village Farmers’ Market serves up a range of fabulous farm fresh and local products along with a varied offering of ready to eat goodies every Sunday from 10am to 3pm on the Village High Street. Stalls rotate each week. \n  \nFollow The Wimbledon Village Farmers’ Market on Instagram or Facebook for more details.
URL:https://wimbledonvillage.com/event/wimbledon-village-farmers-market/2025-04-13/
ATTACH;FMTTYPE=image/jpeg:https://wimbledonvillage.com/wp-content/uploads/2023/08/Farmers-Market-vegetables.jpg
END:VEVENT
BEGIN:VEVENT
DTSTART;TZID=Europe/London:20250413T080000
DTEND;TZID=Europe/London:20250413T170000
DTSTAMP:20260420T071255
CREATED:20250208T151047Z
LAST-MODIFIED:20250208T151822Z
UID:10004298-1744531200-1744563600@wimbledonvillage.com
SUMMARY:Songkran Festival @ Buddhapadipa Temple
DESCRIPTION:The Songkran Festival\, also known as Thailand’s Water Festival\, is an electrifying blend of ancient traditions and modern festivities that marks the Thai New Year.  Buddhapadipa Temple will be holding a fundraising ceremony on Songkran Festival this year to support the main temple’s roof restoration project. \n  \nFor full event details\, please check their website. \n  \nWhere & When: Buddhapadipa Temple\, Sunday 13th April\, 10 am – 4 pm \n  \nTickets: Free. Booking not required \n 
URL:https://wimbledonvillage.com/event/songkran-festival-buddhapadipa-temple/
ATTACH;FMTTYPE=image/jpeg:https://wimbledonvillage.com/wp-content/uploads/2024/08/Buddhapadipa-Temple-exterior.jpg
END:VEVENT
BEGIN:VEVENT
DTSTART;TZID=Europe/London:20250412T103000
DTEND;TZID=Europe/London:20250412T120000
DTSTAMP:20260420T071255
CREATED:20230819T155822Z
LAST-MODIFIED:20250831T132807Z
UID:10008223-1744453800-1744459200@wimbledonvillage.com
SUMMARY:Wimbledon Common and Village Walk & Talk
DESCRIPTION:A free and fun ‘walk and talk’ every Saturday morning around Wimbledon Common and Wimbledon Village. \n  \nWalk and talks are a chance for all generations to take a stroll\, chat\, meet friends and neighbours\, make new friends and enjoy their local area and green spaces together. From older adults to young children\, from buggies to beagles – everybody can join in. \n  \nNo booking\, no reservations\, just turn up and you will get a very warm welcome. \n  \nWhen & Where: 10.30am at the Wimbledon War Memorial on The Green\, at the corner of Parkside and The Causeway.
URL:https://wimbledonvillage.com/event/weekly-walk-talk/2025-04-12/
ATTACH;FMTTYPE=image/jpeg:https://wimbledonvillage.com/wp-content/uploads/2023/08/Walk-Talk-Wimbledon-Common-walkers-on-a-sunny-day.jpg
END:VEVENT
BEGIN:VEVENT
DTSTART;TZID=Europe/London:20250412T090000
DTEND;TZID=Europe/London:20250412T100000
DTSTAMP:20260420T071255
CREATED:20230819T151954Z
LAST-MODIFIED:20250831T130729Z
UID:10007530-1744448400-1744452000@wimbledonvillage.com
SUMMARY:Wimbledon Common Parkrun
DESCRIPTION:A free\, fun\, and friendly weekly 5k community event. Participants can choose to walk\, jog\, run\, volunteer or just spectate. \n  \nThe run starts from near the Windmill car park every Saturday at 9am. \n  \nJoin other runners and supporters for a post run coffee at the Windmill Cafe.
URL:https://wimbledonvillage.com/event/wimbledon-common-park-run/2025-04-12/
ATTACH;FMTTYPE=image/jpeg:https://wimbledonvillage.com/wp-content/uploads/2023/08/Wimbledon-Common-Parkrun-runners-enjoying-the-course.jpg
END:VEVENT
BEGIN:VEVENT
DTSTART;TZID=Europe/London:20250412T080000
DTEND;TZID=Europe/London:20250412T170000
DTSTAMP:20260420T071255
CREATED:20250406T082203Z
LAST-MODIFIED:20250406T082413Z
UID:10004552-1744444800-1744477200@wimbledonvillage.com
SUMMARY:Free Tasting: Tesseron Cognac
DESCRIPTION:This fabulous producer of extremely fine Cognac (and owner of Bordeaux’s Château Pontet Canet) will showcase some exquisite examples of the noblest of French Brandies. \n  \nWhere & When: Jeroboams\, Saturday 12th April from 12 – 3 pm \n  \nBooking/Tickets: Not required. Free Event.
URL:https://wimbledonvillage.com/event/free-tasting-tesseron-cognac/
ATTACH;FMTTYPE=image/jpeg:https://wimbledonvillage.com/wp-content/uploads/2025/04/00148Benjamin-Deroche-pour-Ponte.jpg
END:VEVENT
END:VCALENDAR