BEGIN:VCALENDAR
VERSION:2.0
PRODID:-//Wimbledon Village - ECPv6.15.20//NONSGML v1.0//EN
CALSCALE:GREGORIAN
METHOD:PUBLISH
X-WR-CALNAME:Wimbledon Village
X-ORIGINAL-URL:https://wimbledonvillage.com
X-WR-CALDESC:Events for Wimbledon Village
REFRESH-INTERVAL;VALUE=DURATION:PT1H
X-Robots-Tag:noindex
X-PUBLISHED-TTL:PT1H
BEGIN:VTIMEZONE
TZID:Europe/London
BEGIN:DAYLIGHT
TZOFFSETFROM:+0000
TZOFFSETTO:+0100
TZNAME:BST
DTSTART:20240331T010000
END:DAYLIGHT
BEGIN:STANDARD
TZOFFSETFROM:+0100
TZOFFSETTO:+0000
TZNAME:GMT
DTSTART:20241027T010000
END:STANDARD
BEGIN:DAYLIGHT
TZOFFSETFROM:+0000
TZOFFSETTO:+0100
TZNAME:BST
DTSTART:20250330T010000
END:DAYLIGHT
BEGIN:STANDARD
TZOFFSETFROM:+0100
TZOFFSETTO:+0000
TZNAME:GMT
DTSTART:20251026T010000
END:STANDARD
BEGIN:DAYLIGHT
TZOFFSETFROM:+0000
TZOFFSETTO:+0100
TZNAME:BST
DTSTART:20260329T010000
END:DAYLIGHT
BEGIN:STANDARD
TZOFFSETFROM:+0100
TZOFFSETTO:+0000
TZNAME:GMT
DTSTART:20261025T010000
END:STANDARD
END:VTIMEZONE
BEGIN:VEVENT
DTSTART;TZID=Europe/London:20250125T103000
DTEND;TZID=Europe/London:20250125T120000
DTSTAMP:20260420T161011
CREATED:20230819T155822Z
LAST-MODIFIED:20250831T132807Z
UID:10008212-1737801000-1737806400@wimbledonvillage.com
SUMMARY:Wimbledon Common and Village Walk & Talk
DESCRIPTION:A free and fun ‘walk and talk’ every Saturday morning around Wimbledon Common and Wimbledon Village. \n  \nWalk and talks are a chance for all generations to take a stroll\, chat\, meet friends and neighbours\, make new friends and enjoy their local area and green spaces together. From older adults to young children\, from buggies to beagles – everybody can join in. \n  \nNo booking\, no reservations\, just turn up and you will get a very warm welcome. \n  \nWhen & Where: 10.30am at the Wimbledon War Memorial on The Green\, at the corner of Parkside and The Causeway.
URL:https://wimbledonvillage.com/event/weekly-walk-talk/2025-01-25/
ATTACH;FMTTYPE=image/jpeg:https://wimbledonvillage.com/wp-content/uploads/2023/08/Walk-Talk-Wimbledon-Common-walkers-on-a-sunny-day.jpg
END:VEVENT
BEGIN:VEVENT
DTSTART;TZID=Europe/London:20250125T090000
DTEND;TZID=Europe/London:20250125T100000
DTSTAMP:20260420T161011
CREATED:20230819T151954Z
LAST-MODIFIED:20250831T130729Z
UID:10007519-1737795600-1737799200@wimbledonvillage.com
SUMMARY:Wimbledon Common Parkrun
DESCRIPTION:A free\, fun\, and friendly weekly 5k community event. Participants can choose to walk\, jog\, run\, volunteer or just spectate. \n  \nThe run starts from near the Windmill car park every Saturday at 9am. \n  \nJoin other runners and supporters for a post run coffee at the Windmill Cafe.
URL:https://wimbledonvillage.com/event/wimbledon-common-park-run/2025-01-25/
ATTACH;FMTTYPE=image/jpeg:https://wimbledonvillage.com/wp-content/uploads/2023/08/Wimbledon-Common-Parkrun-runners-enjoying-the-course.jpg
END:VEVENT
BEGIN:VEVENT
DTSTART;TZID=Europe/London:20250125T080000
DTEND;TZID=Europe/London:20250125T170000
DTSTAMP:20260420T161011
CREATED:20250122T105433Z
LAST-MODIFIED:20250122T105433Z
UID:10004245-1737792000-1737824400@wimbledonvillage.com
SUMMARY:Burns Night at the Dog & Fox
DESCRIPTION:Celebrate Burns Night with a sumptuous five course Scottish-inspired menu\, with whisky pairings at the Dog & Fox for just £50 pp. View the menu \n  \nWhere & When: Dog & Fox\, Saturday 25th January\, 6 – 11 pm \n  \n 
URL:https://wimbledonvillage.com/event/burns-night-at-the-dog-fox-2/
ATTACH;FMTTYPE=image/png:https://wimbledonvillage.com/wp-content/uploads/2025/01/Screenshot-2025-01-07-at-22.45.3.png
END:VEVENT
BEGIN:VEVENT
DTSTART;TZID=Europe/London:20250125T080000
DTEND;TZID=Europe/London:20250125T170000
DTSTAMP:20260420T161012
CREATED:20250110T100742Z
LAST-MODIFIED:20250110T100846Z
UID:10004209-1737792000-1737824400@wimbledonvillage.com
SUMMARY:Burns Night @ The Black Lamb
DESCRIPTION:Enjoy a spectacular Burns Night feast at The Black Lamb. Their carefully crafted themed menu\, using only sustainably sourced\, local ingredients\, serves up a tasty four courses to include Haggis (pictured above)\, Cranachan and more\, all accompanied by a special whiskey partnership with Woven to elevate the experience. \n  \nWhere & When: The Black Lamb\, 67 High Street\, Wimbledon Village on Saturday 25th January from midday to 10pm. \n  \nPrice: £72pp for 4 courses and a welcome drink.
URL:https://wimbledonvillage.com/event/burns-night-the-black-lamb/
ATTACH;FMTTYPE=image/png:https://wimbledonvillage.com/wp-content/uploads/2025/01/Screenshot-2025-01-04-at-18.47.4.png
END:VEVENT
BEGIN:VEVENT
DTSTART;TZID=Europe/London:20250125T080000
DTEND;TZID=Europe/London:20250125T170000
DTSTAMP:20260420T161012
CREATED:20250104T165725Z
LAST-MODIFIED:20250104T165817Z
UID:10004186-1737792000-1737824400@wimbledonvillage.com
SUMMARY:Italy vs. France Wine Tasting @ Jeroboams
DESCRIPTION:There is no wine rivalry that has persisted longer than that between Italy and France. Featuring wines from these two big hitters of the wine world\, this tasting will pit some of the most famous regions on earth against each other in a thoroughly enjoyable face off. See how Tuscany compares to Bordeaux\, or how Piedmont shapes up against Burgundy (spoiler: all winners; no losers). \n  \nWhere & When: Jeroboams\, on Friday 25th January at 6 pm. \n  \nTickets: £35
URL:https://wimbledonvillage.com/event/italy-vs-france-wine-tasting-jeroboams/
ATTACH;FMTTYPE=image/jpeg:https://wimbledonvillage.com/wp-content/uploads/2025/01/https-cdn.evbuc_.com-images-926.jpg
END:VEVENT
BEGIN:VEVENT
DTSTART;TZID=Europe/London:20250125T080000
DTEND;TZID=Europe/London:20250125T170000
DTSTAMP:20260420T161012
CREATED:20241220T104753Z
LAST-MODIFIED:20241220T104841Z
UID:10004181-1737792000-1737824400@wimbledonvillage.com
SUMMARY:Merton Live 2025!
DESCRIPTION:Wimbledon Guild’s Merton Live is back for 2025 with more acts and more performers than ever before. Enjoy 12 incredible acts including award-winning dance\, stunning vocals\, and creative performances at this one day event in New Wimbledon Theatre. All proceeds from tickets and donations support Wimbledon Guild’s vital work across the borough. \n  \nWhere & When: New Wimbledon Theatre\, 93 The Broadway\, London SW19 1QG on 25th January\, 12 – 5 pm. \n  \nTickets: \n\n£8 for an Adult\n£6.50 for Under 16s\nFree for children under 3
URL:https://wimbledonvillage.com/event/merton-live-2025/
ATTACH;FMTTYPE=image/png:https://wimbledonvillage.com/wp-content/uploads/2024/12/3220.png
END:VEVENT
BEGIN:VEVENT
DTSTART;TZID=Europe/London:20250123T080000
DTEND;TZID=Europe/London:20250123T170000
DTSTAMP:20260420T161012
CREATED:20250110T083834Z
LAST-MODIFIED:20250110T095103Z
UID:10004208-1737619200-1737651600@wimbledonvillage.com
SUMMARY:Burns Night Whisky Masterclass @ Amathus
DESCRIPTION:Join Scotch Whiskeymakers Compass Box to discover a wealth of whisky flavour possibilities at this Burns’ Night Masterclass. You’ll taste and learn about five fabulous Compass Box blends – from the aptly named The Peat Monster to the richly complex Metropolis – accompanied by nibbles.  Sláinte Mhath! \n  \nWhere & When: Amathus\, Thursday 23rd January\, 6 – 7.30 pm. \n  \nTickets: £45pp
URL:https://wimbledonvillage.com/event/burns-night-whisky-masterclass-amathus/
ATTACH;FMTTYPE=image/jpeg:https://wimbledonvillage.com/wp-content/uploads/2025/01/https-cdn.evbuc_.com-images-931.jpg
END:VEVENT
BEGIN:VEVENT
DTSTART;TZID=Europe/London:20250122T190000
DTEND;TZID=Europe/London:20250122T220000
DTSTAMP:20260420T161012
CREATED:20240428T113530Z
LAST-MODIFIED:20250831T125653Z
UID:10006752-1737572400-1737583200@wimbledonvillage.com
SUMMARY:Pub Quiz @ The Dog & Fox
DESCRIPTION:Grab your team\, get your brain in gear and get quizzical at the Dog & Fox. \n  \nWhere & When: The Dog & Fox\, 24 High Street\, Wimbledon Village\, London SW19 5EA\, every Wednesday night\, 7 – 10 pm.
URL:https://wimbledonvillage.com/event/pub-quiz-the-dog-fox/2025-01-22/
ATTACH;FMTTYPE=image/png:https://wimbledonvillage.com/wp-content/uploads/2024/04/Dog-Fox-pub-quiz-image.png
END:VEVENT
BEGIN:VEVENT
DTSTART;TZID=Europe/London:20250122T080000
DTEND;TZID=Europe/London:20250122T170000
DTSTAMP:20260420T161012
CREATED:20250107T230038Z
LAST-MODIFIED:20250122T104551Z
UID:10004207-1737532800-1737565200@wimbledonvillage.com
SUMMARY:Early Burns Night Celebrations at the Dog & Fox
DESCRIPTION:Celebrate Burn’s Night early at the Dog as chef Hugh cooks up the finest Scottish specials and of course\, the whiskey will be flowing! They will even have a piper to kick off celebrations in style. \n  \nWhere & When: The Dog & Fox\, Wednesday 22nd January\, from 6 – 11 pm. \n  \nVisit the Dog & Fox website for booking and more information.
URL:https://wimbledonvillage.com/event/burns-night-at-the-dog-fox/
ATTACH;FMTTYPE=image/png:https://wimbledonvillage.com/wp-content/uploads/2025/01/Screenshot-2025-01-07-at-22.45.3.png
END:VEVENT
BEGIN:VEVENT
DTSTART;TZID=Europe/London:20250122T080000
DTEND;TZID=Europe/London:20250122T170000
DTSTAMP:20260420T161012
CREATED:20250107T224736Z
LAST-MODIFIED:20250122T110127Z
UID:10004206-1737532800-1737565200@wimbledonvillage.com
SUMMARY:Burns Night @ the Rose & Crown
DESCRIPTION:Head to the Rose for an unforgettable evening dedicated to the legendary Robert Burns! Enjoy a selection of exceptional Scottish wines plus some of the finest whiskies that Scotland has to offer\, and feast on a number of specially created dishes (see menu)\, all inspired by the rich flavours of Scotland. Enjoy a piper performance\, a short talk about whisky\, a whisky cocktail on arrival\, and the traditional ‘Address to a Haggis’ in the welcoming atmosphere of this fabulous local. \n  \nWhere & When: Rose & Crown\, Wednesday 22nd January from 7 – 11 pm. \n  \nBooking: Visit the Rose & Crown website for more information and booking.
URL:https://wimbledonvillage.com/event/burns-night-the-rose-crown/
ATTACH;FMTTYPE=image/png:https://wimbledonvillage.com/wp-content/uploads/2025/01/Screenshot-2025-01-07-at-22.45.3.png
END:VEVENT
BEGIN:VEVENT
DTSTART;TZID=Europe/London:20250121T193000
DTEND;TZID=Europe/London:20250121T224500
DTSTAMP:20260420T161012
CREATED:20240222T093828Z
LAST-MODIFIED:20250831T125428Z
UID:10002175-1737487800-1737499500@wimbledonvillage.com
SUMMARY:Pub Quiz @ The Rose & Crown
DESCRIPTION:Grab your cleverest pals & put your knowledge to the test with fantastic quiz master Duncan at the weekly Rose & Crown pub quiz. \n  \nWhere & When: The Rose & Crown\, 55 High Street\, Wimbledon Village\, London SW19 5BA\, every Tuesday from 7.30 – 10.45 pm (except during the Wimbledon tennis fortnight).
URL:https://wimbledonvillage.com/event/rose-crown-pub-quiz/2025-01-21/
ATTACH;FMTTYPE=image/jpeg:https://wimbledonvillage.com/wp-content/uploads/2023/08/Rose-Crown-pub-quiz-image.jpg
END:VEVENT
BEGIN:VEVENT
DTSTART;TZID=Europe/London:20250121T080000
DTEND;TZID=Europe/London:20250121T170000
DTSTAMP:20260420T161012
CREATED:20250104T183218Z
LAST-MODIFIED:20250104T183218Z
UID:10004202-1737446400-1737478800@wimbledonvillage.com
SUMMARY:Vineria Social Club: Exercise & Lunch
DESCRIPTION:Start Your Day with a Refreshing Workout! \nJoin experienced PT Bobby for an invigorating exercise session surrounded by the natural beauty of Wimbledon Common. Whether you’re a seasoned fitness enthusiast or just looking to move your body and enjoy the fresh air\, this session is suitable for all levels. Bobby will guide you through exercises designed to energise your day\, enhance your fitness and leave you feeling revitalised. \n  \nPost-Workout Treat at Table@Vallebona \nAfter your workout\, enjoy a light\, delicious lunch at the exclusive Vineria at Table@Vallebona. It’s the perfect way to unwind and refuel while enjoying the company of fellow participants. \n  \nWhere & When: Meet at 10.30 am @ Wimbledon Common (or if raining indoor at Vineria) followed by lunch at around 12.30 at Vineria. \n  \nTickets: £40pp
URL:https://wimbledonvillage.com/event/vineria-social-club-exercise-lunch/2025-01-21/
ATTACH;FMTTYPE=image/png:https://wimbledonvillage.com/wp-content/uploads/2025/01/Picture1.png
END:VEVENT
BEGIN:VEVENT
DTSTART;TZID=Europe/London:20250121T080000
DTEND;TZID=Europe/London:20250121T170000
DTSTAMP:20260420T161012
CREATED:20241127T092016Z
LAST-MODIFIED:20241127T092226Z
UID:10004156-1737446400-1737478800@wimbledonvillage.com
SUMMARY:Planet Art Pre-Schooler Club
DESCRIPTION:Planet Art aims to inspire the next generation of artists while teaching the importance of recycling\, reusing\, and caring for our amazing planet. This weekly session is designed just for preschoolers aged 2.5 to 4.5 years. Each class features playful\, exploratory crafting to help your little artist shine while building fine motor skills and social confidence. Your child will create a craft project to proudly take home every week. Each child must be accompanied by a responsible adult: parents\, carers\, and childcare professionals are all welcome. \n  \nWhen: Term time Tuesdays\, 2:00  – 2:45 pm \n  \nWhere: The Garden Hall\, St. Mary’s Church\, Wimbledon Village \n  \nPrice: £15 per session. £75 per half term (5 weeks). \n  \nSpaces are limited\, so book now to secure your spot!
URL:https://wimbledonvillage.com/event/planet-art-pre-schooler-club/2025-01-21/
ATTACH;FMTTYPE=image/jpeg:https://wimbledonvillage.com/wp-content/uploads/2024/11/Luca-kite-3.jpg
END:VEVENT
BEGIN:VEVENT
DTSTART;TZID=Europe/London:20250119T190000
DTEND;TZID=Europe/London:20250119T220000
DTSTAMP:20260420T161012
CREATED:20240108T125908Z
LAST-MODIFIED:20250831T125309Z
UID:10006399-1737313200-1737324000@wimbledonvillage.com
SUMMARY:Pub Quiz @ the Fire Stables
DESCRIPTION:Put your thinking hat on because this is a game for real players. Call your smartest friends and put together a winning team to answer questions about general knowledge\, music\, geography\, everything and nothing. A £50 bar tab is up for grabs each week. \n  \nWhere & When: Fire Stables\, every Sunday from 7 – 10 pm.
URL:https://wimbledonvillage.com/event/pub-quiz-the-fire-stables/2025-01-19/
ATTACH;FMTTYPE=image/jpeg:https://wimbledonvillage.com/wp-content/uploads/2024/01/rsz_pexels-elevate-1269025.jpg
END:VEVENT
BEGIN:VEVENT
DTSTART;TZID=Europe/London:20250119T100000
DTEND;TZID=Europe/London:20250119T150000
DTSTAMP:20260420T161012
CREATED:20230819T162853Z
LAST-MODIFIED:20250831T125135Z
UID:10005707-1737280800-1737298800@wimbledonvillage.com
SUMMARY:Wimbledon Village Farmers' Market
DESCRIPTION:The Village Farmers’ Market serves up a range of fabulous farm fresh and local products along with a varied offering of ready to eat goodies every Sunday from 10am to 3pm on the Village High Street. Stalls rotate each week. \n  \nFollow The Wimbledon Village Farmers’ Market on Instagram or Facebook for more details.
URL:https://wimbledonvillage.com/event/wimbledon-village-farmers-market/2025-01-19/
ATTACH;FMTTYPE=image/jpeg:https://wimbledonvillage.com/wp-content/uploads/2023/08/Farmers-Market-vegetables.jpg
END:VEVENT
BEGIN:VEVENT
DTSTART;TZID=Europe/London:20250119T080000
DTEND;TZID=Europe/London:20250119T170000
DTSTAMP:20260420T161012
CREATED:20250104T180826Z
LAST-MODIFIED:20250104T180826Z
UID:10004201-1737273600-1737306000@wimbledonvillage.com
SUMMARY:Puppy Yoga @ the Dog & Fox
DESCRIPTION:Enjoy some yoga\, brunch and a glass of bubbles or a mimosa to really kick off your Sunday in the best way possible at this puppy yoga event. \n  \nWhere & When: Dog & Fox\, Sunday 19th January. Two sessions: 9 – 10 am and 10.15 – 11.15 am. \n  \nTickets: £70
URL:https://wimbledonvillage.com/event/puppy-yoga-the-dog-fox/
ATTACH;FMTTYPE=image/png:https://wimbledonvillage.com/wp-content/uploads/2025/01/Screenshot-2025-01-04-at-17.58.3.png
END:VEVENT
BEGIN:VEVENT
DTSTART;TZID=Europe/London:20250118T103000
DTEND;TZID=Europe/London:20250118T120000
DTSTAMP:20260420T161012
CREATED:20230819T155822Z
LAST-MODIFIED:20250831T132807Z
UID:10008211-1737196200-1737201600@wimbledonvillage.com
SUMMARY:Wimbledon Common and Village Walk & Talk
DESCRIPTION:A free and fun ‘walk and talk’ every Saturday morning around Wimbledon Common and Wimbledon Village. \n  \nWalk and talks are a chance for all generations to take a stroll\, chat\, meet friends and neighbours\, make new friends and enjoy their local area and green spaces together. From older adults to young children\, from buggies to beagles – everybody can join in. \n  \nNo booking\, no reservations\, just turn up and you will get a very warm welcome. \n  \nWhen & Where: 10.30am at the Wimbledon War Memorial on The Green\, at the corner of Parkside and The Causeway.
URL:https://wimbledonvillage.com/event/weekly-walk-talk/2025-01-18/
ATTACH;FMTTYPE=image/jpeg:https://wimbledonvillage.com/wp-content/uploads/2023/08/Walk-Talk-Wimbledon-Common-walkers-on-a-sunny-day.jpg
END:VEVENT
BEGIN:VEVENT
DTSTART;TZID=Europe/London:20250118T090000
DTEND;TZID=Europe/London:20250118T100000
DTSTAMP:20260420T161012
CREATED:20230819T151954Z
LAST-MODIFIED:20250831T130729Z
UID:10007518-1737190800-1737194400@wimbledonvillage.com
SUMMARY:Wimbledon Common Parkrun
DESCRIPTION:A free\, fun\, and friendly weekly 5k community event. Participants can choose to walk\, jog\, run\, volunteer or just spectate. \n  \nThe run starts from near the Windmill car park every Saturday at 9am. \n  \nJoin other runners and supporters for a post run coffee at the Windmill Cafe.
URL:https://wimbledonvillage.com/event/wimbledon-common-park-run/2025-01-18/
ATTACH;FMTTYPE=image/jpeg:https://wimbledonvillage.com/wp-content/uploads/2023/08/Wimbledon-Common-Parkrun-runners-enjoying-the-course.jpg
END:VEVENT
BEGIN:VEVENT
DTSTART;TZID=Europe/London:20250118T080000
DTEND;TZID=Europe/London:20250118T170000
DTSTAMP:20260420T161012
CREATED:20240923T151431Z
LAST-MODIFIED:20240923T151431Z
UID:10003480-1737187200-1737219600@wimbledonvillage.com
SUMMARY:Wimbledon National Trust Association Talk: Pubs of Wimbledon Town
DESCRIPTION:Clive Wicklow gives a talk on ‘Pubs of Wimbledon Town (Past & Present)’  \n  \nWhen & Where:  Wimbledon National Trust Association lectures are held at 3pm once a month on Saturday afternoons in the autumn and winter/spring at Christ Church Hall\, 2a Cottenham Park Road\, London\, SW20 0RZ. Tea/coffee and biscuits are served from 2.30 pm. \n  \nCost: WNTA members £4.00 Non members £4.50. Tea/coffee & biscuits 50p.
URL:https://wimbledonvillage.com/event/wimbledon-national-trust-association-talk-pubs-of-wimbledon-town/
ATTACH;FMTTYPE=image/jpeg:https://wimbledonvillage.com/wp-content/uploads/2023/08/National-Trust-Logo-white-on-purple.jpg
END:VEVENT
BEGIN:VEVENT
DTSTART;TZID=Europe/London:20250117T080000
DTEND;TZID=Europe/London:20250117T170000
DTSTAMP:20260420T161012
CREATED:20250104T164645Z
LAST-MODIFIED:20250104T164645Z
UID:10004185-1737100800-1737133200@wimbledonvillage.com
SUMMARY:Explore America Wine Tasting @ Jeroboams
DESCRIPTION:This tasting will take you on a tour around West Coast America\, exploring styles from cool-climate Pinot Noir\, to quirky Grenache and Petit Sirah\, to opulent Zinfandel\, highlighting the massive diversity of styles across the States. This is a great opportunity to try some very impressive wines which are often overlooked here in the UK. \n  \nWhere & When: Jeroboams\, on Friday 17th January at 6 pm. \n  \nTickets: £30 each.
URL:https://wimbledonvillage.com/event/explore-america-wine-tasting-jeroboams/
ATTACH;FMTTYPE=image/jpeg:https://wimbledonvillage.com/wp-content/uploads/2025/01/https-cdn.evbuc_.com-images-925.jpg
END:VEVENT
BEGIN:VEVENT
DTSTART;TZID=Europe/London:20250115T190000
DTEND;TZID=Europe/London:20250115T220000
DTSTAMP:20260420T161012
CREATED:20240428T113530Z
LAST-MODIFIED:20250831T125653Z
UID:10006751-1736967600-1736978400@wimbledonvillage.com
SUMMARY:Pub Quiz @ The Dog & Fox
DESCRIPTION:Grab your team\, get your brain in gear and get quizzical at the Dog & Fox. \n  \nWhere & When: The Dog & Fox\, 24 High Street\, Wimbledon Village\, London SW19 5EA\, every Wednesday night\, 7 – 10 pm.
URL:https://wimbledonvillage.com/event/pub-quiz-the-dog-fox/2025-01-15/
ATTACH;FMTTYPE=image/png:https://wimbledonvillage.com/wp-content/uploads/2024/04/Dog-Fox-pub-quiz-image.png
END:VEVENT
BEGIN:VEVENT
DTSTART;TZID=Europe/London:20250114T193000
DTEND;TZID=Europe/London:20250114T224500
DTSTAMP:20260420T161012
CREATED:20240222T093828Z
LAST-MODIFIED:20250831T125428Z
UID:10002174-1736883000-1736894700@wimbledonvillage.com
SUMMARY:Pub Quiz @ The Rose & Crown
DESCRIPTION:Grab your cleverest pals & put your knowledge to the test with fantastic quiz master Duncan at the weekly Rose & Crown pub quiz. \n  \nWhere & When: The Rose & Crown\, 55 High Street\, Wimbledon Village\, London SW19 5BA\, every Tuesday from 7.30 – 10.45 pm (except during the Wimbledon tennis fortnight).
URL:https://wimbledonvillage.com/event/rose-crown-pub-quiz/2025-01-14/
ATTACH;FMTTYPE=image/jpeg:https://wimbledonvillage.com/wp-content/uploads/2023/08/Rose-Crown-pub-quiz-image.jpg
END:VEVENT
BEGIN:VEVENT
DTSTART;TZID=Europe/London:20250114T080000
DTEND;TZID=Europe/London:20250114T170000
DTSTAMP:20260420T161012
CREATED:20241127T092016Z
LAST-MODIFIED:20241127T092226Z
UID:10004155-1736841600-1736874000@wimbledonvillage.com
SUMMARY:Planet Art Pre-Schooler Club
DESCRIPTION:Planet Art aims to inspire the next generation of artists while teaching the importance of recycling\, reusing\, and caring for our amazing planet. This weekly session is designed just for preschoolers aged 2.5 to 4.5 years. Each class features playful\, exploratory crafting to help your little artist shine while building fine motor skills and social confidence. Your child will create a craft project to proudly take home every week. Each child must be accompanied by a responsible adult: parents\, carers\, and childcare professionals are all welcome. \n  \nWhen: Term time Tuesdays\, 2:00  – 2:45 pm \n  \nWhere: The Garden Hall\, St. Mary’s Church\, Wimbledon Village \n  \nPrice: £15 per session. £75 per half term (5 weeks). \n  \nSpaces are limited\, so book now to secure your spot!
URL:https://wimbledonvillage.com/event/planet-art-pre-schooler-club/2025-01-14/
ATTACH;FMTTYPE=image/jpeg:https://wimbledonvillage.com/wp-content/uploads/2024/11/Luca-kite-3.jpg
END:VEVENT
BEGIN:VEVENT
DTSTART;TZID=Europe/London:20250112T190000
DTEND;TZID=Europe/London:20250112T220000
DTSTAMP:20260420T161012
CREATED:20240108T125908Z
LAST-MODIFIED:20250831T125309Z
UID:10006398-1736708400-1736719200@wimbledonvillage.com
SUMMARY:Pub Quiz @ the Fire Stables
DESCRIPTION:Put your thinking hat on because this is a game for real players. Call your smartest friends and put together a winning team to answer questions about general knowledge\, music\, geography\, everything and nothing. A £50 bar tab is up for grabs each week. \n  \nWhere & When: Fire Stables\, every Sunday from 7 – 10 pm.
URL:https://wimbledonvillage.com/event/pub-quiz-the-fire-stables/2025-01-12/
ATTACH;FMTTYPE=image/jpeg:https://wimbledonvillage.com/wp-content/uploads/2024/01/rsz_pexels-elevate-1269025.jpg
END:VEVENT
BEGIN:VEVENT
DTSTART;TZID=Europe/London:20250112T100000
DTEND;TZID=Europe/London:20250112T150000
DTSTAMP:20260420T161012
CREATED:20230819T162853Z
LAST-MODIFIED:20250831T125135Z
UID:10005706-1736676000-1736694000@wimbledonvillage.com
SUMMARY:Wimbledon Village Farmers' Market
DESCRIPTION:The Village Farmers’ Market serves up a range of fabulous farm fresh and local products along with a varied offering of ready to eat goodies every Sunday from 10am to 3pm on the Village High Street. Stalls rotate each week. \n  \nFollow The Wimbledon Village Farmers’ Market on Instagram or Facebook for more details.
URL:https://wimbledonvillage.com/event/wimbledon-village-farmers-market/2025-01-12/
ATTACH;FMTTYPE=image/jpeg:https://wimbledonvillage.com/wp-content/uploads/2023/08/Farmers-Market-vegetables.jpg
END:VEVENT
BEGIN:VEVENT
DTSTART;TZID=Europe/London:20250112T080000
DTEND;TZID=Europe/London:20250202T170000
DTSTAMP:20260420T161012
CREATED:20250104T171927Z
LAST-MODIFIED:20250112T083009Z
UID:10004200-1736668800-1738515600@wimbledonvillage.com
SUMMARY:Scottish Exhibition 2025 @ Wimbledon Fine Art
DESCRIPTION:Wimbledon Fine Art\, in association with Stafford Gallery\, hosts an exhibition of works from an exciting mix of Scottish contemporary artists. Pictured: Lily Pond\, Shades of Sunset by Jack Morrocco. Oil on canvas 91 x 122 cms. \n  \nWhere & When: Wimbledon Fine Art from 12th January to 2nd February \n  \nPrivate View: 12 – 3 pm on Sunday 12th January
URL:https://wimbledonvillage.com/event/scottish-exhibition-2025-wimbledon-fine-art/
ATTACH;FMTTYPE=image/jpeg:https://wimbledonvillage.com/wp-content/uploads/2025/01/5cb51f205108de39dc2605c363d2850b.jpg
END:VEVENT
BEGIN:VEVENT
DTSTART;TZID=Europe/London:20250112T080000
DTEND;TZID=Europe/London:20250112T170000
DTSTAMP:20260420T161012
CREATED:20241025T100406Z
LAST-MODIFIED:20241025T100611Z
UID:10003511-1736668800-1736701200@wimbledonvillage.com
SUMMARY:Little Teds Family Session @ Wimbledon Museum
DESCRIPTION:Discover the wonders of Wimbledon Museum through storytelling\, music and arts and crafts.  This fun-filled session features songs\, stories and activities to entertain and inform the youngest visitors! \n  \nWhere & When: Wimbledon Museum\, on Sunday 12th January\, from 10.00  to 10.45 am \n  \nTickets: £5 plus booking fee.  Adults do not need to buy tickets\, but there must be a minimum of one adult present per two children.
URL:https://wimbledonvillage.com/event/little-teds-family-session-wimbledon-museum/
ATTACH;FMTTYPE=image/jpeg:https://wimbledonvillage.com/wp-content/uploads/2024/10/https-cdn.evbuc_.com-images-848.jpg
END:VEVENT
BEGIN:VEVENT
DTSTART;TZID=Europe/London:20250111T103000
DTEND;TZID=Europe/London:20250111T120000
DTSTAMP:20260420T161012
CREATED:20230819T155822Z
LAST-MODIFIED:20250831T132807Z
UID:10008210-1736591400-1736596800@wimbledonvillage.com
SUMMARY:Wimbledon Common and Village Walk & Talk
DESCRIPTION:A free and fun ‘walk and talk’ every Saturday morning around Wimbledon Common and Wimbledon Village. \n  \nWalk and talks are a chance for all generations to take a stroll\, chat\, meet friends and neighbours\, make new friends and enjoy their local area and green spaces together. From older adults to young children\, from buggies to beagles – everybody can join in. \n  \nNo booking\, no reservations\, just turn up and you will get a very warm welcome. \n  \nWhen & Where: 10.30am at the Wimbledon War Memorial on The Green\, at the corner of Parkside and The Causeway.
URL:https://wimbledonvillage.com/event/weekly-walk-talk/2025-01-11/
ATTACH;FMTTYPE=image/jpeg:https://wimbledonvillage.com/wp-content/uploads/2023/08/Walk-Talk-Wimbledon-Common-walkers-on-a-sunny-day.jpg
END:VEVENT
BEGIN:VEVENT
DTSTART;TZID=Europe/London:20250111T090000
DTEND;TZID=Europe/London:20250111T100000
DTSTAMP:20260420T161012
CREATED:20230819T151954Z
LAST-MODIFIED:20250831T130729Z
UID:10007517-1736586000-1736589600@wimbledonvillage.com
SUMMARY:Wimbledon Common Parkrun
DESCRIPTION:A free\, fun\, and friendly weekly 5k community event. Participants can choose to walk\, jog\, run\, volunteer or just spectate. \n  \nThe run starts from near the Windmill car park every Saturday at 9am. \n  \nJoin other runners and supporters for a post run coffee at the Windmill Cafe.
URL:https://wimbledonvillage.com/event/wimbledon-common-park-run/2025-01-11/
ATTACH;FMTTYPE=image/jpeg:https://wimbledonvillage.com/wp-content/uploads/2023/08/Wimbledon-Common-Parkrun-runners-enjoying-the-course.jpg
END:VEVENT
BEGIN:VEVENT
DTSTART;TZID=Europe/London:20250111T080000
DTEND;TZID=Europe/London:20250111T170000
DTSTAMP:20260420T161012
CREATED:20240414T092931Z
LAST-MODIFIED:20250831T134400Z
UID:10004344-1736582400-1736614800@wimbledonvillage.com
SUMMARY:Wimbledon Village Stables Open Day
DESCRIPTION:On the second Saturday of every month\, the Stables invites visitors to explore the yard\, meet the horses\, and see how everything runs behind the scenes. \n  \nIt’s a great opportunity to learn about membership options\, and see the Equicise horse simulator\, designed for all ages and abilities. Plus children will love meeting Mr Fudge\, the friendly Shetland pony!  \n  \nWhere & When: Wimbledon Village Stables\, 24 A/B\, High St\, Wimbledon Village\, London SW19 5DX\, second Saturday of every month\, from 2 – 3 pm. \n  \nBooking: No booking required—just turn up and enjoy a relaxed\, informative afternoon.
URL:https://wimbledonvillage.com/event/wimbledon-village-stables-open-afternoons/2025-01-11/
ATTACH;FMTTYPE=image/jpeg:https://wimbledonvillage.com/wp-content/uploads/2025/03/IMG_7836.jpg
END:VEVENT
END:VCALENDAR