BEGIN:VCALENDAR
VERSION:2.0
PRODID:-//Wimbledon Village - ECPv6.15.20//NONSGML v1.0//EN
CALSCALE:GREGORIAN
METHOD:PUBLISH
X-WR-CALNAME:Wimbledon Village
X-ORIGINAL-URL:https://wimbledonvillage.com
X-WR-CALDESC:Events for Wimbledon Village
REFRESH-INTERVAL;VALUE=DURATION:PT1H
X-Robots-Tag:noindex
X-PUBLISHED-TTL:PT1H
BEGIN:VTIMEZONE
TZID:Europe/London
BEGIN:DAYLIGHT
TZOFFSETFROM:+0000
TZOFFSETTO:+0100
TZNAME:BST
DTSTART:20230326T010000
END:DAYLIGHT
BEGIN:STANDARD
TZOFFSETFROM:+0100
TZOFFSETTO:+0000
TZNAME:GMT
DTSTART:20231029T010000
END:STANDARD
BEGIN:DAYLIGHT
TZOFFSETFROM:+0000
TZOFFSETTO:+0100
TZNAME:BST
DTSTART:20240331T010000
END:DAYLIGHT
BEGIN:STANDARD
TZOFFSETFROM:+0100
TZOFFSETTO:+0000
TZNAME:GMT
DTSTART:20241027T010000
END:STANDARD
BEGIN:DAYLIGHT
TZOFFSETFROM:+0000
TZOFFSETTO:+0100
TZNAME:BST
DTSTART:20250330T010000
END:DAYLIGHT
BEGIN:STANDARD
TZOFFSETFROM:+0100
TZOFFSETTO:+0000
TZNAME:GMT
DTSTART:20251026T010000
END:STANDARD
BEGIN:DAYLIGHT
TZOFFSETFROM:+0000
TZOFFSETTO:+0100
TZNAME:BST
DTSTART:20260329T010000
END:DAYLIGHT
BEGIN:STANDARD
TZOFFSETFROM:+0100
TZOFFSETTO:+0000
TZNAME:GMT
DTSTART:20261025T010000
END:STANDARD
END:VTIMEZONE
BEGIN:VEVENT
DTSTART;TZID=Europe/London:20250104T090000
DTEND;TZID=Europe/London:20250104T100000
DTSTAMP:20260422T130818
CREATED:20230819T151954Z
LAST-MODIFIED:20250831T130729Z
UID:10007516-1735981200-1735984800@wimbledonvillage.com
SUMMARY:Wimbledon Common Parkrun
DESCRIPTION:A free\, fun\, and friendly weekly 5k community event. Participants can choose to walk\, jog\, run\, volunteer or just spectate. \n  \nThe run starts from near the Windmill car park every Saturday at 9am. \n  \nJoin other runners and supporters for a post run coffee at the Windmill Cafe.
URL:https://wimbledonvillage.com/event/wimbledon-common-park-run/2025-01-04/
ATTACH;FMTTYPE=image/jpeg:https://wimbledonvillage.com/wp-content/uploads/2023/08/Wimbledon-Common-Parkrun-runners-enjoying-the-course.jpg
END:VEVENT
BEGIN:VEVENT
DTSTART;TZID=Europe/London:20250101T190000
DTEND;TZID=Europe/London:20250101T220000
DTSTAMP:20260422T130819
CREATED:20240428T113530Z
LAST-MODIFIED:20250831T125653Z
UID:10006749-1735758000-1735768800@wimbledonvillage.com
SUMMARY:Pub Quiz @ The Dog & Fox
DESCRIPTION:Grab your team\, get your brain in gear and get quizzical at the Dog & Fox. \n  \nWhere & When: The Dog & Fox\, 24 High Street\, Wimbledon Village\, London SW19 5EA\, every Wednesday night\, 7 – 10 pm.
URL:https://wimbledonvillage.com/event/pub-quiz-the-dog-fox/2025-01-01/
ATTACH;FMTTYPE=image/png:https://wimbledonvillage.com/wp-content/uploads/2024/04/Dog-Fox-pub-quiz-image.png
END:VEVENT
BEGIN:VEVENT
DTSTART;TZID=Europe/London:20241231T193000
DTEND;TZID=Europe/London:20241231T224500
DTSTAMP:20260422T130819
CREATED:20240222T093828Z
LAST-MODIFIED:20250831T125428Z
UID:10002172-1735673400-1735685100@wimbledonvillage.com
SUMMARY:Pub Quiz @ The Rose & Crown
DESCRIPTION:Grab your cleverest pals & put your knowledge to the test with fantastic quiz master Duncan at the weekly Rose & Crown pub quiz. \n  \nWhere & When: The Rose & Crown\, 55 High Street\, Wimbledon Village\, London SW19 5BA\, every Tuesday from 7.30 – 10.45 pm (except during the Wimbledon tennis fortnight).
URL:https://wimbledonvillage.com/event/rose-crown-pub-quiz/2024-12-31/
ATTACH;FMTTYPE=image/jpeg:https://wimbledonvillage.com/wp-content/uploads/2023/08/Rose-Crown-pub-quiz-image.jpg
END:VEVENT
BEGIN:VEVENT
DTSTART;TZID=Europe/London:20241231T080000
DTEND;TZID=Europe/London:20241231T170000
DTSTAMP:20260422T130819
CREATED:20241226T101358Z
LAST-MODIFIED:20241226T101358Z
UID:10004184-1735632000-1735664400@wimbledonvillage.com
SUMMARY:NYE Party @ the Rose & Crown
DESCRIPTION:Enjoy a warm welcome and dance the night away to a kicking live band from 9.30 pm at this friendly local. \n  \nWhere & When: Rose & Crown\, pub open 12 pm NYE – 1 am NYD. Live band from 9.30 pm. \n  \nTickets: Not required. Entry before 9 pm is FREE. \n  \n  \n  \n 
URL:https://wimbledonvillage.com/event/nye-party-the-rose-crown/
ATTACH;FMTTYPE=image/png:https://wimbledonvillage.com/wp-content/uploads/2024/12/Screenshot-2024-12-26-at-10.11.2.png
END:VEVENT
BEGIN:VEVENT
DTSTART;TZID=Europe/London:20241231T080000
DTEND;TZID=Europe/London:20241231T170000
DTSTAMP:20260422T130819
CREATED:20241226T100416Z
LAST-MODIFIED:20241226T100416Z
UID:10004183-1735632000-1735664400@wimbledonvillage.com
SUMMARY:NYE Party @ the Dog & Fox
DESCRIPTION:Enjoy great food and a fab party at the Dog & Fox this NYE. Feast on a special 5 course menu and then bop till you drop to the sounds of local favourite band Coot who will be playing all your NYE essential hits. \n  \nWhere & When: Dog & Fox\, 31st December. Dinner available from 8pm. Open until 1am on New Year’s Day. \n  \nBooking: https://www.dogandfoxwimbledon.co.uk/
URL:https://wimbledonvillage.com/event/nye-party-the-dog-fox/
ATTACH;FMTTYPE=image/png:https://wimbledonvillage.com/wp-content/uploads/2024/12/Screenshot-2024-12-26-at-09.51.3.png
END:VEVENT
BEGIN:VEVENT
DTSTART;TZID=Europe/London:20241229T190000
DTEND;TZID=Europe/London:20241229T220000
DTSTAMP:20260422T130819
CREATED:20240108T125908Z
LAST-MODIFIED:20250831T125309Z
UID:10006396-1735498800-1735509600@wimbledonvillage.com
SUMMARY:Pub Quiz @ the Fire Stables
DESCRIPTION:Put your thinking hat on because this is a game for real players. Call your smartest friends and put together a winning team to answer questions about general knowledge\, music\, geography\, everything and nothing. A £50 bar tab is up for grabs each week. \n  \nWhere & When: Fire Stables\, every Sunday from 7 – 10 pm.
URL:https://wimbledonvillage.com/event/pub-quiz-the-fire-stables/2024-12-29/
ATTACH;FMTTYPE=image/jpeg:https://wimbledonvillage.com/wp-content/uploads/2024/01/rsz_pexels-elevate-1269025.jpg
END:VEVENT
BEGIN:VEVENT
DTSTART;TZID=Europe/London:20241229T100000
DTEND;TZID=Europe/London:20241229T150000
DTSTAMP:20260422T130819
CREATED:20230819T162853Z
LAST-MODIFIED:20250831T125135Z
UID:10005704-1735466400-1735484400@wimbledonvillage.com
SUMMARY:Wimbledon Village Farmers' Market
DESCRIPTION:The Village Farmers’ Market serves up a range of fabulous farm fresh and local products along with a varied offering of ready to eat goodies every Sunday from 10am to 3pm on the Village High Street. Stalls rotate each week. \n  \nFollow The Wimbledon Village Farmers’ Market on Instagram or Facebook for more details.
URL:https://wimbledonvillage.com/event/wimbledon-village-farmers-market/2024-12-29/
ATTACH;FMTTYPE=image/jpeg:https://wimbledonvillage.com/wp-content/uploads/2023/08/Farmers-Market-vegetables.jpg
END:VEVENT
BEGIN:VEVENT
DTSTART;TZID=Europe/London:20241228T103000
DTEND;TZID=Europe/London:20241228T120000
DTSTAMP:20260422T130819
CREATED:20230819T155822Z
LAST-MODIFIED:20250831T132807Z
UID:10008208-1735381800-1735387200@wimbledonvillage.com
SUMMARY:Wimbledon Common and Village Walk & Talk
DESCRIPTION:A free and fun ‘walk and talk’ every Saturday morning around Wimbledon Common and Wimbledon Village. \n  \nWalk and talks are a chance for all generations to take a stroll\, chat\, meet friends and neighbours\, make new friends and enjoy their local area and green spaces together. From older adults to young children\, from buggies to beagles – everybody can join in. \n  \nNo booking\, no reservations\, just turn up and you will get a very warm welcome. \n  \nWhen & Where: 10.30am at the Wimbledon War Memorial on The Green\, at the corner of Parkside and The Causeway.
URL:https://wimbledonvillage.com/event/weekly-walk-talk/2024-12-28/
ATTACH;FMTTYPE=image/jpeg:https://wimbledonvillage.com/wp-content/uploads/2023/08/Walk-Talk-Wimbledon-Common-walkers-on-a-sunny-day.jpg
END:VEVENT
BEGIN:VEVENT
DTSTART;TZID=Europe/London:20241228T090000
DTEND;TZID=Europe/London:20241228T100000
DTSTAMP:20260422T130819
CREATED:20230819T151954Z
LAST-MODIFIED:20250831T130729Z
UID:10007515-1735376400-1735380000@wimbledonvillage.com
SUMMARY:Wimbledon Common Parkrun
DESCRIPTION:A free\, fun\, and friendly weekly 5k community event. Participants can choose to walk\, jog\, run\, volunteer or just spectate. \n  \nThe run starts from near the Windmill car park every Saturday at 9am. \n  \nJoin other runners and supporters for a post run coffee at the Windmill Cafe.
URL:https://wimbledonvillage.com/event/wimbledon-common-park-run/2024-12-28/
ATTACH;FMTTYPE=image/jpeg:https://wimbledonvillage.com/wp-content/uploads/2023/08/Wimbledon-Common-Parkrun-runners-enjoying-the-course.jpg
END:VEVENT
BEGIN:VEVENT
DTSTART;TZID=Europe/London:20241228T080000
DTEND;TZID=Europe/London:20241228T170000
DTSTAMP:20260422T130819
CREATED:20241220T102043Z
LAST-MODIFIED:20241220T102203Z
UID:10004177-1735372800-1735405200@wimbledonvillage.com
SUMMARY:Fizztivity @ Amathus!
DESCRIPTION:It wouldn’t be New Year’s Eve without the fizz! But which style is right for you? At this event you’ll explore the different methods of making sparkling wine\, and the aroma and taste profiles they create. From Lambrusco to Champagne\, you’ll sample six sparkling wines. The only question is – which one will you choose to ring in 2025? \n  \nWhere & When: Amathus\, Saturday 28th December\, 12pm to 7pm. \n  \n£/Booking: Free event. Book using the link below.
URL:https://wimbledonvillage.com/event/fizztivity-amathus/
ATTACH;FMTTYPE=image/jpeg:https://wimbledonvillage.com/wp-content/uploads/2024/12/https-cdn.evbuc_.com-images-909.jpg
END:VEVENT
BEGIN:VEVENT
DTSTART;TZID=Europe/London:20241225T190000
DTEND;TZID=Europe/London:20241225T220000
DTSTAMP:20260422T130819
CREATED:20240428T113530Z
LAST-MODIFIED:20250831T125653Z
UID:10006748-1735153200-1735164000@wimbledonvillage.com
SUMMARY:Pub Quiz @ The Dog & Fox
DESCRIPTION:Grab your team\, get your brain in gear and get quizzical at the Dog & Fox. \n  \nWhere & When: The Dog & Fox\, 24 High Street\, Wimbledon Village\, London SW19 5EA\, every Wednesday night\, 7 – 10 pm.
URL:https://wimbledonvillage.com/event/pub-quiz-the-dog-fox/2024-12-25/
ATTACH;FMTTYPE=image/png:https://wimbledonvillage.com/wp-content/uploads/2024/04/Dog-Fox-pub-quiz-image.png
END:VEVENT
BEGIN:VEVENT
DTSTART;TZID=Europe/London:20241224T193000
DTEND;TZID=Europe/London:20241224T224500
DTSTAMP:20260422T130819
CREATED:20240222T093828Z
LAST-MODIFIED:20250831T125428Z
UID:10002171-1735068600-1735080300@wimbledonvillage.com
SUMMARY:Pub Quiz @ The Rose & Crown
DESCRIPTION:Grab your cleverest pals & put your knowledge to the test with fantastic quiz master Duncan at the weekly Rose & Crown pub quiz. \n  \nWhere & When: The Rose & Crown\, 55 High Street\, Wimbledon Village\, London SW19 5BA\, every Tuesday from 7.30 – 10.45 pm (except during the Wimbledon tennis fortnight).
URL:https://wimbledonvillage.com/event/rose-crown-pub-quiz/2024-12-24/
ATTACH;FMTTYPE=image/jpeg:https://wimbledonvillage.com/wp-content/uploads/2023/08/Rose-Crown-pub-quiz-image.jpg
END:VEVENT
BEGIN:VEVENT
DTSTART;TZID=Europe/London:20241223T080000
DTEND;TZID=Europe/London:20241223T170000
DTSTAMP:20260422T130819
CREATED:20241220T101000Z
LAST-MODIFIED:20241220T101114Z
UID:10004176-1734940800-1734973200@wimbledonvillage.com
SUMMARY:Christmas Carols with St Mary's Choir
DESCRIPTION:Enjoy festive music and mulled wine as the community comes together to sing classic Christmas carols next to a roaring fire. It’s a way to celebrate the season with family\, friends\, and neighbours. \n  \nWhere & When: The Rose & Crown on Monday 23rd December from 6:30pm – 9:00pm. \n  \nBooking: Not required. Free event.
URL:https://wimbledonvillage.com/event/christmas-carols-with-st-marys-choir/
ATTACH;FMTTYPE=image/jpeg:https://wimbledonvillage.com/wp-content/uploads/2024/12/mariana-b-iKHXbvNHXPQ-unsplash.jpg
END:VEVENT
BEGIN:VEVENT
DTSTART;TZID=Europe/London:20241222T190000
DTEND;TZID=Europe/London:20241222T220000
DTSTAMP:20260422T130819
CREATED:20240108T125908Z
LAST-MODIFIED:20250831T125309Z
UID:10006395-1734894000-1734904800@wimbledonvillage.com
SUMMARY:Pub Quiz @ the Fire Stables
DESCRIPTION:Put your thinking hat on because this is a game for real players. Call your smartest friends and put together a winning team to answer questions about general knowledge\, music\, geography\, everything and nothing. A £50 bar tab is up for grabs each week. \n  \nWhere & When: Fire Stables\, every Sunday from 7 – 10 pm.
URL:https://wimbledonvillage.com/event/pub-quiz-the-fire-stables/2024-12-22/
ATTACH;FMTTYPE=image/jpeg:https://wimbledonvillage.com/wp-content/uploads/2024/01/rsz_pexels-elevate-1269025.jpg
END:VEVENT
BEGIN:VEVENT
DTSTART;TZID=Europe/London:20241222T100000
DTEND;TZID=Europe/London:20241222T150000
DTSTAMP:20260422T130819
CREATED:20230819T162853Z
LAST-MODIFIED:20250831T125135Z
UID:10005703-1734861600-1734879600@wimbledonvillage.com
SUMMARY:Wimbledon Village Farmers' Market
DESCRIPTION:The Village Farmers’ Market serves up a range of fabulous farm fresh and local products along with a varied offering of ready to eat goodies every Sunday from 10am to 3pm on the Village High Street. Stalls rotate each week. \n  \nFollow The Wimbledon Village Farmers’ Market on Instagram or Facebook for more details.
URL:https://wimbledonvillage.com/event/wimbledon-village-farmers-market/2024-12-22/
ATTACH;FMTTYPE=image/jpeg:https://wimbledonvillage.com/wp-content/uploads/2023/08/Farmers-Market-vegetables.jpg
END:VEVENT
BEGIN:VEVENT
DTSTART;TZID=Europe/London:20241222T080000
DTEND;TZID=Europe/London:20241222T170000
DTSTAMP:20260422T130819
CREATED:20241220T110547Z
LAST-MODIFIED:20241220T110615Z
UID:10004182-1734854400-1734886800@wimbledonvillage.com
SUMMARY:Cheese & Wine (and art!) at Ad Lib
DESCRIPTION:View a fantastic collection of artworks by highly sought-after local & national artists and enjoy complimentary wine & cheese. \n  \nWhere & When: Ad Lib Gallery\, Sunday 22nd December from 2 – 4 pm \n  \nBooking: Not required. Free event.
URL:https://wimbledonvillage.com/event/cheese-wine-and-art-at-ad-lib/
ATTACH;FMTTYPE=image/jpeg:https://wimbledonvillage.com/wp-content/uploads/2024/12/unnamed-16.jpg
END:VEVENT
BEGIN:VEVENT
DTSTART;TZID=Europe/London:20241222T080000
DTEND;TZID=Europe/London:20241222T170000
DTSTAMP:20260422T130819
CREATED:20240110T163704Z
LAST-MODIFIED:20241115T095644Z
UID:10002043-1734854400-1734886800@wimbledonvillage.com
SUMMARY:Wimbledon Common Christmas Run
DESCRIPTION:This picturesque course takes you running through the stunning grounds of Wimbledon Common to cover the 5k & 10k distances. Each kilometre is accurately marked out with sign posts and plenty of helpers are on hand to keep runners on track and provide them with encouragement. Organiser: Runthrough. Attendees: 800. \n  \nWhen & Where: Sunday 22nd December\, 9.30 am – 12.30 pm\, Wimbledon Common \n  \nCost: £25 – 120
URL:https://wimbledonvillage.com/event/wimbledon-common-christmas-run/
ATTACH;FMTTYPE=image/png:https://wimbledonvillage.com/wp-content/uploads/2024/01/Screenshot-2024-01-10-at-16.33.2.png
END:VEVENT
BEGIN:VEVENT
DTSTART;TZID=Europe/London:20241221T103000
DTEND;TZID=Europe/London:20241221T120000
DTSTAMP:20260422T130819
CREATED:20230819T155822Z
LAST-MODIFIED:20250831T132807Z
UID:10008207-1734777000-1734782400@wimbledonvillage.com
SUMMARY:Wimbledon Common and Village Walk & Talk
DESCRIPTION:A free and fun ‘walk and talk’ every Saturday morning around Wimbledon Common and Wimbledon Village. \n  \nWalk and talks are a chance for all generations to take a stroll\, chat\, meet friends and neighbours\, make new friends and enjoy their local area and green spaces together. From older adults to young children\, from buggies to beagles – everybody can join in. \n  \nNo booking\, no reservations\, just turn up and you will get a very warm welcome. \n  \nWhen & Where: 10.30am at the Wimbledon War Memorial on The Green\, at the corner of Parkside and The Causeway.
URL:https://wimbledonvillage.com/event/weekly-walk-talk/2024-12-21/
ATTACH;FMTTYPE=image/jpeg:https://wimbledonvillage.com/wp-content/uploads/2023/08/Walk-Talk-Wimbledon-Common-walkers-on-a-sunny-day.jpg
END:VEVENT
BEGIN:VEVENT
DTSTART;TZID=Europe/London:20241221T090000
DTEND;TZID=Europe/London:20241221T100000
DTSTAMP:20260422T130819
CREATED:20230819T151954Z
LAST-MODIFIED:20250831T130729Z
UID:10007514-1734771600-1734775200@wimbledonvillage.com
SUMMARY:Wimbledon Common Parkrun
DESCRIPTION:A free\, fun\, and friendly weekly 5k community event. Participants can choose to walk\, jog\, run\, volunteer or just spectate. \n  \nThe run starts from near the Windmill car park every Saturday at 9am. \n  \nJoin other runners and supporters for a post run coffee at the Windmill Cafe.
URL:https://wimbledonvillage.com/event/wimbledon-common-park-run/2024-12-21/
ATTACH;FMTTYPE=image/jpeg:https://wimbledonvillage.com/wp-content/uploads/2023/08/Wimbledon-Common-Parkrun-runners-enjoying-the-course.jpg
END:VEVENT
BEGIN:VEVENT
DTSTART;TZID=Europe/London:20241221T080000
DTEND;TZID=Europe/London:20241221T170000
DTSTAMP:20260422T130819
CREATED:20241103T172854Z
LAST-MODIFIED:20241103T174836Z
UID:10003527-1734768000-1734800400@wimbledonvillage.com
SUMMARY:Discovery Tasting @ Friarwood: Champagne Ruinart
DESCRIPTION:Friarwood Wines & Spirits invites you to join them for a discovery tasting event: The Art of Hosting by Champagne Ruinart. \n  \nWhere & When: Friarwood Wines & Spirits\, 2.30 – 6.30 pm on Saturday 21st December. \n  \nBooking: Not required. Walk-in event.
URL:https://wimbledonvillage.com/event/discovery-tasting-friarwood-champagne-ruinart/
ATTACH;FMTTYPE=image/jpeg:https://wimbledonvillage.com/wp-content/uploads/2024/11/cq5dam-web-1280-1280.jpg
END:VEVENT
BEGIN:VEVENT
DTSTART;TZID=Europe/London:20241220T080000
DTEND;TZID=Europe/London:20241220T170000
DTSTAMP:20260422T130819
CREATED:20241219T114408Z
LAST-MODIFIED:20241219T114424Z
UID:10004175-1734681600-1734714000@wimbledonvillage.com
SUMMARY:Bloody Ben's Bloody Mary Tasting @ Friarwood
DESCRIPTION:Sample Bloody Ben’s Bloody Mary at this in-store tasting event. \n  \nWhere & When: Friarwood Wines & Spirits\, Friday 20th December 4 – 7 pm. \n  \nTickets: No booking required. Free drop-in event \n.
URL:https://wimbledonvillage.com/event/bloody-bens-bloody-mary-tasting-friarwood/
ATTACH;FMTTYPE=image/png:https://wimbledonvillage.com/wp-content/uploads/2024/12/bloody4.png
END:VEVENT
BEGIN:VEVENT
DTSTART;TZID=Europe/London:20241218T190000
DTEND;TZID=Europe/London:20241218T220000
DTSTAMP:20260422T130819
CREATED:20240428T113530Z
LAST-MODIFIED:20250831T125653Z
UID:10006747-1734548400-1734559200@wimbledonvillage.com
SUMMARY:Pub Quiz @ The Dog & Fox
DESCRIPTION:Grab your team\, get your brain in gear and get quizzical at the Dog & Fox. \n  \nWhere & When: The Dog & Fox\, 24 High Street\, Wimbledon Village\, London SW19 5EA\, every Wednesday night\, 7 – 10 pm.
URL:https://wimbledonvillage.com/event/pub-quiz-the-dog-fox/2024-12-18/
ATTACH;FMTTYPE=image/png:https://wimbledonvillage.com/wp-content/uploads/2024/04/Dog-Fox-pub-quiz-image.png
END:VEVENT
BEGIN:VEVENT
DTSTART;TZID=Europe/London:20241217T193000
DTEND;TZID=Europe/London:20241217T224500
DTSTAMP:20260422T130819
CREATED:20240222T093828Z
LAST-MODIFIED:20250831T125428Z
UID:10002170-1734463800-1734475500@wimbledonvillage.com
SUMMARY:Pub Quiz @ The Rose & Crown
DESCRIPTION:Grab your cleverest pals & put your knowledge to the test with fantastic quiz master Duncan at the weekly Rose & Crown pub quiz. \n  \nWhere & When: The Rose & Crown\, 55 High Street\, Wimbledon Village\, London SW19 5BA\, every Tuesday from 7.30 – 10.45 pm (except during the Wimbledon tennis fortnight).
URL:https://wimbledonvillage.com/event/rose-crown-pub-quiz/2024-12-17/
ATTACH;FMTTYPE=image/jpeg:https://wimbledonvillage.com/wp-content/uploads/2023/08/Rose-Crown-pub-quiz-image.jpg
END:VEVENT
BEGIN:VEVENT
DTSTART;TZID=Europe/London:20241215T190000
DTEND;TZID=Europe/London:20241215T220000
DTSTAMP:20260422T130819
CREATED:20240108T125908Z
LAST-MODIFIED:20250831T125309Z
UID:10006394-1734289200-1734300000@wimbledonvillage.com
SUMMARY:Pub Quiz @ the Fire Stables
DESCRIPTION:Put your thinking hat on because this is a game for real players. Call your smartest friends and put together a winning team to answer questions about general knowledge\, music\, geography\, everything and nothing. A £50 bar tab is up for grabs each week. \n  \nWhere & When: Fire Stables\, every Sunday from 7 – 10 pm.
URL:https://wimbledonvillage.com/event/pub-quiz-the-fire-stables/2024-12-15/
ATTACH;FMTTYPE=image/jpeg:https://wimbledonvillage.com/wp-content/uploads/2024/01/rsz_pexels-elevate-1269025.jpg
END:VEVENT
BEGIN:VEVENT
DTSTART;TZID=Europe/London:20241215T100000
DTEND;TZID=Europe/London:20241215T150000
DTSTAMP:20260422T130819
CREATED:20230819T162853Z
LAST-MODIFIED:20250831T125135Z
UID:10005702-1734256800-1734274800@wimbledonvillage.com
SUMMARY:Wimbledon Village Farmers' Market
DESCRIPTION:The Village Farmers’ Market serves up a range of fabulous farm fresh and local products along with a varied offering of ready to eat goodies every Sunday from 10am to 3pm on the Village High Street. Stalls rotate each week. \n  \nFollow The Wimbledon Village Farmers’ Market on Instagram or Facebook for more details.
URL:https://wimbledonvillage.com/event/wimbledon-village-farmers-market/2024-12-15/
ATTACH;FMTTYPE=image/jpeg:https://wimbledonvillage.com/wp-content/uploads/2023/08/Farmers-Market-vegetables.jpg
END:VEVENT
BEGIN:VEVENT
DTSTART;TZID=Europe/London:20241215T080000
DTEND;TZID=Europe/London:20241215T170000
DTSTAMP:20260422T130819
CREATED:20241106T121312Z
LAST-MODIFIED:20241106T121312Z
UID:10003538-1734249600-1734282000@wimbledonvillage.com
SUMMARY:Meet Santa at Cannizaro House
DESCRIPTION:Enjoy a festive afternoon of treats\, crafts\, and festive cheer\, in support of Wimbledon Guild. And meet Santa of course! \n  \nWhere & When: Hotel du Vin\, Cannizaro House on Sunday 15th December from 1 – 3 pm. \n  \nTickets: £12.50 per child
URL:https://wimbledonvillage.com/event/meet-santa-at-cannizaro-house/
ATTACH;FMTTYPE=image/jpeg:https://wimbledonvillage.com/wp-content/uploads/2024/11/https-cdn.evbuc_.com-images-889.jpg
END:VEVENT
BEGIN:VEVENT
DTSTART;TZID=Europe/London:20241215T080000
DTEND;TZID=Europe/London:20241215T170000
DTSTAMP:20260422T130819
CREATED:20241103T184648Z
LAST-MODIFIED:20241103T184747Z
UID:10003530-1734249600-1734282000@wimbledonvillage.com
SUMMARY:Southside Christmas Carols
DESCRIPTION:Enjoy a traditional Christmas Carol Concert in the beautiful setting of historic Southside House. \n  \nWhere & When: Southside House\, SW19 4RJ on Sunday 15th December at 4 pm.
URL:https://wimbledonvillage.com/event/southside-christmas-carols/
ATTACH;FMTTYPE=image/jpeg:https://wimbledonvillage.com/wp-content/uploads/2024/11/josh-harrison-jY_fTS7ZE98-unspla.jpg
END:VEVENT
BEGIN:VEVENT
DTSTART;TZID=Europe/London:20241214T103000
DTEND;TZID=Europe/London:20241214T120000
DTSTAMP:20260422T130819
CREATED:20230819T155822Z
LAST-MODIFIED:20250831T132807Z
UID:10008206-1734172200-1734177600@wimbledonvillage.com
SUMMARY:Wimbledon Common and Village Walk & Talk
DESCRIPTION:A free and fun ‘walk and talk’ every Saturday morning around Wimbledon Common and Wimbledon Village. \n  \nWalk and talks are a chance for all generations to take a stroll\, chat\, meet friends and neighbours\, make new friends and enjoy their local area and green spaces together. From older adults to young children\, from buggies to beagles – everybody can join in. \n  \nNo booking\, no reservations\, just turn up and you will get a very warm welcome. \n  \nWhen & Where: 10.30am at the Wimbledon War Memorial on The Green\, at the corner of Parkside and The Causeway.
URL:https://wimbledonvillage.com/event/weekly-walk-talk/2024-12-14/
ATTACH;FMTTYPE=image/jpeg:https://wimbledonvillage.com/wp-content/uploads/2023/08/Walk-Talk-Wimbledon-Common-walkers-on-a-sunny-day.jpg
END:VEVENT
BEGIN:VEVENT
DTSTART;TZID=Europe/London:20241214T090000
DTEND;TZID=Europe/London:20241214T100000
DTSTAMP:20260422T130819
CREATED:20230819T151954Z
LAST-MODIFIED:20250831T130729Z
UID:10007513-1734166800-1734170400@wimbledonvillage.com
SUMMARY:Wimbledon Common Parkrun
DESCRIPTION:A free\, fun\, and friendly weekly 5k community event. Participants can choose to walk\, jog\, run\, volunteer or just spectate. \n  \nThe run starts from near the Windmill car park every Saturday at 9am. \n  \nJoin other runners and supporters for a post run coffee at the Windmill Cafe.
URL:https://wimbledonvillage.com/event/wimbledon-common-park-run/2024-12-14/
ATTACH;FMTTYPE=image/jpeg:https://wimbledonvillage.com/wp-content/uploads/2023/08/Wimbledon-Common-Parkrun-runners-enjoying-the-course.jpg
END:VEVENT
BEGIN:VEVENT
DTSTART;TZID=Europe/London:20241214T080000
DTEND;TZID=Europe/London:20241214T170000
DTSTAMP:20260422T130819
CREATED:20241125T203600Z
LAST-MODIFIED:20241125T204638Z
UID:10003785-1734163200-1734195600@wimbledonvillage.com
SUMMARY:Christmas Wellbeing and Shopping Extravaganza
DESCRIPTION:This holiday season treat yourself to some well-deserved TLC at this exclusive beauty and wellness festive shopping experience hosted by Vineria @ Vallebona. Enjoy a variety of immersive shopping experiences with Skin by Anel Lamine\, Rola Skin and Senti Fragrance along with complimentary delicious nibbles and drinks. \n  \nWhere & When: Vineria @ Vallebona\, Saturday 14th December\, 10 am – 3.30 pm \n  \nBooking: This is a drop in event so just head down and say hi!
URL:https://wimbledonvillage.com/event/christmas-wellbeing-and-shopping-extravaganza/
ATTACH;FMTTYPE=image/jpeg:https://wimbledonvillage.com/wp-content/uploads/2024/11/anastasia-pixner-5OMzuj22p2o-uns.jpg
END:VEVENT
END:VCALENDAR