BEGIN:VCALENDAR
VERSION:2.0
PRODID:-//Wimbledon Village - ECPv6.15.20//NONSGML v1.0//EN
CALSCALE:GREGORIAN
METHOD:PUBLISH
X-ORIGINAL-URL:https://wimbledonvillage.com
X-WR-CALDESC:Events for Wimbledon Village
REFRESH-INTERVAL;VALUE=DURATION:PT1H
X-Robots-Tag:noindex
X-PUBLISHED-TTL:PT1H
BEGIN:VTIMEZONE
TZID:Europe/London
BEGIN:DAYLIGHT
TZOFFSETFROM:+0000
TZOFFSETTO:+0100
TZNAME:BST
DTSTART:20250330T010000
END:DAYLIGHT
BEGIN:STANDARD
TZOFFSETFROM:+0100
TZOFFSETTO:+0000
TZNAME:GMT
DTSTART:20251026T010000
END:STANDARD
BEGIN:DAYLIGHT
TZOFFSETFROM:+0000
TZOFFSETTO:+0100
TZNAME:BST
DTSTART:20260329T010000
END:DAYLIGHT
BEGIN:STANDARD
TZOFFSETFROM:+0100
TZOFFSETTO:+0000
TZNAME:GMT
DTSTART:20261025T010000
END:STANDARD
BEGIN:DAYLIGHT
TZOFFSETFROM:+0000
TZOFFSETTO:+0100
TZNAME:BST
DTSTART:20270328T010000
END:DAYLIGHT
BEGIN:STANDARD
TZOFFSETFROM:+0100
TZOFFSETTO:+0000
TZNAME:GMT
DTSTART:20271031T010000
END:STANDARD
END:VTIMEZONE
BEGIN:VEVENT
DTSTART;TZID=Europe/London:20261125T190000
DTEND;TZID=Europe/London:20261125T220000
DTSTAMP:20260420T042910
CREATED:20240428T113530Z
LAST-MODIFIED:20250831T125653Z
UID:10006846-1795633200-1795644000@wimbledonvillage.com
SUMMARY:Pub Quiz @ The Dog & Fox
DESCRIPTION:Grab your team\, get your brain in gear and get quizzical at the Dog & Fox. \n  \nWhere & When: The Dog & Fox\, 24 High Street\, Wimbledon Village\, London SW19 5EA\, every Wednesday night\, 7 – 10 pm.
URL:https://wimbledonvillage.com/event/pub-quiz-the-dog-fox/2026-11-25/
ATTACH;FMTTYPE=image/png:https://wimbledonvillage.com/wp-content/uploads/2024/04/Dog-Fox-pub-quiz-image.png
END:VEVENT
BEGIN:VEVENT
DTSTART;TZID=Europe/London:20261128T090000
DTEND;TZID=Europe/London:20261128T100000
DTSTAMP:20260420T042910
CREATED:20230819T151954Z
LAST-MODIFIED:20250831T130729Z
UID:10007615-1795856400-1795860000@wimbledonvillage.com
SUMMARY:Wimbledon Common Parkrun
DESCRIPTION:A free\, fun\, and friendly weekly 5k community event. Participants can choose to walk\, jog\, run\, volunteer or just spectate. \n  \nThe run starts from near the Windmill car park every Saturday at 9am. \n  \nJoin other runners and supporters for a post run coffee at the Windmill Cafe.
URL:https://wimbledonvillage.com/event/wimbledon-common-park-run/2026-11-28/
ATTACH;FMTTYPE=image/jpeg:https://wimbledonvillage.com/wp-content/uploads/2023/08/Wimbledon-Common-Parkrun-runners-enjoying-the-course.jpg
END:VEVENT
BEGIN:VEVENT
DTSTART;TZID=Europe/London:20261128T103000
DTEND;TZID=Europe/London:20261128T120000
DTSTAMP:20260420T042910
CREATED:20230819T155822Z
LAST-MODIFIED:20250831T132807Z
UID:10008307-1795861800-1795867200@wimbledonvillage.com
SUMMARY:Wimbledon Common and Village Walk & Talk
DESCRIPTION:A free and fun ‘walk and talk’ every Saturday morning around Wimbledon Common and Wimbledon Village. \n  \nWalk and talks are a chance for all generations to take a stroll\, chat\, meet friends and neighbours\, make new friends and enjoy their local area and green spaces together. From older adults to young children\, from buggies to beagles – everybody can join in. \n  \nNo booking\, no reservations\, just turn up and you will get a very warm welcome. \n  \nWhen & Where: 10.30am at the Wimbledon War Memorial on The Green\, at the corner of Parkside and The Causeway.
URL:https://wimbledonvillage.com/event/weekly-walk-talk/2026-11-28/
ATTACH;FMTTYPE=image/jpeg:https://wimbledonvillage.com/wp-content/uploads/2023/08/Walk-Talk-Wimbledon-Common-walkers-on-a-sunny-day.jpg
END:VEVENT
BEGIN:VEVENT
DTSTART;TZID=Europe/London:20261129T100000
DTEND;TZID=Europe/London:20261129T150000
DTSTAMP:20260420T042910
CREATED:20230819T162853Z
LAST-MODIFIED:20250831T125135Z
UID:10005804-1795946400-1795964400@wimbledonvillage.com
SUMMARY:Wimbledon Village Farmers' Market
DESCRIPTION:The Village Farmers’ Market serves up a range of fabulous farm fresh and local products along with a varied offering of ready to eat goodies every Sunday from 10am to 3pm on the Village High Street. Stalls rotate each week. \n  \nFollow The Wimbledon Village Farmers’ Market on Instagram or Facebook for more details.
URL:https://wimbledonvillage.com/event/wimbledon-village-farmers-market/2026-11-29/
ATTACH;FMTTYPE=image/jpeg:https://wimbledonvillage.com/wp-content/uploads/2023/08/Farmers-Market-vegetables.jpg
END:VEVENT
BEGIN:VEVENT
DTSTART;TZID=Europe/London:20261129T190000
DTEND;TZID=Europe/London:20261129T220000
DTSTAMP:20260420T042910
CREATED:20240108T125908Z
LAST-MODIFIED:20250831T125309Z
UID:10006496-1795978800-1795989600@wimbledonvillage.com
SUMMARY:Pub Quiz @ the Fire Stables
DESCRIPTION:Put your thinking hat on because this is a game for real players. Call your smartest friends and put together a winning team to answer questions about general knowledge\, music\, geography\, everything and nothing. A £50 bar tab is up for grabs each week. \n  \nWhere & When: Fire Stables\, every Sunday from 7 – 10 pm.
URL:https://wimbledonvillage.com/event/pub-quiz-the-fire-stables/2026-11-29/
ATTACH;FMTTYPE=image/jpeg:https://wimbledonvillage.com/wp-content/uploads/2024/01/rsz_pexels-elevate-1269025.jpg
END:VEVENT
BEGIN:VEVENT
DTSTART;TZID=Europe/London:20261201T193000
DTEND;TZID=Europe/London:20261201T224500
DTSTAMP:20260420T042910
CREATED:20250922T102723Z
LAST-MODIFIED:20260202T082017Z
UID:10002272-1796153400-1796165100@wimbledonvillage.com
SUMMARY:Pub Quiz @ The Rose & Crown
DESCRIPTION:Grab your cleverest pals & put your knowledge to the test with fantastic quiz master Duncan at the weekly Rose & Crown pub quiz. \n  \nWhere & When: The Rose & Crown\, 55 High Street\, Wimbledon Village\, London SW19 5BA\, every Tuesday from 7.30 – 10.45 pm (except during the Wimbledon tennis fortnight).
URL:https://wimbledonvillage.com/event/rose-crown-pub-quiz-3/2026-12-01/
ATTACH;FMTTYPE=image/jpeg:https://wimbledonvillage.com/wp-content/uploads/2023/08/Rose-Crown-pub-quiz-image.jpg
END:VEVENT
BEGIN:VEVENT
DTSTART;TZID=Europe/London:20261201T200000
DTEND;TZID=Europe/London:20261201T220000
DTSTAMP:20260420T042910
CREATED:20260301T153138Z
LAST-MODIFIED:20260301T153254Z
UID:10008946-1796155200-1796162400@wimbledonvillage.com
SUMMARY:Pub Quiz @ The Hand in Hand
DESCRIPTION:Get your brainiest mates together\, come up with the funniest team name and put your trivia knowledge to the test at the Hand in Hands’ weekly quiz for a chance to win one of the lovely prizes on offer. \n  \nQuizmaster John Spain will put you through your paces from general knowledge to music and sport. You’ve got to be in it\, to win it! \n  \nWhere & When: Hand in Hand\, every Tuesday from 8 -10 pm.
URL:https://wimbledonvillage.com/event/pub-quiz-the-hand-in-hand/2026-12-01/
ATTACH;FMTTYPE=image/jpeg:https://wimbledonvillage.com/wp-content/uploads/2024/04/Screenshot-2026-03-01-at-15.29.0.jpg
END:VEVENT
BEGIN:VEVENT
DTSTART;TZID=Europe/London:20261202T190000
DTEND;TZID=Europe/London:20261202T220000
DTSTAMP:20260420T042910
CREATED:20240428T113530Z
LAST-MODIFIED:20250831T125653Z
UID:10006847-1796238000-1796248800@wimbledonvillage.com
SUMMARY:Pub Quiz @ The Dog & Fox
DESCRIPTION:Grab your team\, get your brain in gear and get quizzical at the Dog & Fox. \n  \nWhere & When: The Dog & Fox\, 24 High Street\, Wimbledon Village\, London SW19 5EA\, every Wednesday night\, 7 – 10 pm.
URL:https://wimbledonvillage.com/event/pub-quiz-the-dog-fox/2026-12-02/
ATTACH;FMTTYPE=image/png:https://wimbledonvillage.com/wp-content/uploads/2024/04/Dog-Fox-pub-quiz-image.png
END:VEVENT
BEGIN:VEVENT
DTSTART;TZID=Europe/London:20261205T090000
DTEND;TZID=Europe/London:20261205T100000
DTSTAMP:20260420T042910
CREATED:20230819T151954Z
LAST-MODIFIED:20250831T130729Z
UID:10007616-1796461200-1796464800@wimbledonvillage.com
SUMMARY:Wimbledon Common Parkrun
DESCRIPTION:A free\, fun\, and friendly weekly 5k community event. Participants can choose to walk\, jog\, run\, volunteer or just spectate. \n  \nThe run starts from near the Windmill car park every Saturday at 9am. \n  \nJoin other runners and supporters for a post run coffee at the Windmill Cafe.
URL:https://wimbledonvillage.com/event/wimbledon-common-park-run/2026-12-05/
ATTACH;FMTTYPE=image/jpeg:https://wimbledonvillage.com/wp-content/uploads/2023/08/Wimbledon-Common-Parkrun-runners-enjoying-the-course.jpg
END:VEVENT
BEGIN:VEVENT
DTSTART;TZID=Europe/London:20261205T103000
DTEND;TZID=Europe/London:20261205T120000
DTSTAMP:20260420T042910
CREATED:20230819T155822Z
LAST-MODIFIED:20250831T132807Z
UID:10008308-1796466600-1796472000@wimbledonvillage.com
SUMMARY:Wimbledon Common and Village Walk & Talk
DESCRIPTION:A free and fun ‘walk and talk’ every Saturday morning around Wimbledon Common and Wimbledon Village. \n  \nWalk and talks are a chance for all generations to take a stroll\, chat\, meet friends and neighbours\, make new friends and enjoy their local area and green spaces together. From older adults to young children\, from buggies to beagles – everybody can join in. \n  \nNo booking\, no reservations\, just turn up and you will get a very warm welcome. \n  \nWhen & Where: 10.30am at the Wimbledon War Memorial on The Green\, at the corner of Parkside and The Causeway.
URL:https://wimbledonvillage.com/event/weekly-walk-talk/2026-12-05/
ATTACH;FMTTYPE=image/jpeg:https://wimbledonvillage.com/wp-content/uploads/2023/08/Walk-Talk-Wimbledon-Common-walkers-on-a-sunny-day.jpg
END:VEVENT
BEGIN:VEVENT
DTSTART;TZID=Europe/London:20261205T170000
DTEND;TZID=Europe/London:20261205T193000
DTSTAMP:20260420T042910
CREATED:20260104T134130Z
LAST-MODIFIED:20260104T134130Z
UID:10008842-1796490000-1796499000@wimbledonvillage.com
SUMMARY:Carols in the Stables
DESCRIPTION:The magical Christmas Carol Concert in the Wimbledon Village Stables Yard has become an essential part of the Christmas festivities in Wimbledon Village\, perfect for adults and children alike. \n  \nSing carols and enjoy hot drinks\, mulled wine\, and mince pies\, and for the younger guests\, there will even be a special visit from Santa Claus! \n  \nAll proceeds from the evening will go directly to The Royal Marsden Cancer Charity. \n  \nWhere & When: Wimbledon Village Stables on Saturday 5th December at 5 pm and 6.15 pm \n  \nTickets: Limited number of tickets available. Book online from 1st November at 8.00 am. Visit the Village Stables website for links.
URL:https://wimbledonvillage.com/event/carols-in-the-stables-3/
ATTACH;FMTTYPE=image/jpeg:https://wimbledonvillage.com/wp-content/uploads/2024/10/IMG_7407-e1575892901856.jpg
END:VEVENT
BEGIN:VEVENT
DTSTART;TZID=Europe/London:20261206T080000
DTEND;TZID=Europe/London:20261206T110000
DTSTAMP:20260420T042910
CREATED:20260104T121718Z
LAST-MODIFIED:20260104T121848Z
UID:10008699-1796544000-1796554800@wimbledonvillage.com
SUMMARY:Southside Hustle Classic Car Meet
DESCRIPTION:A perfect morning out for car enthusiasts\, this informal monthly gathering of classic car owners in Wimbledon Village features a stunning and eclectic array of cars\, some incredibly rare. \n  \nWhere & When: Wimbledon Common Southside at the Village end\, near the Farmer’s Market\, from 8am to around 11am on the first Sunday of each month. \n  \nImage Credit: @paolojgibelli
URL:https://wimbledonvillage.com/event/southside-hustle-classic-car-meet/2026-12-06/
ATTACH;FMTTYPE=image/jpeg:https://wimbledonvillage.com/wp-content/uploads/2025/05/470221591_18338295316150563_9185.jpg
END:VEVENT
BEGIN:VEVENT
DTSTART;TZID=Europe/London:20261206T100000
DTEND;TZID=Europe/London:20261206T150000
DTSTAMP:20260420T042910
CREATED:20230819T162853Z
LAST-MODIFIED:20250831T125135Z
UID:10005805-1796551200-1796569200@wimbledonvillage.com
SUMMARY:Wimbledon Village Farmers' Market
DESCRIPTION:The Village Farmers’ Market serves up a range of fabulous farm fresh and local products along with a varied offering of ready to eat goodies every Sunday from 10am to 3pm on the Village High Street. Stalls rotate each week. \n  \nFollow The Wimbledon Village Farmers’ Market on Instagram or Facebook for more details.
URL:https://wimbledonvillage.com/event/wimbledon-village-farmers-market/2026-12-06/
ATTACH;FMTTYPE=image/jpeg:https://wimbledonvillage.com/wp-content/uploads/2023/08/Farmers-Market-vegetables.jpg
END:VEVENT
BEGIN:VEVENT
DTSTART;TZID=Europe/London:20261206T100000
DTEND;TZID=Europe/London:20261206T170000
DTSTAMP:20260420T042910
CREATED:20260104T130422Z
LAST-MODIFIED:20260104T130422Z
UID:10008778-1796551200-1796576400@wimbledonvillage.com
SUMMARY:Christmas in the Village 2026
DESCRIPTION:A fabulous\, festive family fun day in Wimbledon Village guaranteed to get you in the Christmas spirit! \n  \nOrganised by the Wimbledon Village Business Association in aid of local charity Wimbledon Guild\, Christmas in the Village runs all day from 10 am to 5 pm and is jam packed with activities for the whole family… \n  \n\nSanta’s Grotto\nChristmas Market\nPony Rides\nSanta’s Horseback Parade\nFace-Painting\nStorytime Sessions\nBalloon Twister Shows\nClay-Modelling and Arts & Craft Workshops\nFairground Rides\nAnd much more…..
URL:https://wimbledonvillage.com/event/christmas-in-the-village-2026/
ATTACH;FMTTYPE=image/jpeg:https://wimbledonvillage.com/wp-content/uploads/2023/08/Christmas-in-the-Village-santa-and-elves-horseback-parade.jpg
END:VEVENT
BEGIN:VEVENT
DTSTART;TZID=Europe/London:20261206T190000
DTEND;TZID=Europe/London:20261206T220000
DTSTAMP:20260420T042910
CREATED:20240108T125908Z
LAST-MODIFIED:20250831T125309Z
UID:10006497-1796583600-1796594400@wimbledonvillage.com
SUMMARY:Pub Quiz @ the Fire Stables
DESCRIPTION:Put your thinking hat on because this is a game for real players. Call your smartest friends and put together a winning team to answer questions about general knowledge\, music\, geography\, everything and nothing. A £50 bar tab is up for grabs each week. \n  \nWhere & When: Fire Stables\, every Sunday from 7 – 10 pm.
URL:https://wimbledonvillage.com/event/pub-quiz-the-fire-stables/2026-12-06/
ATTACH;FMTTYPE=image/jpeg:https://wimbledonvillage.com/wp-content/uploads/2024/01/rsz_pexels-elevate-1269025.jpg
END:VEVENT
BEGIN:VEVENT
DTSTART;TZID=Europe/London:20261208T193000
DTEND;TZID=Europe/London:20261208T224500
DTSTAMP:20260420T042910
CREATED:20250922T102723Z
LAST-MODIFIED:20260202T082017Z
UID:10002273-1796758200-1796769900@wimbledonvillage.com
SUMMARY:Pub Quiz @ The Rose & Crown
DESCRIPTION:Grab your cleverest pals & put your knowledge to the test with fantastic quiz master Duncan at the weekly Rose & Crown pub quiz. \n  \nWhere & When: The Rose & Crown\, 55 High Street\, Wimbledon Village\, London SW19 5BA\, every Tuesday from 7.30 – 10.45 pm (except during the Wimbledon tennis fortnight).
URL:https://wimbledonvillage.com/event/rose-crown-pub-quiz-3/2026-12-08/
ATTACH;FMTTYPE=image/jpeg:https://wimbledonvillage.com/wp-content/uploads/2023/08/Rose-Crown-pub-quiz-image.jpg
END:VEVENT
BEGIN:VEVENT
DTSTART;TZID=Europe/London:20261208T200000
DTEND;TZID=Europe/London:20261208T220000
DTSTAMP:20260420T042910
CREATED:20260301T153138Z
LAST-MODIFIED:20260301T153254Z
UID:10008947-1796760000-1796767200@wimbledonvillage.com
SUMMARY:Pub Quiz @ The Hand in Hand
DESCRIPTION:Get your brainiest mates together\, come up with the funniest team name and put your trivia knowledge to the test at the Hand in Hands’ weekly quiz for a chance to win one of the lovely prizes on offer. \n  \nQuizmaster John Spain will put you through your paces from general knowledge to music and sport. You’ve got to be in it\, to win it! \n  \nWhere & When: Hand in Hand\, every Tuesday from 8 -10 pm.
URL:https://wimbledonvillage.com/event/pub-quiz-the-hand-in-hand/2026-12-08/
ATTACH;FMTTYPE=image/jpeg:https://wimbledonvillage.com/wp-content/uploads/2024/04/Screenshot-2026-03-01-at-15.29.0.jpg
END:VEVENT
BEGIN:VEVENT
DTSTART;TZID=Europe/London:20261209T190000
DTEND;TZID=Europe/London:20261209T220000
DTSTAMP:20260420T042910
CREATED:20240428T113530Z
LAST-MODIFIED:20250831T125653Z
UID:10006848-1796842800-1796853600@wimbledonvillage.com
SUMMARY:Pub Quiz @ The Dog & Fox
DESCRIPTION:Grab your team\, get your brain in gear and get quizzical at the Dog & Fox. \n  \nWhere & When: The Dog & Fox\, 24 High Street\, Wimbledon Village\, London SW19 5EA\, every Wednesday night\, 7 – 10 pm.
URL:https://wimbledonvillage.com/event/pub-quiz-the-dog-fox/2026-12-09/
ATTACH;FMTTYPE=image/png:https://wimbledonvillage.com/wp-content/uploads/2024/04/Dog-Fox-pub-quiz-image.png
END:VEVENT
BEGIN:VEVENT
DTSTART;TZID=Europe/London:20261209T193000
DTEND;TZID=Europe/London:20261209T213000
DTSTAMP:20260420T042910
CREATED:20251124T180714Z
LAST-MODIFIED:20251124T180714Z
UID:10008629-1796844600-1796851800@wimbledonvillage.com
SUMMARY:Riviera Paradise: Art\, Design and Pleasure in the 1920's
DESCRIPTION:A Lecture for The Arts Society Wimbledon by Mary Alexander \n  \nSince the 19th century English high society had ‘wintered over’ on the Côte d’Azur\, but in the early 1920s an intoxicating mix of artists\, writers\, musicians\, inspired by a mythological seascape of luminous colours\, created a new summer season.  This liberating playground of ideas across the visual design arts was stimulated by impresarios Serge Diaghilev and Paul Poiret. Traditional boundaries were torn down; Matisse\, Picasso\, Dufy\, Cocteau\, and Chanel merged the worlds of fashion\, theatre and interiors. \n  \nWhere & When: The Sacred Heart Church Hall on Wednesday 9th December at 8 pm (coffee from 7.30 pm). Also available on Zoom. \n  \nTickets: Members free. Visitors & guests: £10
URL:https://wimbledonvillage.com/event/riviera-paradise-art-design-and-pleasure-in-the-1920s/
ATTACH;FMTTYPE=image/jpeg:https://wimbledonvillage.com/wp-content/uploads/2025/11/s-l1600.jpg
END:VEVENT
BEGIN:VEVENT
DTSTART;TZID=Europe/London:20261212T090000
DTEND;TZID=Europe/London:20261212T100000
DTSTAMP:20260420T042910
CREATED:20230819T151954Z
LAST-MODIFIED:20250831T130729Z
UID:10007617-1797066000-1797069600@wimbledonvillage.com
SUMMARY:Wimbledon Common Parkrun
DESCRIPTION:A free\, fun\, and friendly weekly 5k community event. Participants can choose to walk\, jog\, run\, volunteer or just spectate. \n  \nThe run starts from near the Windmill car park every Saturday at 9am. \n  \nJoin other runners and supporters for a post run coffee at the Windmill Cafe.
URL:https://wimbledonvillage.com/event/wimbledon-common-park-run/2026-12-12/
ATTACH;FMTTYPE=image/jpeg:https://wimbledonvillage.com/wp-content/uploads/2023/08/Wimbledon-Common-Parkrun-runners-enjoying-the-course.jpg
END:VEVENT
BEGIN:VEVENT
DTSTART;TZID=Europe/London:20261212T103000
DTEND;TZID=Europe/London:20261212T120000
DTSTAMP:20260420T042910
CREATED:20230819T155822Z
LAST-MODIFIED:20250831T132807Z
UID:10008309-1797071400-1797076800@wimbledonvillage.com
SUMMARY:Wimbledon Common and Village Walk & Talk
DESCRIPTION:A free and fun ‘walk and talk’ every Saturday morning around Wimbledon Common and Wimbledon Village. \n  \nWalk and talks are a chance for all generations to take a stroll\, chat\, meet friends and neighbours\, make new friends and enjoy their local area and green spaces together. From older adults to young children\, from buggies to beagles – everybody can join in. \n  \nNo booking\, no reservations\, just turn up and you will get a very warm welcome. \n  \nWhen & Where: 10.30am at the Wimbledon War Memorial on The Green\, at the corner of Parkside and The Causeway.
URL:https://wimbledonvillage.com/event/weekly-walk-talk/2026-12-12/
ATTACH;FMTTYPE=image/jpeg:https://wimbledonvillage.com/wp-content/uploads/2023/08/Walk-Talk-Wimbledon-Common-walkers-on-a-sunny-day.jpg
END:VEVENT
BEGIN:VEVENT
DTSTART;TZID=Europe/London:20261212T140000
DTEND;TZID=Europe/London:20261212T150000
DTSTAMP:20260420T042910
CREATED:20260104T133826Z
LAST-MODIFIED:20260104T133826Z
UID:10008793-1797084000-1797087600@wimbledonvillage.com
SUMMARY:Wimbledon Village Stables Open Day
DESCRIPTION:On the second Saturday of every month\, the Village Stables invites visitors to explore the yard\, meet the horses\, and see how everything runs behind the scenes. \n  \nIt’s a great opportunity to learn about membership options\, and see the Equicise horse simulator\, designed for all ages and abilities. Plus children will love meeting Mr Fudge\, the friendly Shetland pony! \n  \nWhere & When: Wimbledon Village Stables on the second Saturday of every month\, from 2 – 3 pm. \n  \nBooking: No booking required – just turn up and enjoy a relaxed\, informative afternoon.
URL:https://wimbledonvillage.com/event/wimbledon-village-stables-open-day/2026-12-12/
ATTACH;FMTTYPE=image/jpeg:https://wimbledonvillage.com/wp-content/uploads/2025/03/IMG_7836.jpg
END:VEVENT
BEGIN:VEVENT
DTSTART;TZID=Europe/London:20261213T100000
DTEND;TZID=Europe/London:20261213T150000
DTSTAMP:20260420T042910
CREATED:20230819T162853Z
LAST-MODIFIED:20250831T125135Z
UID:10005806-1797156000-1797174000@wimbledonvillage.com
SUMMARY:Wimbledon Village Farmers' Market
DESCRIPTION:The Village Farmers’ Market serves up a range of fabulous farm fresh and local products along with a varied offering of ready to eat goodies every Sunday from 10am to 3pm on the Village High Street. Stalls rotate each week. \n  \nFollow The Wimbledon Village Farmers’ Market on Instagram or Facebook for more details.
URL:https://wimbledonvillage.com/event/wimbledon-village-farmers-market/2026-12-13/
ATTACH;FMTTYPE=image/jpeg:https://wimbledonvillage.com/wp-content/uploads/2023/08/Farmers-Market-vegetables.jpg
END:VEVENT
BEGIN:VEVENT
DTSTART;TZID=Europe/London:20261213T190000
DTEND;TZID=Europe/London:20261213T220000
DTSTAMP:20260420T042910
CREATED:20240108T125908Z
LAST-MODIFIED:20250831T125309Z
UID:10006498-1797188400-1797199200@wimbledonvillage.com
SUMMARY:Pub Quiz @ the Fire Stables
DESCRIPTION:Put your thinking hat on because this is a game for real players. Call your smartest friends and put together a winning team to answer questions about general knowledge\, music\, geography\, everything and nothing. A £50 bar tab is up for grabs each week. \n  \nWhere & When: Fire Stables\, every Sunday from 7 – 10 pm.
URL:https://wimbledonvillage.com/event/pub-quiz-the-fire-stables/2026-12-13/
ATTACH;FMTTYPE=image/jpeg:https://wimbledonvillage.com/wp-content/uploads/2024/01/rsz_pexels-elevate-1269025.jpg
END:VEVENT
BEGIN:VEVENT
DTSTART;TZID=Europe/London:20261215T100000
DTEND;TZID=Europe/London:20261215T110000
DTSTAMP:20260420T042910
CREATED:20260104T114342Z
LAST-MODIFIED:20260104T114342Z
UID:10008682-1797328800-1797332400@wimbledonvillage.com
SUMMARY:Wimbledon Common Healthy Walks
DESCRIPTION:Take a little outdoor exercise and at the same time learn about the history and current management of the Commons at this regular programme of healthy walks on Wimbledon Common. \n  \nThese moderate walks take place every three weeks and last for approximately 1 hour. They are led by one of the Commons’ full-time staff or a regular volunteer. \n  \nWhere and When: Meeting/end point is outside the wooden garages near to the Rangers Office on Windmill Road. Time: 10am-11am. Booking is not required. \n  \nWalk dates for 2026: \n\n13 January\n3 February\n24 February\n17 March\n7 April\n28 April\n19 May\n9 June\n30 June\n21 July\n11 August\n1 September\n22 September\n13 October\n3 November\n24 November\n15 December
URL:https://wimbledonvillage.com/event/wimbledon-common-healthy-walks-3/2026-12-15/
ATTACH;FMTTYPE=image/jpeg:https://wimbledonvillage.com/wp-content/uploads/2025/02/img20230815105914035hdr_cropped_.jpg
END:VEVENT
BEGIN:VEVENT
DTSTART;TZID=Europe/London:20261215T193000
DTEND;TZID=Europe/London:20261215T224500
DTSTAMP:20260420T042910
CREATED:20250922T102723Z
LAST-MODIFIED:20260202T082017Z
UID:10002274-1797363000-1797374700@wimbledonvillage.com
SUMMARY:Pub Quiz @ The Rose & Crown
DESCRIPTION:Grab your cleverest pals & put your knowledge to the test with fantastic quiz master Duncan at the weekly Rose & Crown pub quiz. \n  \nWhere & When: The Rose & Crown\, 55 High Street\, Wimbledon Village\, London SW19 5BA\, every Tuesday from 7.30 – 10.45 pm (except during the Wimbledon tennis fortnight).
URL:https://wimbledonvillage.com/event/rose-crown-pub-quiz-3/2026-12-15/
ATTACH;FMTTYPE=image/jpeg:https://wimbledonvillage.com/wp-content/uploads/2023/08/Rose-Crown-pub-quiz-image.jpg
END:VEVENT
BEGIN:VEVENT
DTSTART;TZID=Europe/London:20261215T200000
DTEND;TZID=Europe/London:20261215T220000
DTSTAMP:20260420T042910
CREATED:20260301T153138Z
LAST-MODIFIED:20260301T153254Z
UID:10008948-1797364800-1797372000@wimbledonvillage.com
SUMMARY:Pub Quiz @ The Hand in Hand
DESCRIPTION:Get your brainiest mates together\, come up with the funniest team name and put your trivia knowledge to the test at the Hand in Hands’ weekly quiz for a chance to win one of the lovely prizes on offer. \n  \nQuizmaster John Spain will put you through your paces from general knowledge to music and sport. You’ve got to be in it\, to win it! \n  \nWhere & When: Hand in Hand\, every Tuesday from 8 -10 pm.
URL:https://wimbledonvillage.com/event/pub-quiz-the-hand-in-hand/2026-12-15/
ATTACH;FMTTYPE=image/jpeg:https://wimbledonvillage.com/wp-content/uploads/2024/04/Screenshot-2026-03-01-at-15.29.0.jpg
END:VEVENT
BEGIN:VEVENT
DTSTART;TZID=Europe/London:20261216T190000
DTEND;TZID=Europe/London:20261216T220000
DTSTAMP:20260420T042910
CREATED:20240428T113530Z
LAST-MODIFIED:20250831T125653Z
UID:10006849-1797447600-1797458400@wimbledonvillage.com
SUMMARY:Pub Quiz @ The Dog & Fox
DESCRIPTION:Grab your team\, get your brain in gear and get quizzical at the Dog & Fox. \n  \nWhere & When: The Dog & Fox\, 24 High Street\, Wimbledon Village\, London SW19 5EA\, every Wednesday night\, 7 – 10 pm.
URL:https://wimbledonvillage.com/event/pub-quiz-the-dog-fox/2026-12-16/
ATTACH;FMTTYPE=image/png:https://wimbledonvillage.com/wp-content/uploads/2024/04/Dog-Fox-pub-quiz-image.png
END:VEVENT
BEGIN:VEVENT
DTSTART;TZID=Europe/London:20261219T090000
DTEND;TZID=Europe/London:20261219T100000
DTSTAMP:20260420T042910
CREATED:20230819T151954Z
LAST-MODIFIED:20250831T130729Z
UID:10007618-1797670800-1797674400@wimbledonvillage.com
SUMMARY:Wimbledon Common Parkrun
DESCRIPTION:A free\, fun\, and friendly weekly 5k community event. Participants can choose to walk\, jog\, run\, volunteer or just spectate. \n  \nThe run starts from near the Windmill car park every Saturday at 9am. \n  \nJoin other runners and supporters for a post run coffee at the Windmill Cafe.
URL:https://wimbledonvillage.com/event/wimbledon-common-park-run/2026-12-19/
ATTACH;FMTTYPE=image/jpeg:https://wimbledonvillage.com/wp-content/uploads/2023/08/Wimbledon-Common-Parkrun-runners-enjoying-the-course.jpg
END:VEVENT
BEGIN:VEVENT
DTSTART;TZID=Europe/London:20261219T103000
DTEND;TZID=Europe/London:20261219T120000
DTSTAMP:20260420T042910
CREATED:20230819T155822Z
LAST-MODIFIED:20250831T132807Z
UID:10008310-1797676200-1797681600@wimbledonvillage.com
SUMMARY:Wimbledon Common and Village Walk & Talk
DESCRIPTION:A free and fun ‘walk and talk’ every Saturday morning around Wimbledon Common and Wimbledon Village. \n  \nWalk and talks are a chance for all generations to take a stroll\, chat\, meet friends and neighbours\, make new friends and enjoy their local area and green spaces together. From older adults to young children\, from buggies to beagles – everybody can join in. \n  \nNo booking\, no reservations\, just turn up and you will get a very warm welcome. \n  \nWhen & Where: 10.30am at the Wimbledon War Memorial on The Green\, at the corner of Parkside and The Causeway.
URL:https://wimbledonvillage.com/event/weekly-walk-talk/2026-12-19/
ATTACH;FMTTYPE=image/jpeg:https://wimbledonvillage.com/wp-content/uploads/2023/08/Walk-Talk-Wimbledon-Common-walkers-on-a-sunny-day.jpg
END:VEVENT
END:VCALENDAR