BEGIN:VCALENDAR
VERSION:2.0
PRODID:-//Wimbledon Village - ECPv6.15.20//NONSGML v1.0//EN
CALSCALE:GREGORIAN
METHOD:PUBLISH
X-WR-CALNAME:Wimbledon Village
X-ORIGINAL-URL:https://wimbledonvillage.com
X-WR-CALDESC:Events for Wimbledon Village
REFRESH-INTERVAL;VALUE=DURATION:PT1H
X-Robots-Tag:noindex
X-PUBLISHED-TTL:PT1H
BEGIN:VTIMEZONE
TZID:Europe/London
BEGIN:DAYLIGHT
TZOFFSETFROM:+0000
TZOFFSETTO:+0100
TZNAME:BST
DTSTART:20250330T010000
END:DAYLIGHT
BEGIN:STANDARD
TZOFFSETFROM:+0100
TZOFFSETTO:+0000
TZNAME:GMT
DTSTART:20251026T010000
END:STANDARD
BEGIN:DAYLIGHT
TZOFFSETFROM:+0000
TZOFFSETTO:+0100
TZNAME:BST
DTSTART:20260329T010000
END:DAYLIGHT
BEGIN:STANDARD
TZOFFSETFROM:+0100
TZOFFSETTO:+0000
TZNAME:GMT
DTSTART:20261025T010000
END:STANDARD
BEGIN:DAYLIGHT
TZOFFSETFROM:+0000
TZOFFSETTO:+0100
TZNAME:BST
DTSTART:20270328T010000
END:DAYLIGHT
BEGIN:STANDARD
TZOFFSETFROM:+0100
TZOFFSETTO:+0000
TZNAME:GMT
DTSTART:20271031T010000
END:STANDARD
END:VTIMEZONE
BEGIN:VEVENT
DTSTART;TZID=Europe/London:20260616T193000
DTEND;TZID=Europe/London:20260616T224500
DTSTAMP:20260420T030822
CREATED:20250922T102723Z
LAST-MODIFIED:20260202T082017Z
UID:10002248-1781638200-1781649900@wimbledonvillage.com
SUMMARY:Pub Quiz @ The Rose & Crown
DESCRIPTION:Grab your cleverest pals & put your knowledge to the test with fantastic quiz master Duncan at the weekly Rose & Crown pub quiz. \n  \nWhere & When: The Rose & Crown\, 55 High Street\, Wimbledon Village\, London SW19 5BA\, every Tuesday from 7.30 – 10.45 pm (except during the Wimbledon tennis fortnight).
URL:https://wimbledonvillage.com/event/rose-crown-pub-quiz-3/2026-06-16/
ATTACH;FMTTYPE=image/jpeg:https://wimbledonvillage.com/wp-content/uploads/2023/08/Rose-Crown-pub-quiz-image.jpg
END:VEVENT
BEGIN:VEVENT
DTSTART;TZID=Europe/London:20260616T200000
DTEND;TZID=Europe/London:20260616T220000
DTSTAMP:20260420T030822
CREATED:20260301T153138Z
LAST-MODIFIED:20260301T153254Z
UID:10008923-1781640000-1781647200@wimbledonvillage.com
SUMMARY:Pub Quiz @ The Hand in Hand
DESCRIPTION:Get your brainiest mates together\, come up with the funniest team name and put your trivia knowledge to the test at the Hand in Hands’ weekly quiz for a chance to win one of the lovely prizes on offer. \n  \nQuizmaster John Spain will put you through your paces from general knowledge to music and sport. You’ve got to be in it\, to win it! \n  \nWhere & When: Hand in Hand\, every Tuesday from 8 -10 pm.
URL:https://wimbledonvillage.com/event/pub-quiz-the-hand-in-hand/2026-06-16/
ATTACH;FMTTYPE=image/jpeg:https://wimbledonvillage.com/wp-content/uploads/2024/04/Screenshot-2026-03-01-at-15.29.0.jpg
END:VEVENT
BEGIN:VEVENT
DTSTART;TZID=Europe/London:20260617T190000
DTEND;TZID=Europe/London:20260617T220000
DTSTAMP:20260420T030822
CREATED:20240428T113530Z
LAST-MODIFIED:20250831T125653Z
UID:10006823-1781722800-1781733600@wimbledonvillage.com
SUMMARY:Pub Quiz @ The Dog & Fox
DESCRIPTION:Grab your team\, get your brain in gear and get quizzical at the Dog & Fox. \n  \nWhere & When: The Dog & Fox\, 24 High Street\, Wimbledon Village\, London SW19 5EA\, every Wednesday night\, 7 – 10 pm.
URL:https://wimbledonvillage.com/event/pub-quiz-the-dog-fox/2026-06-17/
ATTACH;FMTTYPE=image/png:https://wimbledonvillage.com/wp-content/uploads/2024/04/Dog-Fox-pub-quiz-image.png
END:VEVENT
BEGIN:VEVENT
DTSTART;TZID=Europe/London:20260620T090000
DTEND;TZID=Europe/London:20260620T100000
DTSTAMP:20260420T030822
CREATED:20230819T151954Z
LAST-MODIFIED:20250831T130729Z
UID:10007592-1781946000-1781949600@wimbledonvillage.com
SUMMARY:Wimbledon Common Parkrun
DESCRIPTION:A free\, fun\, and friendly weekly 5k community event. Participants can choose to walk\, jog\, run\, volunteer or just spectate. \n  \nThe run starts from near the Windmill car park every Saturday at 9am. \n  \nJoin other runners and supporters for a post run coffee at the Windmill Cafe.
URL:https://wimbledonvillage.com/event/wimbledon-common-park-run/2026-06-20/
ATTACH;FMTTYPE=image/jpeg:https://wimbledonvillage.com/wp-content/uploads/2023/08/Wimbledon-Common-Parkrun-runners-enjoying-the-course.jpg
END:VEVENT
BEGIN:VEVENT
DTSTART;TZID=Europe/London:20260620T103000
DTEND;TZID=Europe/London:20260620T120000
DTSTAMP:20260420T030822
CREATED:20230819T155822Z
LAST-MODIFIED:20250831T132807Z
UID:10008284-1781951400-1781956800@wimbledonvillage.com
SUMMARY:Wimbledon Common and Village Walk & Talk
DESCRIPTION:A free and fun ‘walk and talk’ every Saturday morning around Wimbledon Common and Wimbledon Village. \n  \nWalk and talks are a chance for all generations to take a stroll\, chat\, meet friends and neighbours\, make new friends and enjoy their local area and green spaces together. From older adults to young children\, from buggies to beagles – everybody can join in. \n  \nNo booking\, no reservations\, just turn up and you will get a very warm welcome. \n  \nWhen & Where: 10.30am at the Wimbledon War Memorial on The Green\, at the corner of Parkside and The Causeway.
URL:https://wimbledonvillage.com/event/weekly-walk-talk/2026-06-20/
ATTACH;FMTTYPE=image/jpeg:https://wimbledonvillage.com/wp-content/uploads/2023/08/Walk-Talk-Wimbledon-Common-walkers-on-a-sunny-day.jpg
END:VEVENT
BEGIN:VEVENT
DTSTART;TZID=Europe/London:20260621T093000
DTEND;TZID=Europe/London:20260621T120000
DTSTAMP:20260420T030822
CREATED:20260104T125753Z
LAST-MODIFIED:20260104T125812Z
UID:10008773-1782034200-1782043200@wimbledonvillage.com
SUMMARY:Wimbledon Common 10k & Half Marathon
DESCRIPTION:A half marathon and 10k run around Wimbledon Common organised by Runthrough. \n  \n2026 Dates: Sunday 5th April / Sunday 3rd May / Sunday 21st June / Sunday 26th July / Sunday 6th September / Sunday 22nd November \n  \nWhere:  9:30 am –  12:30 pm\, Richard Evans Memorial Playing Fields Roehampton Vale London SW15 3PQ \n\n  \n\nTickets: From £32 (individual) – £160 (group of 6)
URL:https://wimbledonvillage.com/event/wimbledon-common-10k-half-marathon-2/2026-06-21/
ATTACH;FMTTYPE=image/png:https://wimbledonvillage.com/wp-content/uploads/2025/05/e1GdAhXBEyRMP7Lj0dnqTTKpfVQFcvhU.png
END:VEVENT
BEGIN:VEVENT
DTSTART;TZID=Europe/London:20260621T100000
DTEND;TZID=Europe/London:20260621T150000
DTSTAMP:20260420T030822
CREATED:20230819T162853Z
LAST-MODIFIED:20250831T125135Z
UID:10005781-1782036000-1782054000@wimbledonvillage.com
SUMMARY:Wimbledon Village Farmers' Market
DESCRIPTION:The Village Farmers’ Market serves up a range of fabulous farm fresh and local products along with a varied offering of ready to eat goodies every Sunday from 10am to 3pm on the Village High Street. Stalls rotate each week. \n  \nFollow The Wimbledon Village Farmers’ Market on Instagram or Facebook for more details.
URL:https://wimbledonvillage.com/event/wimbledon-village-farmers-market/2026-06-21/
ATTACH;FMTTYPE=image/jpeg:https://wimbledonvillage.com/wp-content/uploads/2023/08/Farmers-Market-vegetables.jpg
END:VEVENT
BEGIN:VEVENT
DTSTART;TZID=Europe/London:20260621T110000
DTEND;TZID=Europe/London:20260621T160000
DTSTAMP:20260420T030822
CREATED:20260218T093841Z
LAST-MODIFIED:20260218T095635Z
UID:10008894-1782039600-1782057600@wimbledonvillage.com
SUMMARY:Artisan Market at Cannizaro House
DESCRIPTION:Browse a wonderful range of over 30 small independent businesses offering jewellery\, clothes\, skincare\, candles\, dog accessories\, glass\, gin\, rum & more. \n  \nWhere & When: Front lawn\, Cannizaro House\, Sunday 21st June 2026\, 11 am – 4 pm \n  \nTickets: Free entrance
URL:https://wimbledonvillage.com/event/artisan-market-at-cannizaro-house-2/
ATTACH;FMTTYPE=image/jpeg:https://wimbledonvillage.com/wp-content/uploads/2025/04/488482975_1318118029710284_53711.jpg
END:VEVENT
BEGIN:VEVENT
DTSTART;TZID=Europe/London:20260621T120000
DTEND;TZID=Europe/London:20260621T150000
DTSTAMP:20260420T030822
CREATED:20260228T170204Z
LAST-MODIFIED:20260228T170204Z
UID:10008906-1782043200-1782054000@wimbledonvillage.com
SUMMARY:Wedding Showcase @ the Coach House
DESCRIPTION:Looking to tie the knot? Pop by to see the beautiful Coach House\, a fabulous venue located in the heart of Wimbledon Village\, talk to their fantastic wedding team and meet local suppliers. \n  \nWhere & When: The Coach House at the Dog & Fox\, Sunday 21st June\, 12 – 3 pm. \n  \nTickets: Free entry. Booking not required.
URL:https://wimbledonvillage.com/event/wedding-showcase-the-coach-house-2/
ATTACH;FMTTYPE=image/jpeg:https://wimbledonvillage.com/wp-content/uploads/2026/02/pexels-jeremy-wong-382920-104390.jpg
END:VEVENT
BEGIN:VEVENT
DTSTART;TZID=Europe/London:20260621T190000
DTEND;TZID=Europe/London:20260621T220000
DTSTAMP:20260420T030822
CREATED:20240108T125908Z
LAST-MODIFIED:20250831T125309Z
UID:10006473-1782068400-1782079200@wimbledonvillage.com
SUMMARY:Pub Quiz @ the Fire Stables
DESCRIPTION:Put your thinking hat on because this is a game for real players. Call your smartest friends and put together a winning team to answer questions about general knowledge\, music\, geography\, everything and nothing. A £50 bar tab is up for grabs each week. \n  \nWhere & When: Fire Stables\, every Sunday from 7 – 10 pm.
URL:https://wimbledonvillage.com/event/pub-quiz-the-fire-stables/2026-06-21/
ATTACH;FMTTYPE=image/jpeg:https://wimbledonvillage.com/wp-content/uploads/2024/01/rsz_pexels-elevate-1269025.jpg
END:VEVENT
BEGIN:VEVENT
DTSTART;TZID=Europe/London:20260623T193000
DTEND;TZID=Europe/London:20260623T224500
DTSTAMP:20260420T030822
CREATED:20250922T102723Z
LAST-MODIFIED:20260202T082017Z
UID:10002249-1782243000-1782254700@wimbledonvillage.com
SUMMARY:Pub Quiz @ The Rose & Crown
DESCRIPTION:Grab your cleverest pals & put your knowledge to the test with fantastic quiz master Duncan at the weekly Rose & Crown pub quiz. \n  \nWhere & When: The Rose & Crown\, 55 High Street\, Wimbledon Village\, London SW19 5BA\, every Tuesday from 7.30 – 10.45 pm (except during the Wimbledon tennis fortnight).
URL:https://wimbledonvillage.com/event/rose-crown-pub-quiz-3/2026-06-23/
ATTACH;FMTTYPE=image/jpeg:https://wimbledonvillage.com/wp-content/uploads/2023/08/Rose-Crown-pub-quiz-image.jpg
END:VEVENT
BEGIN:VEVENT
DTSTART;TZID=Europe/London:20260623T200000
DTEND;TZID=Europe/London:20260623T220000
DTSTAMP:20260420T030822
CREATED:20260301T153138Z
LAST-MODIFIED:20260301T153254Z
UID:10008924-1782244800-1782252000@wimbledonvillage.com
SUMMARY:Pub Quiz @ The Hand in Hand
DESCRIPTION:Get your brainiest mates together\, come up with the funniest team name and put your trivia knowledge to the test at the Hand in Hands’ weekly quiz for a chance to win one of the lovely prizes on offer. \n  \nQuizmaster John Spain will put you through your paces from general knowledge to music and sport. You’ve got to be in it\, to win it! \n  \nWhere & When: Hand in Hand\, every Tuesday from 8 -10 pm.
URL:https://wimbledonvillage.com/event/pub-quiz-the-hand-in-hand/2026-06-23/
ATTACH;FMTTYPE=image/jpeg:https://wimbledonvillage.com/wp-content/uploads/2024/04/Screenshot-2026-03-01-at-15.29.0.jpg
END:VEVENT
BEGIN:VEVENT
DTSTART;TZID=Europe/London:20260624T190000
DTEND;TZID=Europe/London:20260624T220000
DTSTAMP:20260420T030822
CREATED:20240428T113530Z
LAST-MODIFIED:20250831T125653Z
UID:10006824-1782327600-1782338400@wimbledonvillage.com
SUMMARY:Pub Quiz @ The Dog & Fox
DESCRIPTION:Grab your team\, get your brain in gear and get quizzical at the Dog & Fox. \n  \nWhere & When: The Dog & Fox\, 24 High Street\, Wimbledon Village\, London SW19 5EA\, every Wednesday night\, 7 – 10 pm.
URL:https://wimbledonvillage.com/event/pub-quiz-the-dog-fox/2026-06-24/
ATTACH;FMTTYPE=image/png:https://wimbledonvillage.com/wp-content/uploads/2024/04/Dog-Fox-pub-quiz-image.png
END:VEVENT
BEGIN:VEVENT
DTSTART;TZID=Europe/London:20260626T123000
DTEND;TZID=Europe/London:20260626T140000
DTSTAMP:20260420T030822
CREATED:20260304T201421Z
LAST-MODIFIED:20260304T201421Z
UID:10009182-1782477000-1782482400@wimbledonvillage.com
SUMMARY:St John's June Lunchtime Recital
DESCRIPTION:The June recital will feature Sara Minelli (flute) and Jelena Makarova (piano). \n  \nGenerously supported by the Tertis Foundation\, this event is one of a series of Lunchtime Recitals held on the final Friday of each month\, featuring local and international professional musicians. \n  \nWhere & When: St John the Baptist\, on Friday 26th June 2026 at 1pm.  The Church is open for refreshments from 12.30pm with delicious home-made cakes available. Attendees are also welcome to bring their own food and drinks to enjoy before or after the recital. \n  \nBooking: No booking required. This event is free but donations are welcome in aid of the St John’s Music Fund. \n  \nTo join the St John’s mailing list and for more information about upcoming concerts please email: jane.long@me.com
URL:https://wimbledonvillage.com/event/st-johns-june-lunchtime-recital/
ATTACH;FMTTYPE=image/jpeg:https://wimbledonvillage.com/wp-content/uploads/2024/06/geert-pieters-8QrPJ3Kfie4-unspla.jpg
END:VEVENT
BEGIN:VEVENT
DTSTART;TZID=Europe/London:20260627T090000
DTEND;TZID=Europe/London:20260627T100000
DTSTAMP:20260420T030822
CREATED:20230819T151954Z
LAST-MODIFIED:20250831T130729Z
UID:10007593-1782550800-1782554400@wimbledonvillage.com
SUMMARY:Wimbledon Common Parkrun
DESCRIPTION:A free\, fun\, and friendly weekly 5k community event. Participants can choose to walk\, jog\, run\, volunteer or just spectate. \n  \nThe run starts from near the Windmill car park every Saturday at 9am. \n  \nJoin other runners and supporters for a post run coffee at the Windmill Cafe.
URL:https://wimbledonvillage.com/event/wimbledon-common-park-run/2026-06-27/
ATTACH;FMTTYPE=image/jpeg:https://wimbledonvillage.com/wp-content/uploads/2023/08/Wimbledon-Common-Parkrun-runners-enjoying-the-course.jpg
END:VEVENT
BEGIN:VEVENT
DTSTART;TZID=Europe/London:20260627T103000
DTEND;TZID=Europe/London:20260627T120000
DTSTAMP:20260420T030822
CREATED:20230819T155822Z
LAST-MODIFIED:20250831T132807Z
UID:10008285-1782556200-1782561600@wimbledonvillage.com
SUMMARY:Wimbledon Common and Village Walk & Talk
DESCRIPTION:A free and fun ‘walk and talk’ every Saturday morning around Wimbledon Common and Wimbledon Village. \n  \nWalk and talks are a chance for all generations to take a stroll\, chat\, meet friends and neighbours\, make new friends and enjoy their local area and green spaces together. From older adults to young children\, from buggies to beagles – everybody can join in. \n  \nNo booking\, no reservations\, just turn up and you will get a very warm welcome. \n  \nWhen & Where: 10.30am at the Wimbledon War Memorial on The Green\, at the corner of Parkside and The Causeway.
URL:https://wimbledonvillage.com/event/weekly-walk-talk/2026-06-27/
ATTACH;FMTTYPE=image/jpeg:https://wimbledonvillage.com/wp-content/uploads/2023/08/Walk-Talk-Wimbledon-Common-walkers-on-a-sunny-day.jpg
END:VEVENT
BEGIN:VEVENT
DTSTART;TZID=Europe/London:20260628T100000
DTEND;TZID=Europe/London:20260628T150000
DTSTAMP:20260420T030822
CREATED:20230819T162853Z
LAST-MODIFIED:20250831T125135Z
UID:10005782-1782640800-1782658800@wimbledonvillage.com
SUMMARY:Wimbledon Village Farmers' Market
DESCRIPTION:The Village Farmers’ Market serves up a range of fabulous farm fresh and local products along with a varied offering of ready to eat goodies every Sunday from 10am to 3pm on the Village High Street. Stalls rotate each week. \n  \nFollow The Wimbledon Village Farmers’ Market on Instagram or Facebook for more details.
URL:https://wimbledonvillage.com/event/wimbledon-village-farmers-market/2026-06-28/
ATTACH;FMTTYPE=image/jpeg:https://wimbledonvillage.com/wp-content/uploads/2023/08/Farmers-Market-vegetables.jpg
END:VEVENT
BEGIN:VEVENT
DTSTART;TZID=Europe/London:20260628T190000
DTEND;TZID=Europe/London:20260628T220000
DTSTAMP:20260420T030822
CREATED:20240108T125908Z
LAST-MODIFIED:20250831T125309Z
UID:10006474-1782673200-1782684000@wimbledonvillage.com
SUMMARY:Pub Quiz @ the Fire Stables
DESCRIPTION:Put your thinking hat on because this is a game for real players. Call your smartest friends and put together a winning team to answer questions about general knowledge\, music\, geography\, everything and nothing. A £50 bar tab is up for grabs each week. \n  \nWhere & When: Fire Stables\, every Sunday from 7 – 10 pm.
URL:https://wimbledonvillage.com/event/pub-quiz-the-fire-stables/2026-06-28/
ATTACH;FMTTYPE=image/jpeg:https://wimbledonvillage.com/wp-content/uploads/2024/01/rsz_pexels-elevate-1269025.jpg
END:VEVENT
BEGIN:VEVENT
DTSTART;TZID=Europe/London:20260629T120000
DTEND;TZID=Europe/London:20260712T200000
DTSTAMP:20260420T030822
CREATED:20260105T070323Z
LAST-MODIFIED:20260105T070935Z
UID:10008843-1782734400-1783886400@wimbledonvillage.com
SUMMARY:The Championships 2026
DESCRIPTION:Pimm’s at the ready! The world’s most famous tennis tournament returns for 2026. \n  \nImage Credit: AELTC
URL:https://wimbledonvillage.com/event/the-championships-2025/
ATTACH;FMTTYPE=image/jpeg:https://wimbledonvillage.com/wp-content/uploads/2026/01/Iga-Swiatek-2025-Winner-at-Wimbl.jpg
END:VEVENT
BEGIN:VEVENT
DTSTART;TZID=Europe/London:20260629T133000
DTEND;TZID=Europe/London:20260629T150000
DTSTAMP:20260420T030822
CREATED:20251115T222907Z
LAST-MODIFIED:20260322T191634Z
UID:10009205-1782739800-1782745200@wimbledonvillage.com
SUMMARY:Prams & Pinot Wine Tasting
DESCRIPTION:A wine tasting welcoming all parents & prams. \n  \nEnjoy and learn about 4 seasonal wines accompanied with light nibbles\, in a relaxed and informal environment with plenty of pram space. Spittoons and a small changing table are available. \n  \nEnjoy an exclusive discount\, only available on the tasting day: Get 10% off your order when you purchase any of the wines tasted. \n  \nWhere & When: Friarwood Wines & Spirits on selected Mondays\, 1:30-3pm. Recommended arrival time\, 1.20pm \n  \nTickets: £25pp
URL:https://wimbledonvillage.com/event/prams-pinot-wine-tasting/2026-06-29/
ATTACH;FMTTYPE=image/png:https://wimbledonvillage.com/wp-content/uploads/2024/08/Mumdays-Wine-Tastings_2022.png
END:VEVENT
BEGIN:VEVENT
DTSTART;TZID=Europe/London:20260630T100000
DTEND;TZID=Europe/London:20260630T110000
DTSTAMP:20260420T030822
CREATED:20260104T114342Z
LAST-MODIFIED:20260104T114342Z
UID:10008674-1782813600-1782817200@wimbledonvillage.com
SUMMARY:Wimbledon Common Healthy Walks
DESCRIPTION:Take a little outdoor exercise and at the same time learn about the history and current management of the Commons at this regular programme of healthy walks on Wimbledon Common. \n  \nThese moderate walks take place every three weeks and last for approximately 1 hour. They are led by one of the Commons’ full-time staff or a regular volunteer. \n  \nWhere and When: Meeting/end point is outside the wooden garages near to the Rangers Office on Windmill Road. Time: 10am-11am. Booking is not required. \n  \nWalk dates for 2026: \n\n13 January\n3 February\n24 February\n17 March\n7 April\n28 April\n19 May\n9 June\n30 June\n21 July\n11 August\n1 September\n22 September\n13 October\n3 November\n24 November\n15 December
URL:https://wimbledonvillage.com/event/wimbledon-common-healthy-walks-3/2026-06-30/
ATTACH;FMTTYPE=image/jpeg:https://wimbledonvillage.com/wp-content/uploads/2025/02/img20230815105914035hdr_cropped_.jpg
END:VEVENT
BEGIN:VEVENT
DTSTART;TZID=Europe/London:20260630T193000
DTEND;TZID=Europe/London:20260630T224500
DTSTAMP:20260420T030822
CREATED:20250922T102723Z
LAST-MODIFIED:20260202T082017Z
UID:10002250-1782847800-1782859500@wimbledonvillage.com
SUMMARY:Pub Quiz @ The Rose & Crown
DESCRIPTION:Grab your cleverest pals & put your knowledge to the test with fantastic quiz master Duncan at the weekly Rose & Crown pub quiz. \n  \nWhere & When: The Rose & Crown\, 55 High Street\, Wimbledon Village\, London SW19 5BA\, every Tuesday from 7.30 – 10.45 pm (except during the Wimbledon tennis fortnight).
URL:https://wimbledonvillage.com/event/rose-crown-pub-quiz-3/2026-06-30/
ATTACH;FMTTYPE=image/jpeg:https://wimbledonvillage.com/wp-content/uploads/2023/08/Rose-Crown-pub-quiz-image.jpg
END:VEVENT
BEGIN:VEVENT
DTSTART;TZID=Europe/London:20260701T190000
DTEND;TZID=Europe/London:20260701T220000
DTSTAMP:20260420T030822
CREATED:20240428T113530Z
LAST-MODIFIED:20250831T125653Z
UID:10006825-1782932400-1782943200@wimbledonvillage.com
SUMMARY:Pub Quiz @ The Dog & Fox
DESCRIPTION:Grab your team\, get your brain in gear and get quizzical at the Dog & Fox. \n  \nWhere & When: The Dog & Fox\, 24 High Street\, Wimbledon Village\, London SW19 5EA\, every Wednesday night\, 7 – 10 pm.
URL:https://wimbledonvillage.com/event/pub-quiz-the-dog-fox/2026-07-01/
ATTACH;FMTTYPE=image/png:https://wimbledonvillage.com/wp-content/uploads/2024/04/Dog-Fox-pub-quiz-image.png
END:VEVENT
BEGIN:VEVENT
DTSTART;TZID=Europe/London:20260704T090000
DTEND;TZID=Europe/London:20260704T100000
DTSTAMP:20260420T030822
CREATED:20230819T151954Z
LAST-MODIFIED:20250831T130729Z
UID:10007594-1783155600-1783159200@wimbledonvillage.com
SUMMARY:Wimbledon Common Parkrun
DESCRIPTION:A free\, fun\, and friendly weekly 5k community event. Participants can choose to walk\, jog\, run\, volunteer or just spectate. \n  \nThe run starts from near the Windmill car park every Saturday at 9am. \n  \nJoin other runners and supporters for a post run coffee at the Windmill Cafe.
URL:https://wimbledonvillage.com/event/wimbledon-common-park-run/2026-07-04/
ATTACH;FMTTYPE=image/jpeg:https://wimbledonvillage.com/wp-content/uploads/2023/08/Wimbledon-Common-Parkrun-runners-enjoying-the-course.jpg
END:VEVENT
BEGIN:VEVENT
DTSTART;TZID=Europe/London:20260704T103000
DTEND;TZID=Europe/London:20260704T120000
DTSTAMP:20260420T030822
CREATED:20230819T155822Z
LAST-MODIFIED:20250831T132807Z
UID:10008286-1783161000-1783166400@wimbledonvillage.com
SUMMARY:Wimbledon Common and Village Walk & Talk
DESCRIPTION:A free and fun ‘walk and talk’ every Saturday morning around Wimbledon Common and Wimbledon Village. \n  \nWalk and talks are a chance for all generations to take a stroll\, chat\, meet friends and neighbours\, make new friends and enjoy their local area and green spaces together. From older adults to young children\, from buggies to beagles – everybody can join in. \n  \nNo booking\, no reservations\, just turn up and you will get a very warm welcome. \n  \nWhen & Where: 10.30am at the Wimbledon War Memorial on The Green\, at the corner of Parkside and The Causeway.
URL:https://wimbledonvillage.com/event/weekly-walk-talk/2026-07-04/
ATTACH;FMTTYPE=image/jpeg:https://wimbledonvillage.com/wp-content/uploads/2023/08/Walk-Talk-Wimbledon-Common-walkers-on-a-sunny-day.jpg
END:VEVENT
BEGIN:VEVENT
DTSTART;TZID=Europe/London:20260705T080000
DTEND;TZID=Europe/London:20260705T110000
DTSTAMP:20260420T030822
CREATED:20260104T121718Z
LAST-MODIFIED:20260104T121848Z
UID:10008694-1783238400-1783249200@wimbledonvillage.com
SUMMARY:Southside Hustle Classic Car Meet
DESCRIPTION:A perfect morning out for car enthusiasts\, this informal monthly gathering of classic car owners in Wimbledon Village features a stunning and eclectic array of cars\, some incredibly rare. \n  \nWhere & When: Wimbledon Common Southside at the Village end\, near the Farmer’s Market\, from 8am to around 11am on the first Sunday of each month. \n  \nImage Credit: @paolojgibelli
URL:https://wimbledonvillage.com/event/southside-hustle-classic-car-meet/2026-07-05/
ATTACH;FMTTYPE=image/jpeg:https://wimbledonvillage.com/wp-content/uploads/2025/05/470221591_18338295316150563_9185.jpg
END:VEVENT
BEGIN:VEVENT
DTSTART;TZID=Europe/London:20260705T100000
DTEND;TZID=Europe/London:20260705T150000
DTSTAMP:20260420T030822
CREATED:20230819T162853Z
LAST-MODIFIED:20250831T125135Z
UID:10005783-1783245600-1783263600@wimbledonvillage.com
SUMMARY:Wimbledon Village Farmers' Market
DESCRIPTION:The Village Farmers’ Market serves up a range of fabulous farm fresh and local products along with a varied offering of ready to eat goodies every Sunday from 10am to 3pm on the Village High Street. Stalls rotate each week. \n  \nFollow The Wimbledon Village Farmers’ Market on Instagram or Facebook for more details.
URL:https://wimbledonvillage.com/event/wimbledon-village-farmers-market/2026-07-05/
ATTACH;FMTTYPE=image/jpeg:https://wimbledonvillage.com/wp-content/uploads/2023/08/Farmers-Market-vegetables.jpg
END:VEVENT
BEGIN:VEVENT
DTSTART;TZID=Europe/London:20260705T190000
DTEND;TZID=Europe/London:20260705T220000
DTSTAMP:20260420T030822
CREATED:20240108T125908Z
LAST-MODIFIED:20250831T125309Z
UID:10006475-1783278000-1783288800@wimbledonvillage.com
SUMMARY:Pub Quiz @ the Fire Stables
DESCRIPTION:Put your thinking hat on because this is a game for real players. Call your smartest friends and put together a winning team to answer questions about general knowledge\, music\, geography\, everything and nothing. A £50 bar tab is up for grabs each week. \n  \nWhere & When: Fire Stables\, every Sunday from 7 – 10 pm.
URL:https://wimbledonvillage.com/event/pub-quiz-the-fire-stables/2026-07-05/
ATTACH;FMTTYPE=image/jpeg:https://wimbledonvillage.com/wp-content/uploads/2024/01/rsz_pexels-elevate-1269025.jpg
END:VEVENT
BEGIN:VEVENT
DTSTART;TZID=Europe/London:20260707T193000
DTEND;TZID=Europe/London:20260707T224500
DTSTAMP:20260420T030822
CREATED:20250922T102723Z
LAST-MODIFIED:20260202T082017Z
UID:10002251-1783452600-1783464300@wimbledonvillage.com
SUMMARY:Pub Quiz @ The Rose & Crown
DESCRIPTION:Grab your cleverest pals & put your knowledge to the test with fantastic quiz master Duncan at the weekly Rose & Crown pub quiz. \n  \nWhere & When: The Rose & Crown\, 55 High Street\, Wimbledon Village\, London SW19 5BA\, every Tuesday from 7.30 – 10.45 pm (except during the Wimbledon tennis fortnight).
URL:https://wimbledonvillage.com/event/rose-crown-pub-quiz-3/2026-07-07/
ATTACH;FMTTYPE=image/jpeg:https://wimbledonvillage.com/wp-content/uploads/2023/08/Rose-Crown-pub-quiz-image.jpg
END:VEVENT
BEGIN:VEVENT
DTSTART;TZID=Europe/London:20260707T200000
DTEND;TZID=Europe/London:20260707T220000
DTSTAMP:20260420T030822
CREATED:20260301T153138Z
LAST-MODIFIED:20260301T153254Z
UID:10008925-1783454400-1783461600@wimbledonvillage.com
SUMMARY:Pub Quiz @ The Hand in Hand
DESCRIPTION:Get your brainiest mates together\, come up with the funniest team name and put your trivia knowledge to the test at the Hand in Hands’ weekly quiz for a chance to win one of the lovely prizes on offer. \n  \nQuizmaster John Spain will put you through your paces from general knowledge to music and sport. You’ve got to be in it\, to win it! \n  \nWhere & When: Hand in Hand\, every Tuesday from 8 -10 pm.
URL:https://wimbledonvillage.com/event/pub-quiz-the-hand-in-hand/2026-07-07/
ATTACH;FMTTYPE=image/jpeg:https://wimbledonvillage.com/wp-content/uploads/2024/04/Screenshot-2026-03-01-at-15.29.0.jpg
END:VEVENT
END:VCALENDAR