BEGIN:VCALENDAR
VERSION:2.0
PRODID:-//Wimbledon Village - ECPv6.15.20//NONSGML v1.0//EN
CALSCALE:GREGORIAN
METHOD:PUBLISH
X-WR-CALNAME:Wimbledon Village
X-ORIGINAL-URL:https://wimbledonvillage.com
X-WR-CALDESC:Events for Wimbledon Village
REFRESH-INTERVAL;VALUE=DURATION:PT1H
X-Robots-Tag:noindex
X-PUBLISHED-TTL:PT1H
BEGIN:VTIMEZONE
TZID:Europe/London
BEGIN:DAYLIGHT
TZOFFSETFROM:+0000
TZOFFSETTO:+0100
TZNAME:BST
DTSTART:20240331T010000
END:DAYLIGHT
BEGIN:STANDARD
TZOFFSETFROM:+0100
TZOFFSETTO:+0000
TZNAME:GMT
DTSTART:20241027T010000
END:STANDARD
BEGIN:DAYLIGHT
TZOFFSETFROM:+0000
TZOFFSETTO:+0100
TZNAME:BST
DTSTART:20250330T010000
END:DAYLIGHT
BEGIN:STANDARD
TZOFFSETFROM:+0100
TZOFFSETTO:+0000
TZNAME:GMT
DTSTART:20251026T010000
END:STANDARD
BEGIN:DAYLIGHT
TZOFFSETFROM:+0000
TZOFFSETTO:+0100
TZNAME:BST
DTSTART:20260329T010000
END:DAYLIGHT
BEGIN:STANDARD
TZOFFSETFROM:+0100
TZOFFSETTO:+0000
TZNAME:GMT
DTSTART:20261025T010000
END:STANDARD
END:VTIMEZONE
BEGIN:VEVENT
DTSTART;TZID=Europe/London:20250809T103000
DTEND;TZID=Europe/London:20250809T120000
DTSTAMP:20260420T030109
CREATED:20230819T155822Z
LAST-MODIFIED:20250831T132807Z
UID:10008240-1754735400-1754740800@wimbledonvillage.com
SUMMARY:Wimbledon Common and Village Walk & Talk
DESCRIPTION:A free and fun ‘walk and talk’ every Saturday morning around Wimbledon Common and Wimbledon Village. \n  \nWalk and talks are a chance for all generations to take a stroll\, chat\, meet friends and neighbours\, make new friends and enjoy their local area and green spaces together. From older adults to young children\, from buggies to beagles – everybody can join in. \n  \nNo booking\, no reservations\, just turn up and you will get a very warm welcome. \n  \nWhen & Where: 10.30am at the Wimbledon War Memorial on The Green\, at the corner of Parkside and The Causeway.
URL:https://wimbledonvillage.com/event/weekly-walk-talk/2025-08-09/
ATTACH;FMTTYPE=image/jpeg:https://wimbledonvillage.com/wp-content/uploads/2023/08/Walk-Talk-Wimbledon-Common-walkers-on-a-sunny-day.jpg
END:VEVENT
BEGIN:VEVENT
DTSTART;TZID=Europe/London:20250809T090000
DTEND;TZID=Europe/London:20250809T100000
DTSTAMP:20260420T030109
CREATED:20230819T151954Z
LAST-MODIFIED:20250831T130729Z
UID:10007547-1754730000-1754733600@wimbledonvillage.com
SUMMARY:Wimbledon Common Parkrun
DESCRIPTION:A free\, fun\, and friendly weekly 5k community event. Participants can choose to walk\, jog\, run\, volunteer or just spectate. \n  \nThe run starts from near the Windmill car park every Saturday at 9am. \n  \nJoin other runners and supporters for a post run coffee at the Windmill Cafe.
URL:https://wimbledonvillage.com/event/wimbledon-common-park-run/2025-08-09/
ATTACH;FMTTYPE=image/jpeg:https://wimbledonvillage.com/wp-content/uploads/2023/08/Wimbledon-Common-Parkrun-runners-enjoying-the-course.jpg
END:VEVENT
BEGIN:VEVENT
DTSTART;TZID=Europe/London:20250809T080000
DTEND;TZID=Europe/London:20250809T170000
DTSTAMP:20260420T030109
CREATED:20240414T092931Z
LAST-MODIFIED:20250831T134400Z
UID:10004351-1754726400-1754758800@wimbledonvillage.com
SUMMARY:Wimbledon Village Stables Open Day
DESCRIPTION:On the second Saturday of every month\, the Stables invites visitors to explore the yard\, meet the horses\, and see how everything runs behind the scenes. \n  \nIt’s a great opportunity to learn about membership options\, and see the Equicise horse simulator\, designed for all ages and abilities. Plus children will love meeting Mr Fudge\, the friendly Shetland pony!  \n  \nWhere & When: Wimbledon Village Stables\, 24 A/B\, High St\, Wimbledon Village\, London SW19 5DX\, second Saturday of every month\, from 2 – 3 pm. \n  \nBooking: No booking required—just turn up and enjoy a relaxed\, informative afternoon.
URL:https://wimbledonvillage.com/event/wimbledon-village-stables-open-afternoons/2025-08-09/
ATTACH;FMTTYPE=image/jpeg:https://wimbledonvillage.com/wp-content/uploads/2025/03/IMG_7836.jpg
END:VEVENT
BEGIN:VEVENT
DTSTART;TZID=Europe/London:20250808T080000
DTEND;TZID=Europe/London:20250808T170000
DTSTAMP:20260420T030109
CREATED:20250730T140127Z
LAST-MODIFIED:20250730T140432Z
UID:10004863-1754640000-1754672400@wimbledonvillage.com
SUMMARY:Madre Mezcal Barrel Top Tasting @ Amathus
DESCRIPTION:Madre is known for its artisanal mezcals distilled in open-air “palenques” in the hills of Oaxaca. With less smoke than many mezcals\, their Ensamble is perfect for those new to the spirit\, while their single varietal Espadin offers a bright\, earthy character complemented by natural smokiness. Try them both at this informal customer tasting. \n  \nWhere & When: Amathus on Friday 8th August from 4 – 7 pm. \n  \nTickets/Booking: Free event. Booking not required.
URL:https://wimbledonvillage.com/event/madre-mezcal-barrel-top-tasting-amathus/
ATTACH;FMTTYPE=image/jpeg:https://wimbledonvillage.com/wp-content/uploads/2025/07/ensamble-hp-hero.jpg
END:VEVENT
BEGIN:VEVENT
DTSTART;TZID=Europe/London:20250806T190000
DTEND;TZID=Europe/London:20250806T220000
DTSTAMP:20260420T030109
CREATED:20240428T113530Z
LAST-MODIFIED:20250831T125653Z
UID:10006778-1754506800-1754517600@wimbledonvillage.com
SUMMARY:Pub Quiz @ The Dog & Fox
DESCRIPTION:Grab your team\, get your brain in gear and get quizzical at the Dog & Fox. \n  \nWhere & When: The Dog & Fox\, 24 High Street\, Wimbledon Village\, London SW19 5EA\, every Wednesday night\, 7 – 10 pm.
URL:https://wimbledonvillage.com/event/pub-quiz-the-dog-fox/2025-08-06/
ATTACH;FMTTYPE=image/png:https://wimbledonvillage.com/wp-content/uploads/2024/04/Dog-Fox-pub-quiz-image.png
END:VEVENT
BEGIN:VEVENT
DTSTART;TZID=Europe/London:20250805T193000
DTEND;TZID=Europe/London:20250805T224500
DTSTAMP:20260420T030109
CREATED:20240222T093828Z
LAST-MODIFIED:20250831T125428Z
UID:10002203-1754422200-1754433900@wimbledonvillage.com
SUMMARY:Pub Quiz @ The Rose & Crown
DESCRIPTION:Grab your cleverest pals & put your knowledge to the test with fantastic quiz master Duncan at the weekly Rose & Crown pub quiz. \n  \nWhere & When: The Rose & Crown\, 55 High Street\, Wimbledon Village\, London SW19 5BA\, every Tuesday from 7.30 – 10.45 pm (except during the Wimbledon tennis fortnight).
URL:https://wimbledonvillage.com/event/rose-crown-pub-quiz/2025-08-05/
ATTACH;FMTTYPE=image/jpeg:https://wimbledonvillage.com/wp-content/uploads/2023/08/Rose-Crown-pub-quiz-image.jpg
END:VEVENT
BEGIN:VEVENT
DTSTART;TZID=Europe/London:20250805T080000
DTEND;TZID=Europe/London:20250805T170000
DTSTAMP:20260420T030109
CREATED:20250715T065904Z
LAST-MODIFIED:20250715T065904Z
UID:10004862-1754380800-1754413200@wimbledonvillage.com
SUMMARY:Sip & Paint @ the Dog & Fox
DESCRIPTION:Whether you’re looking for a unique night out or a way to unwind after a busy day\, Sip and Paint provides the ideal setting for a memorable evening. \n  \nSip and Paint sessions offer a relaxed and creative atmosphere to unleash your artistic side! Perfect for artists of all skill levels the event is designed to foster creativity and community. \n  \nAt this session you will be painting ‘Ocean Bloom’ with Beki Wills. \n  \nWhere & When: Dog & Fox\, Tuesday 5th August at 7 pm. \n  \nTickets: £35 (excludes drinks which are available to purchase at the bar)
URL:https://wimbledonvillage.com/event/sip-paint-the-dog-fox/
ATTACH;FMTTYPE=image/jpeg:https://wimbledonvillage.com/wp-content/uploads/2025/07/Screenshot-2025-07-15-at-07.53.0.jpg
END:VEVENT
BEGIN:VEVENT
DTSTART;TZID=Europe/London:20250803T190000
DTEND;TZID=Europe/London:20250803T220000
DTSTAMP:20260420T030109
CREATED:20240108T125908Z
LAST-MODIFIED:20250831T125309Z
UID:10006427-1754247600-1754258400@wimbledonvillage.com
SUMMARY:Pub Quiz @ the Fire Stables
DESCRIPTION:Put your thinking hat on because this is a game for real players. Call your smartest friends and put together a winning team to answer questions about general knowledge\, music\, geography\, everything and nothing. A £50 bar tab is up for grabs each week. \n  \nWhere & When: Fire Stables\, every Sunday from 7 – 10 pm.
URL:https://wimbledonvillage.com/event/pub-quiz-the-fire-stables/2025-08-03/
ATTACH;FMTTYPE=image/jpeg:https://wimbledonvillage.com/wp-content/uploads/2024/01/rsz_pexels-elevate-1269025.jpg
END:VEVENT
BEGIN:VEVENT
DTSTART;TZID=Europe/London:20250803T100000
DTEND;TZID=Europe/London:20250803T150000
DTSTAMP:20260420T030109
CREATED:20230819T162853Z
LAST-MODIFIED:20250831T125135Z
UID:10005735-1754215200-1754233200@wimbledonvillage.com
SUMMARY:Wimbledon Village Farmers' Market
DESCRIPTION:The Village Farmers’ Market serves up a range of fabulous farm fresh and local products along with a varied offering of ready to eat goodies every Sunday from 10am to 3pm on the Village High Street. Stalls rotate each week. \n  \nFollow The Wimbledon Village Farmers’ Market on Instagram or Facebook for more details.
URL:https://wimbledonvillage.com/event/wimbledon-village-farmers-market/2025-08-03/
ATTACH;FMTTYPE=image/jpeg:https://wimbledonvillage.com/wp-content/uploads/2023/08/Farmers-Market-vegetables.jpg
END:VEVENT
BEGIN:VEVENT
DTSTART;TZID=Europe/London:20250802T103000
DTEND;TZID=Europe/London:20250802T120000
DTSTAMP:20260420T030109
CREATED:20230819T155822Z
LAST-MODIFIED:20250831T132807Z
UID:10008239-1754130600-1754136000@wimbledonvillage.com
SUMMARY:Wimbledon Common and Village Walk & Talk
DESCRIPTION:A free and fun ‘walk and talk’ every Saturday morning around Wimbledon Common and Wimbledon Village. \n  \nWalk and talks are a chance for all generations to take a stroll\, chat\, meet friends and neighbours\, make new friends and enjoy their local area and green spaces together. From older adults to young children\, from buggies to beagles – everybody can join in. \n  \nNo booking\, no reservations\, just turn up and you will get a very warm welcome. \n  \nWhen & Where: 10.30am at the Wimbledon War Memorial on The Green\, at the corner of Parkside and The Causeway.
URL:https://wimbledonvillage.com/event/weekly-walk-talk/2025-08-02/
ATTACH;FMTTYPE=image/jpeg:https://wimbledonvillage.com/wp-content/uploads/2023/08/Walk-Talk-Wimbledon-Common-walkers-on-a-sunny-day.jpg
END:VEVENT
BEGIN:VEVENT
DTSTART;TZID=Europe/London:20250802T090000
DTEND;TZID=Europe/London:20250802T100000
DTSTAMP:20260420T030109
CREATED:20230819T151954Z
LAST-MODIFIED:20250831T130729Z
UID:10007546-1754125200-1754128800@wimbledonvillage.com
SUMMARY:Wimbledon Common Parkrun
DESCRIPTION:A free\, fun\, and friendly weekly 5k community event. Participants can choose to walk\, jog\, run\, volunteer or just spectate. \n  \nThe run starts from near the Windmill car park every Saturday at 9am. \n  \nJoin other runners and supporters for a post run coffee at the Windmill Cafe.
URL:https://wimbledonvillage.com/event/wimbledon-common-park-run/2025-08-02/
ATTACH;FMTTYPE=image/jpeg:https://wimbledonvillage.com/wp-content/uploads/2023/08/Wimbledon-Common-Parkrun-runners-enjoying-the-course.jpg
END:VEVENT
BEGIN:VEVENT
DTSTART;TZID=Europe/London:20250801T080000
DTEND;TZID=Europe/London:20250801T170000
DTSTAMP:20260420T030109
CREATED:20250715T043846Z
LAST-MODIFIED:20250715T044154Z
UID:10004783-1754035200-1754067600@wimbledonvillage.com
SUMMARY:Wine Tasting: Spotlight on Sauvignon Blanc
DESCRIPTION:An exploration of one of the most popular and expressive white grapes\, and an opportunity to try it in dramatically different forms. \n  \nFrom the Loire to Marlborough\, a Sauvignon Blanc can make itself known through aroma alone\, but it has a range of styles that is both impressive and surprising. In this tasting you will explore its interaction with other varieties\, oak and skin-contact in a flight of five fascinating wines. \n  \nEnjoy with some cheeses served from Jeroboam’s comprehensive deli range. \n  \nWhere & When: Jeroboams\, Friday 1st of August @ 6 – 7 pm \n  \nTickets: £30 per person
URL:https://wimbledonvillage.com/event/wine-tasting-spotlight-on-sauvignon-blanc/
ATTACH;FMTTYPE=image/jpeg:https://wimbledonvillage.com/wp-content/uploads/2025/07/https-cdn.evbuc_.com-images-107.jpg
END:VEVENT
BEGIN:VEVENT
DTSTART;TZID=Europe/London:20250730T190000
DTEND;TZID=Europe/London:20250730T220000
DTSTAMP:20260420T030109
CREATED:20240428T113530Z
LAST-MODIFIED:20250831T125653Z
UID:10006777-1753902000-1753912800@wimbledonvillage.com
SUMMARY:Pub Quiz @ The Dog & Fox
DESCRIPTION:Grab your team\, get your brain in gear and get quizzical at the Dog & Fox. \n  \nWhere & When: The Dog & Fox\, 24 High Street\, Wimbledon Village\, London SW19 5EA\, every Wednesday night\, 7 – 10 pm.
URL:https://wimbledonvillage.com/event/pub-quiz-the-dog-fox/2025-07-30/
ATTACH;FMTTYPE=image/png:https://wimbledonvillage.com/wp-content/uploads/2024/04/Dog-Fox-pub-quiz-image.png
END:VEVENT
BEGIN:VEVENT
DTSTART;TZID=Europe/London:20250729T193000
DTEND;TZID=Europe/London:20250729T224500
DTSTAMP:20260420T030109
CREATED:20240222T093828Z
LAST-MODIFIED:20250831T125428Z
UID:10002202-1753817400-1753829100@wimbledonvillage.com
SUMMARY:Pub Quiz @ The Rose & Crown
DESCRIPTION:Grab your cleverest pals & put your knowledge to the test with fantastic quiz master Duncan at the weekly Rose & Crown pub quiz. \n  \nWhere & When: The Rose & Crown\, 55 High Street\, Wimbledon Village\, London SW19 5BA\, every Tuesday from 7.30 – 10.45 pm (except during the Wimbledon tennis fortnight).
URL:https://wimbledonvillage.com/event/rose-crown-pub-quiz/2025-07-29/
ATTACH;FMTTYPE=image/jpeg:https://wimbledonvillage.com/wp-content/uploads/2023/08/Rose-Crown-pub-quiz-image.jpg
END:VEVENT
BEGIN:VEVENT
DTSTART;TZID=Europe/London:20250729T080000
DTEND;TZID=Europe/London:20250729T170000
DTSTAMP:20260420T030109
CREATED:20250208T102615Z
LAST-MODIFIED:20250831T133614Z
UID:10004285-1753776000-1753808400@wimbledonvillage.com
SUMMARY:Wimbledon Common Healthy Walks
DESCRIPTION:Take a little outdoor exercise and at the same time learn about the history and current management of the Commons at this regular programme of healthy walks on Wimbledon Common. \n  \nThese moderate walks take place every three weeks and last for approximately 1 hour. They are led by one of the Commons’ full-time staff or a regular volunteer. \n  \nWhere and When: Meeting/end point is outside the wooden garages near to the Rangers Office on Windmill Road. Time: 10am-11am. Booking is not required. \n  \nWalk dates for 2025: \n\n11 February\n4 March\n25 March\n15 April\n6 May\n27 May\n17 June\n8 July\n29 July\n19 August\n9 September\n30 September\n21 October\n11 November\n2 December\n23 December
URL:https://wimbledonvillage.com/event/wimbledon-common-healthy-walks-2/2025-07-29/
ATTACH;FMTTYPE=image/jpeg:https://wimbledonvillage.com/wp-content/uploads/2025/02/img20230815105914035hdr_cropped_.jpg
END:VEVENT
BEGIN:VEVENT
DTSTART;TZID=Europe/London:20250727T190000
DTEND;TZID=Europe/London:20250727T220000
DTSTAMP:20260420T030109
CREATED:20240108T125908Z
LAST-MODIFIED:20250831T125309Z
UID:10006426-1753642800-1753653600@wimbledonvillage.com
SUMMARY:Pub Quiz @ the Fire Stables
DESCRIPTION:Put your thinking hat on because this is a game for real players. Call your smartest friends and put together a winning team to answer questions about general knowledge\, music\, geography\, everything and nothing. A £50 bar tab is up for grabs each week. \n  \nWhere & When: Fire Stables\, every Sunday from 7 – 10 pm.
URL:https://wimbledonvillage.com/event/pub-quiz-the-fire-stables/2025-07-27/
ATTACH;FMTTYPE=image/jpeg:https://wimbledonvillage.com/wp-content/uploads/2024/01/rsz_pexels-elevate-1269025.jpg
END:VEVENT
BEGIN:VEVENT
DTSTART;TZID=Europe/London:20250727T100000
DTEND;TZID=Europe/London:20250727T150000
DTSTAMP:20260420T030109
CREATED:20230819T162853Z
LAST-MODIFIED:20250831T125135Z
UID:10005734-1753610400-1753628400@wimbledonvillage.com
SUMMARY:Wimbledon Village Farmers' Market
DESCRIPTION:The Village Farmers’ Market serves up a range of fabulous farm fresh and local products along with a varied offering of ready to eat goodies every Sunday from 10am to 3pm on the Village High Street. Stalls rotate each week. \n  \nFollow The Wimbledon Village Farmers’ Market on Instagram or Facebook for more details.
URL:https://wimbledonvillage.com/event/wimbledon-village-farmers-market/2025-07-27/
ATTACH;FMTTYPE=image/jpeg:https://wimbledonvillage.com/wp-content/uploads/2023/08/Farmers-Market-vegetables.jpg
END:VEVENT
BEGIN:VEVENT
DTSTART;TZID=Europe/London:20250727T080000
DTEND;TZID=Europe/London:20250727T170000
DTSTAMP:20260420T030109
CREATED:20250509T084843Z
LAST-MODIFIED:20250831T133107Z
UID:10004662-1753603200-1753635600@wimbledonvillage.com
SUMMARY:Wimbledon Common 10k & Half Marathon
DESCRIPTION:A half marathon and 10k run around Wimbledon Common organised by Runthrough. \n  \n2025 Dates: Sunday 22nd June / Sunday 27th July / Sunday 7th September / Sunday 23rd November \n  \nWhere:  9:30 am –  12:30 pm\, Richard Evans Memorial Playing Fields Roehampton Vale London SW15 3PQ \n\n  \n\nTickets: From £30 (individual) – £160 (group of 6)
URL:https://wimbledonvillage.com/event/wimbledon-common-10k-half-marathon/2025-07-27/
ATTACH;FMTTYPE=image/png:https://wimbledonvillage.com/wp-content/uploads/2025/05/e1GdAhXBEyRMP7Lj0dnqTTKpfVQFcvhU.png
END:VEVENT
BEGIN:VEVENT
DTSTART;TZID=Europe/London:20250726T103000
DTEND;TZID=Europe/London:20250726T120000
DTSTAMP:20260420T030109
CREATED:20230819T155822Z
LAST-MODIFIED:20250831T132807Z
UID:10008238-1753525800-1753531200@wimbledonvillage.com
SUMMARY:Wimbledon Common and Village Walk & Talk
DESCRIPTION:A free and fun ‘walk and talk’ every Saturday morning around Wimbledon Common and Wimbledon Village. \n  \nWalk and talks are a chance for all generations to take a stroll\, chat\, meet friends and neighbours\, make new friends and enjoy their local area and green spaces together. From older adults to young children\, from buggies to beagles – everybody can join in. \n  \nNo booking\, no reservations\, just turn up and you will get a very warm welcome. \n  \nWhen & Where: 10.30am at the Wimbledon War Memorial on The Green\, at the corner of Parkside and The Causeway.
URL:https://wimbledonvillage.com/event/weekly-walk-talk/2025-07-26/
ATTACH;FMTTYPE=image/jpeg:https://wimbledonvillage.com/wp-content/uploads/2023/08/Walk-Talk-Wimbledon-Common-walkers-on-a-sunny-day.jpg
END:VEVENT
BEGIN:VEVENT
DTSTART;TZID=Europe/London:20250726T090000
DTEND;TZID=Europe/London:20250726T100000
DTSTAMP:20260420T030109
CREATED:20230819T151954Z
LAST-MODIFIED:20250831T130729Z
UID:10007545-1753520400-1753524000@wimbledonvillage.com
SUMMARY:Wimbledon Common Parkrun
DESCRIPTION:A free\, fun\, and friendly weekly 5k community event. Participants can choose to walk\, jog\, run\, volunteer or just spectate. \n  \nThe run starts from near the Windmill car park every Saturday at 9am. \n  \nJoin other runners and supporters for a post run coffee at the Windmill Cafe.
URL:https://wimbledonvillage.com/event/wimbledon-common-park-run/2025-07-26/
ATTACH;FMTTYPE=image/jpeg:https://wimbledonvillage.com/wp-content/uploads/2023/08/Wimbledon-Common-Parkrun-runners-enjoying-the-course.jpg
END:VEVENT
BEGIN:VEVENT
DTSTART;TZID=Europe/London:20250726T080000
DTEND;TZID=Europe/London:20250726T170000
DTSTAMP:20260420T030109
CREATED:20250610T134421Z
LAST-MODIFIED:20250610T134421Z
UID:10004687-1753516800-1753549200@wimbledonvillage.com
SUMMARY:Butterfly & Dragonfly Walk
DESCRIPTION:See and learn about some of the Commons’ many butterflies and dragonflies on this 2 hour walk led by two local expert volunteers\, Simon Riley and Les Evans-Hill.   The walk will take in The Plain\, woodland\, Bluegate Pond\, Hookhamslade Pond and Queensmere Pond.  Refreshments will be available before and after the walk. \n  \nWhere & When:  Saturday 26 July from 2 to 4 pm (approx). Meeting point: Ranger’s Office\, Windmill Road\, SW19 5NR \n  \nCost/Booking: The event is free of charge with a suggested donation of £5 per person\, which will help support Wimbledon and Putney Commons.  This can be made on the day or in advance here: How to Donate. Places are limited and so booking is essential.
URL:https://wimbledonvillage.com/event/butterfly-dragonfly-walk/
ATTACH;FMTTYPE=image/jpeg:https://wimbledonvillage.com/wp-content/uploads/2025/06/pexels-steven-paton-465916555-15.jpg
END:VEVENT
BEGIN:VEVENT
DTSTART;TZID=Europe/London:20250725T080000
DTEND;TZID=Europe/London:20250725T170000
DTSTAMP:20260420T030109
CREATED:20250622T112113Z
LAST-MODIFIED:20250622T113037Z
UID:10004699-1753430400-1753462800@wimbledonvillage.com
SUMMARY:St John's July Lunchtime Recital
DESCRIPTION:Soprano Charlotte Brosnan accompanied by Robert Mingay-Smith on piano\, will perform songs by Bridge\, Previn\, Goodall and Puccini. \n  \nThis event is one of a series of Lunchtime Recitals held on the final Friday of each month\, featuring local and international professional musicians. \n  \nWhere & When: St John the Baptist\, on Friday 25th July at 1pm.  The Church is open for refreshments from 12.30pm with delicious home-made cakes available. Attendees are also welcome to bring their own food and drinks to enjoy before or after the recital. \n  \nBooking: No booking required. This event is free but donations are welcome in aid of the St John’s Music Fund.
URL:https://wimbledonvillage.com/event/st-johns-july-lunchtime-recital/
ATTACH;FMTTYPE=image/jpeg:https://wimbledonvillage.com/wp-content/uploads/2024/06/geert-pieters-8QrPJ3Kfie4-unspla.jpg
END:VEVENT
BEGIN:VEVENT
DTSTART;TZID=Europe/London:20250724T080000
DTEND;TZID=Europe/London:20250724T170000
DTSTAMP:20260420T030109
CREATED:20250622T101338Z
LAST-MODIFIED:20250622T101338Z
UID:10004696-1753344000-1753376400@wimbledonvillage.com
SUMMARY:Château d'Esclans Rosé Masterclass & Food Pairing
DESCRIPTION:An intimate masterclass exploring the prestigious Château d’Esclans portfolio\, including the world-renowned Whispering Angel and Garrus\, the most exclusive rosé in the world. \n\nA curated selection of artisan canapés and food bowls will be served to complement the wines. \n  \nWhere & When: Friarwood\, on Thursday 24th July from 6 – 8 pm (arrival at 5.50pm recommended) \n  \nTickets: £65 pp\, to include a £15 gift voucher to redeem on Château d’Esclans wines at the event. \n  \nCapacity is limited to 10 guests for a personalised and exclusive experience so early booking recommended.
URL:https://wimbledonvillage.com/event/chateau-desclans-rose-masterclass-food-pairing/
ATTACH;FMTTYPE=image/jpeg:https://wimbledonvillage.com/wp-content/uploads/2025/06/Screenshot-2025-06-22-at-10.57.4.jpg
END:VEVENT
BEGIN:VEVENT
DTSTART;TZID=Europe/London:20250723T190000
DTEND;TZID=Europe/London:20250723T220000
DTSTAMP:20260420T030109
CREATED:20240428T113530Z
LAST-MODIFIED:20250831T125653Z
UID:10006776-1753297200-1753308000@wimbledonvillage.com
SUMMARY:Pub Quiz @ The Dog & Fox
DESCRIPTION:Grab your team\, get your brain in gear and get quizzical at the Dog & Fox. \n  \nWhere & When: The Dog & Fox\, 24 High Street\, Wimbledon Village\, London SW19 5EA\, every Wednesday night\, 7 – 10 pm.
URL:https://wimbledonvillage.com/event/pub-quiz-the-dog-fox/2025-07-23/
ATTACH;FMTTYPE=image/png:https://wimbledonvillage.com/wp-content/uploads/2024/04/Dog-Fox-pub-quiz-image.png
END:VEVENT
BEGIN:VEVENT
DTSTART;TZID=Europe/London:20250723T080000
DTEND;TZID=Europe/London:20250726T170000
DTSTAMP:20260420T030109
CREATED:20250615T075100Z
LAST-MODIFIED:20250615T075452Z
UID:10004692-1753257600-1753549200@wimbledonvillage.com
SUMMARY:Twelfth Night @ Cannizaro
DESCRIPTION:Mayhem Theatre Company invites you to experience Twelfth Night like you’ve never seen it before\, in the circus of Illyria. Where dukes are ringmasters\, drunkards are strongmen and puppets and their puppeteers cause mischief across the lands.  \n\nExpect an evening of clownish fun\, entertaining and magical music and hilarious characters. Bring your picnics and bottles of bubbly\, sit back and relax… it’s going to be an exciting show.\n \n  \nWhere & When: Italian Gardens @ Cannizaro Park\, Wednesday 23rd – Saturday 26th July at 7.30 pm. Additional matinee performance on Saturday 26th July at 2 pm. \n  \nTickets: Adults £22.50*\, Children Under 10 £10.50*\, Children Under 3 free.  * plus booking fee.
URL:https://wimbledonvillage.com/event/twelfth-night-cannizaro/
ATTACH;FMTTYPE=image/jpeg:https://wimbledonvillage.com/wp-content/uploads/2025/06/0e7d3093-bcd1-488b-bc14-73fb81ae.jpg
END:VEVENT
BEGIN:VEVENT
DTSTART;TZID=Europe/London:20250722T193000
DTEND;TZID=Europe/London:20250722T224500
DTSTAMP:20260420T030109
CREATED:20240222T093828Z
LAST-MODIFIED:20250831T125428Z
UID:10002201-1753212600-1753224300@wimbledonvillage.com
SUMMARY:Pub Quiz @ The Rose & Crown
DESCRIPTION:Grab your cleverest pals & put your knowledge to the test with fantastic quiz master Duncan at the weekly Rose & Crown pub quiz. \n  \nWhere & When: The Rose & Crown\, 55 High Street\, Wimbledon Village\, London SW19 5BA\, every Tuesday from 7.30 – 10.45 pm (except during the Wimbledon tennis fortnight).
URL:https://wimbledonvillage.com/event/rose-crown-pub-quiz/2025-07-22/
ATTACH;FMTTYPE=image/jpeg:https://wimbledonvillage.com/wp-content/uploads/2023/08/Rose-Crown-pub-quiz-image.jpg
END:VEVENT
BEGIN:VEVENT
DTSTART;TZID=Europe/London:20250720T190000
DTEND;TZID=Europe/London:20250720T220000
DTSTAMP:20260420T030109
CREATED:20240108T125908Z
LAST-MODIFIED:20250831T125309Z
UID:10006425-1753038000-1753048800@wimbledonvillage.com
SUMMARY:Pub Quiz @ the Fire Stables
DESCRIPTION:Put your thinking hat on because this is a game for real players. Call your smartest friends and put together a winning team to answer questions about general knowledge\, music\, geography\, everything and nothing. A £50 bar tab is up for grabs each week. \n  \nWhere & When: Fire Stables\, every Sunday from 7 – 10 pm.
URL:https://wimbledonvillage.com/event/pub-quiz-the-fire-stables/2025-07-20/
ATTACH;FMTTYPE=image/jpeg:https://wimbledonvillage.com/wp-content/uploads/2024/01/rsz_pexels-elevate-1269025.jpg
END:VEVENT
BEGIN:VEVENT
DTSTART;TZID=Europe/London:20250720T100000
DTEND;TZID=Europe/London:20250720T150000
DTSTAMP:20260420T030109
CREATED:20230819T162853Z
LAST-MODIFIED:20250831T125135Z
UID:10005733-1753005600-1753023600@wimbledonvillage.com
SUMMARY:Wimbledon Village Farmers' Market
DESCRIPTION:The Village Farmers’ Market serves up a range of fabulous farm fresh and local products along with a varied offering of ready to eat goodies every Sunday from 10am to 3pm on the Village High Street. Stalls rotate each week. \n  \nFollow The Wimbledon Village Farmers’ Market on Instagram or Facebook for more details.
URL:https://wimbledonvillage.com/event/wimbledon-village-farmers-market/2025-07-20/
ATTACH;FMTTYPE=image/jpeg:https://wimbledonvillage.com/wp-content/uploads/2023/08/Farmers-Market-vegetables.jpg
END:VEVENT
BEGIN:VEVENT
DTSTART;TZID=Europe/London:20250719T103000
DTEND;TZID=Europe/London:20250719T120000
DTSTAMP:20260420T030109
CREATED:20230819T155822Z
LAST-MODIFIED:20250831T132807Z
UID:10008237-1752921000-1752926400@wimbledonvillage.com
SUMMARY:Wimbledon Common and Village Walk & Talk
DESCRIPTION:A free and fun ‘walk and talk’ every Saturday morning around Wimbledon Common and Wimbledon Village. \n  \nWalk and talks are a chance for all generations to take a stroll\, chat\, meet friends and neighbours\, make new friends and enjoy their local area and green spaces together. From older adults to young children\, from buggies to beagles – everybody can join in. \n  \nNo booking\, no reservations\, just turn up and you will get a very warm welcome. \n  \nWhen & Where: 10.30am at the Wimbledon War Memorial on The Green\, at the corner of Parkside and The Causeway.
URL:https://wimbledonvillage.com/event/weekly-walk-talk/2025-07-19/
ATTACH;FMTTYPE=image/jpeg:https://wimbledonvillage.com/wp-content/uploads/2023/08/Walk-Talk-Wimbledon-Common-walkers-on-a-sunny-day.jpg
END:VEVENT
BEGIN:VEVENT
DTSTART;TZID=Europe/London:20250719T090000
DTEND;TZID=Europe/London:20250719T100000
DTSTAMP:20260420T030109
CREATED:20230819T151954Z
LAST-MODIFIED:20250831T130729Z
UID:10007544-1752915600-1752919200@wimbledonvillage.com
SUMMARY:Wimbledon Common Parkrun
DESCRIPTION:A free\, fun\, and friendly weekly 5k community event. Participants can choose to walk\, jog\, run\, volunteer or just spectate. \n  \nThe run starts from near the Windmill car park every Saturday at 9am. \n  \nJoin other runners and supporters for a post run coffee at the Windmill Cafe.
URL:https://wimbledonvillage.com/event/wimbledon-common-park-run/2025-07-19/
ATTACH;FMTTYPE=image/jpeg:https://wimbledonvillage.com/wp-content/uploads/2023/08/Wimbledon-Common-Parkrun-runners-enjoying-the-course.jpg
END:VEVENT
END:VCALENDAR