BEGIN:VCALENDAR
VERSION:2.0
PRODID:-//Wimbledon Village - ECPv6.15.20//NONSGML v1.0//EN
CALSCALE:GREGORIAN
METHOD:PUBLISH
X-WR-CALNAME:Wimbledon Village
X-ORIGINAL-URL:https://wimbledonvillage.com
X-WR-CALDESC:Events for Wimbledon Village
REFRESH-INTERVAL;VALUE=DURATION:PT1H
X-Robots-Tag:noindex
X-PUBLISHED-TTL:PT1H
BEGIN:VTIMEZONE
TZID:Europe/London
BEGIN:DAYLIGHT
TZOFFSETFROM:+0000
TZOFFSETTO:+0100
TZNAME:BST
DTSTART:20240331T010000
END:DAYLIGHT
BEGIN:STANDARD
TZOFFSETFROM:+0100
TZOFFSETTO:+0000
TZNAME:GMT
DTSTART:20241027T010000
END:STANDARD
BEGIN:DAYLIGHT
TZOFFSETFROM:+0000
TZOFFSETTO:+0100
TZNAME:BST
DTSTART:20250330T010000
END:DAYLIGHT
BEGIN:STANDARD
TZOFFSETFROM:+0100
TZOFFSETTO:+0000
TZNAME:GMT
DTSTART:20251026T010000
END:STANDARD
BEGIN:DAYLIGHT
TZOFFSETFROM:+0000
TZOFFSETTO:+0100
TZNAME:BST
DTSTART:20260329T010000
END:DAYLIGHT
BEGIN:STANDARD
TZOFFSETFROM:+0100
TZOFFSETTO:+0000
TZNAME:GMT
DTSTART:20261025T010000
END:STANDARD
END:VTIMEZONE
BEGIN:VEVENT
DTSTART;TZID=Europe/London:20250713T080000
DTEND;TZID=Europe/London:20250713T170000
DTSTAMP:20260420T045449
CREATED:20250317T104748Z
LAST-MODIFIED:20250317T104805Z
UID:10004374-1752393600-1752426000@wimbledonvillage.com
SUMMARY:Live Music at the Dog & Fox
DESCRIPTION:The Dog is going big for this years’ Championships with an acoustic artist and full live band playing every Thursday\, Friday\, Saturday and Sunday of the tennis! \n  \nWhere & When: Dog & Fox\, Sunday 13th July\, 5:00pm – 12:00am \n  \nWho’s Playing: 5 – 8 pm Cristina Carter / 9 pm – 12 am Coot \n  \nTickets: FREE\, no booking required.
URL:https://wimbledonvillage.com/event/live-music-at-the-dog-fox-8/
ATTACH;FMTTYPE=image/png:https://wimbledonvillage.com/wp-content/uploads/2025/03/Screenshot-2025-03-17-at-10.44.2.png
END:VEVENT
BEGIN:VEVENT
DTSTART;TZID=Europe/London:20250712T103000
DTEND;TZID=Europe/London:20250712T120000
DTSTAMP:20260420T045449
CREATED:20230819T155822Z
LAST-MODIFIED:20250831T132807Z
UID:10008236-1752316200-1752321600@wimbledonvillage.com
SUMMARY:Wimbledon Common and Village Walk & Talk
DESCRIPTION:A free and fun ‘walk and talk’ every Saturday morning around Wimbledon Common and Wimbledon Village. \n  \nWalk and talks are a chance for all generations to take a stroll\, chat\, meet friends and neighbours\, make new friends and enjoy their local area and green spaces together. From older adults to young children\, from buggies to beagles – everybody can join in. \n  \nNo booking\, no reservations\, just turn up and you will get a very warm welcome. \n  \nWhen & Where: 10.30am at the Wimbledon War Memorial on The Green\, at the corner of Parkside and The Causeway.
URL:https://wimbledonvillage.com/event/weekly-walk-talk/2025-07-12/
ATTACH;FMTTYPE=image/jpeg:https://wimbledonvillage.com/wp-content/uploads/2023/08/Walk-Talk-Wimbledon-Common-walkers-on-a-sunny-day.jpg
END:VEVENT
BEGIN:VEVENT
DTSTART;TZID=Europe/London:20250712T090000
DTEND;TZID=Europe/London:20250712T180000
DTSTAMP:20260420T045449
CREATED:20250519T123642Z
LAST-MODIFIED:20250519T123642Z
UID:10004673-1752310800-1752343200@wimbledonvillage.com
SUMMARY:Forest Bathing @ Cannizaro Park
DESCRIPTION:Enjoy a guided slow sensory walk and immerse yourself in the wooded world of Cannizaro Park. \n  \nJoin Susanne Meis\, an experienced Forest Bathing Guide and Nature Wellbeing Educator to calm your mind\, energise your body and connect deeply with nature. \n  \nWhere & When? : Cannizaro Park on Saturday 12th July\, from 10.30 am – 12.30 pm \n  \nTickets: £16.96 including booking fee
URL:https://wimbledonvillage.com/event/forest-bathing-cannizaro-park-4/
ATTACH;FMTTYPE=image/jpeg:https://wimbledonvillage.com/wp-content/uploads/2023/08/Forest-Bathing-Walk-@-Cannizaro-Park.jpg
END:VEVENT
BEGIN:VEVENT
DTSTART;TZID=Europe/London:20250712T090000
DTEND;TZID=Europe/London:20250712T100000
DTSTAMP:20260420T045449
CREATED:20230819T151954Z
LAST-MODIFIED:20250831T130729Z
UID:10007543-1752310800-1752314400@wimbledonvillage.com
SUMMARY:Wimbledon Common Parkrun
DESCRIPTION:A free\, fun\, and friendly weekly 5k community event. Participants can choose to walk\, jog\, run\, volunteer or just spectate. \n  \nThe run starts from near the Windmill car park every Saturday at 9am. \n  \nJoin other runners and supporters for a post run coffee at the Windmill Cafe.
URL:https://wimbledonvillage.com/event/wimbledon-common-park-run/2025-07-12/
ATTACH;FMTTYPE=image/jpeg:https://wimbledonvillage.com/wp-content/uploads/2023/08/Wimbledon-Common-Parkrun-runners-enjoying-the-course.jpg
END:VEVENT
BEGIN:VEVENT
DTSTART;TZID=Europe/London:20250712T080000
DTEND;TZID=Europe/London:20250712T170000
DTSTAMP:20260420T045449
CREATED:20250401T150755Z
LAST-MODIFIED:20250702T162126Z
UID:10004439-1752307200-1752339600@wimbledonvillage.com
SUMMARY:Live Music at the Rose & Crown
DESCRIPTION:Enjoy live music at the Rose & Crown Thursday to Sunday during both weeks of the Wimbledon Fortnight. \n  \nWhere & When: Rose & Crown\, 8 – 11 pm on: \n\nThursday 3rd July – IndieGo\nFriday 4th July – IndieGo\nSaturday 5th July – Nova Scotia\nSunday 6th July – IndieGo\nThursday 10th July – IndieGo\nFriday 11th July – IndieGo\nSaturday 12th July – IndieGo\nSunday 13th July – Adam Temple (@4 pm)\n\n  \nBooking/Tickets: Not required. Free events.
URL:https://wimbledonvillage.com/event/live-music-at-the-rose-crown/2025-07-12/
ATTACH;FMTTYPE=image/jpeg:https://wimbledonvillage.com/wp-content/uploads/2025/04/448701601_1011991440936665_67133.jpg
END:VEVENT
BEGIN:VEVENT
DTSTART;TZID=Europe/London:20250712T080000
DTEND;TZID=Europe/London:20250712T170000
DTSTAMP:20260420T045449
CREATED:20250317T103427Z
LAST-MODIFIED:20250317T103427Z
UID:10004372-1752307200-1752339600@wimbledonvillage.com
SUMMARY:Live Music at the Dog & Fox
DESCRIPTION:The Dog is going big for this years’ Championships with an acoustic artist and full live band playing every Thursday\, Friday\, Saturday and Sunday of the tennis! \n  \nWhere & When: Dog & Fox\, Saturday 12th July\, 5:00pm – 12:00am \n  \nWho’s Playing: 5 – 8 pm George Coulson / 9 pm – 12 am Wathefunk \n  \nTickets: FREE\, no booking required.
URL:https://wimbledonvillage.com/event/live-music-at-the-dog-fox-6/
ATTACH;FMTTYPE=image/png:https://wimbledonvillage.com/wp-content/uploads/2025/03/Screenshot-2025-03-17-at-10.30.5.png
END:VEVENT
BEGIN:VEVENT
DTSTART;TZID=Europe/London:20250712T080000
DTEND;TZID=Europe/London:20250712T170000
DTSTAMP:20260420T045449
CREATED:20240414T092931Z
LAST-MODIFIED:20250831T134400Z
UID:10004350-1752307200-1752339600@wimbledonvillage.com
SUMMARY:Wimbledon Village Stables Open Day
DESCRIPTION:On the second Saturday of every month\, the Stables invites visitors to explore the yard\, meet the horses\, and see how everything runs behind the scenes. \n  \nIt’s a great opportunity to learn about membership options\, and see the Equicise horse simulator\, designed for all ages and abilities. Plus children will love meeting Mr Fudge\, the friendly Shetland pony!  \n  \nWhere & When: Wimbledon Village Stables\, 24 A/B\, High St\, Wimbledon Village\, London SW19 5DX\, second Saturday of every month\, from 2 – 3 pm. \n  \nBooking: No booking required—just turn up and enjoy a relaxed\, informative afternoon.
URL:https://wimbledonvillage.com/event/wimbledon-village-stables-open-afternoons/2025-07-12/
ATTACH;FMTTYPE=image/jpeg:https://wimbledonvillage.com/wp-content/uploads/2025/03/IMG_7836.jpg
END:VEVENT
BEGIN:VEVENT
DTSTART;TZID=Europe/London:20250711T080000
DTEND;TZID=Europe/London:20250711T170000
DTSTAMP:20260420T045449
CREATED:20250626T075955Z
LAST-MODIFIED:20250626T080015Z
UID:10004706-1752220800-1752253200@wimbledonvillage.com
SUMMARY:Yangarra Barrel-Top Tasting @ Amathus
DESCRIPTION:Enjoy a free barrel-top tasting of Australia’s award-winning Yangarra Wines. \n  \nWhere & When: Amathus\, Friday 11th July\, from 3 – 7 pm. \n  \nBooking: Not required. Free event.
URL:https://wimbledonvillage.com/event/yangarra-barrel-top-tasting-amathus-2/
ATTACH;FMTTYPE=image/jpeg:https://wimbledonvillage.com/wp-content/uploads/2025/06/New_CellarDoor_SingleBlock_Lineu.jpg
END:VEVENT
BEGIN:VEVENT
DTSTART;TZID=Europe/London:20250711T080000
DTEND;TZID=Europe/London:20250711T170000
DTSTAMP:20260420T045449
CREATED:20250622T095541Z
LAST-MODIFIED:20250622T101536Z
UID:10004695-1752220800-1752253200@wimbledonvillage.com
SUMMARY:Whispering Angel Free Tasting @ Friarwood
DESCRIPTION:A free in-store tasting of Château d’Esclans’ Whispering Angel rosé. \n  \nWhere & When: Friarwood\, on Friday 11th July\, 1 – 6 pm. \n  \nBooking/Tickets: Booking not required. Free drop-in event.
URL:https://wimbledonvillage.com/event/whispering-angel-free-tasting-friarwood/
ATTACH;FMTTYPE=image/jpeg:https://wimbledonvillage.com/wp-content/uploads/2025/06/Screenshot-2025-06-22-at-10.47.1.jpg
END:VEVENT
BEGIN:VEVENT
DTSTART;TZID=Europe/London:20250711T080000
DTEND;TZID=Europe/London:20250711T170000
DTSTAMP:20260420T045449
CREATED:20250401T150755Z
LAST-MODIFIED:20250702T162126Z
UID:10004438-1752220800-1752253200@wimbledonvillage.com
SUMMARY:Live Music at the Rose & Crown
DESCRIPTION:Enjoy live music at the Rose & Crown Thursday to Sunday during both weeks of the Wimbledon Fortnight. \n  \nWhere & When: Rose & Crown\, 8 – 11 pm on: \n\nThursday 3rd July – IndieGo\nFriday 4th July – IndieGo\nSaturday 5th July – Nova Scotia\nSunday 6th July – IndieGo\nThursday 10th July – IndieGo\nFriday 11th July – IndieGo\nSaturday 12th July – IndieGo\nSunday 13th July – Adam Temple (@4 pm)\n\n  \nBooking/Tickets: Not required. Free events.
URL:https://wimbledonvillage.com/event/live-music-at-the-rose-crown/2025-07-11/
ATTACH;FMTTYPE=image/jpeg:https://wimbledonvillage.com/wp-content/uploads/2025/04/448701601_1011991440936665_67133.jpg
END:VEVENT
BEGIN:VEVENT
DTSTART;TZID=Europe/London:20250711T080000
DTEND;TZID=Europe/London:20250711T170000
DTSTAMP:20260420T045449
CREATED:20250317T101954Z
LAST-MODIFIED:20250317T102139Z
UID:10004370-1752220800-1752253200@wimbledonvillage.com
SUMMARY:Live Music at the Dog & Fox
DESCRIPTION:The Dog is going big for this years’ Championships with an acoustic artist and full live band playing every Thursday\, Friday\, Saturday and Sunday of the tennis! \n  \nWhere & When: Dog & Fox\, Friday 11th July\, 5:00pm – 12:00am \n  \nWho’s Playing: 5 – 8 pm Chloe Smedley / 9 pm – 12 am Dance Club \n  \nTickets: FREE\, no booking required
URL:https://wimbledonvillage.com/event/live-music-at-the-dog-fox-4/
ATTACH;FMTTYPE=image/png:https://wimbledonvillage.com/wp-content/uploads/2025/03/Screenshot-2025-03-17-at-09.57.2.png
END:VEVENT
BEGIN:VEVENT
DTSTART;TZID=Europe/London:20250710T080000
DTEND;TZID=Europe/London:20250710T170000
DTSTAMP:20260420T045449
CREATED:20250401T150755Z
LAST-MODIFIED:20250702T162126Z
UID:10004437-1752134400-1752166800@wimbledonvillage.com
SUMMARY:Live Music at the Rose & Crown
DESCRIPTION:Enjoy live music at the Rose & Crown Thursday to Sunday during both weeks of the Wimbledon Fortnight. \n  \nWhere & When: Rose & Crown\, 8 – 11 pm on: \n\nThursday 3rd July – IndieGo\nFriday 4th July – IndieGo\nSaturday 5th July – Nova Scotia\nSunday 6th July – IndieGo\nThursday 10th July – IndieGo\nFriday 11th July – IndieGo\nSaturday 12th July – IndieGo\nSunday 13th July – Adam Temple (@4 pm)\n\n  \nBooking/Tickets: Not required. Free events.
URL:https://wimbledonvillage.com/event/live-music-at-the-rose-crown/2025-07-10/
ATTACH;FMTTYPE=image/jpeg:https://wimbledonvillage.com/wp-content/uploads/2025/04/448701601_1011991440936665_67133.jpg
END:VEVENT
BEGIN:VEVENT
DTSTART;TZID=Europe/London:20250710T080000
DTEND;TZID=Europe/London:20250710T170000
DTSTAMP:20260420T045449
CREATED:20250317T101222Z
LAST-MODIFIED:20250317T105623Z
UID:10004368-1752134400-1752166800@wimbledonvillage.com
SUMMARY:Live Music at the Dog & Fox
DESCRIPTION:The Dog is going big for this years’ Championships with an acoustic artist and full live band playing every Thursday\, Friday\, Saturday and Sunday of the tennis! \n  \nWhere & When: Dog & Fox\, Thursday 10th July\, 5:00pm – 12:00am \n  \nWho’s Playing: 5 – 8 pm Sophie Robinson / 9 pm – 12 am TBC \n  \nTickets: FREE\, no booking required
URL:https://wimbledonvillage.com/event/live-music-at-the-dog-fox-2/
ATTACH;FMTTYPE=image/png:https://wimbledonvillage.com/wp-content/uploads/2025/03/Screenshot-2025-03-17-at-10.10.2.png
END:VEVENT
BEGIN:VEVENT
DTSTART;TZID=Europe/London:20250708T080000
DTEND;TZID=Europe/London:20250708T170000
DTSTAMP:20260420T045449
CREATED:20250208T102615Z
LAST-MODIFIED:20250831T133614Z
UID:10004284-1751961600-1751994000@wimbledonvillage.com
SUMMARY:Wimbledon Common Healthy Walks
DESCRIPTION:Take a little outdoor exercise and at the same time learn about the history and current management of the Commons at this regular programme of healthy walks on Wimbledon Common. \n  \nThese moderate walks take place every three weeks and last for approximately 1 hour. They are led by one of the Commons’ full-time staff or a regular volunteer. \n  \nWhere and When: Meeting/end point is outside the wooden garages near to the Rangers Office on Windmill Road. Time: 10am-11am. Booking is not required. \n  \nWalk dates for 2025: \n\n11 February\n4 March\n25 March\n15 April\n6 May\n27 May\n17 June\n8 July\n29 July\n19 August\n9 September\n30 September\n21 October\n11 November\n2 December\n23 December
URL:https://wimbledonvillage.com/event/wimbledon-common-healthy-walks-2/2025-07-08/
ATTACH;FMTTYPE=image/jpeg:https://wimbledonvillage.com/wp-content/uploads/2025/02/img20230815105914035hdr_cropped_.jpg
END:VEVENT
BEGIN:VEVENT
DTSTART;TZID=Europe/London:20250707T080000
DTEND;TZID=Europe/London:20250711T170000
DTSTAMP:20260420T045449
CREATED:20250610T155735Z
LAST-MODIFIED:20250610T155735Z
UID:10004689-1751875200-1752253200@wimbledonvillage.com
SUMMARY:Planet Art's Sunshine Makers Summer Camp
DESCRIPTION:A fun-filled week of creative adventures for children aged 4–10 (Reception year and up) by Planet Art. \n  \nEach session is designed to spark creativity and joy\, with a focus on summer-themed arts and crafts\, outdoor play\, and imaginative games led by the ever-popular Nia — also known to local children as Tulip. \n  \nHighlights include: \n\nSunshine-inspired crafts like banana prints and watermelon oil paintings\nSilly games and outdoor fun designed to encourage confidence and creativity\nRelaxed\, small group sessions perfect for curious minds and little artists\n\n  \nWhere & When: The Study Prep\, Camp Road\, Wimbledon Village from Monday 7th to Friday 11th July\, 9.30 am to 1.30 pm daily. Children can attend for just one day or enjoy the full five-day programme. \n  \nCost/Booking: Spaces are limited\, so early booking is strongly recommended.
URL:https://wimbledonvillage.com/event/planet-arts-sunshine-makers-summer-camp/
ATTACH;FMTTYPE=image/jpeg:https://wimbledonvillage.com/wp-content/uploads/2025/06/12.jpg
END:VEVENT
BEGIN:VEVENT
DTSTART;TZID=Europe/London:20250706T190000
DTEND;TZID=Europe/London:20250706T220000
DTSTAMP:20260420T045449
CREATED:20240108T125908Z
LAST-MODIFIED:20250831T125309Z
UID:10006423-1751828400-1751839200@wimbledonvillage.com
SUMMARY:Pub Quiz @ the Fire Stables
DESCRIPTION:Put your thinking hat on because this is a game for real players. Call your smartest friends and put together a winning team to answer questions about general knowledge\, music\, geography\, everything and nothing. A £50 bar tab is up for grabs each week. \n  \nWhere & When: Fire Stables\, every Sunday from 7 – 10 pm.
URL:https://wimbledonvillage.com/event/pub-quiz-the-fire-stables/2025-07-06/
ATTACH;FMTTYPE=image/jpeg:https://wimbledonvillage.com/wp-content/uploads/2024/01/rsz_pexels-elevate-1269025.jpg
END:VEVENT
BEGIN:VEVENT
DTSTART;TZID=Europe/London:20250706T100000
DTEND;TZID=Europe/London:20250706T150000
DTSTAMP:20260420T045449
CREATED:20230819T162853Z
LAST-MODIFIED:20250831T125135Z
UID:10005731-1751796000-1751814000@wimbledonvillage.com
SUMMARY:Wimbledon Village Farmers' Market
DESCRIPTION:The Village Farmers’ Market serves up a range of fabulous farm fresh and local products along with a varied offering of ready to eat goodies every Sunday from 10am to 3pm on the Village High Street. Stalls rotate each week. \n  \nFollow The Wimbledon Village Farmers’ Market on Instagram or Facebook for more details.
URL:https://wimbledonvillage.com/event/wimbledon-village-farmers-market/2025-07-06/
ATTACH;FMTTYPE=image/jpeg:https://wimbledonvillage.com/wp-content/uploads/2023/08/Farmers-Market-vegetables.jpg
END:VEVENT
BEGIN:VEVENT
DTSTART;TZID=Europe/London:20250706T080000
DTEND;TZID=Europe/London:20250706T170000
DTSTAMP:20260420T045449
CREATED:20250317T104049Z
LAST-MODIFIED:20250317T104533Z
UID:10004373-1751788800-1751821200@wimbledonvillage.com
SUMMARY:Live Music at the Dog & Fox
DESCRIPTION:The Dog is going big for this years’ Championships with an acoustic artist and full live band playing every Thursday\, Friday\, Saturday and Sunday of the tennis! \n  \nWhere & When: Dog & Fox\, Sunday 6th July\, 5:00pm – 12:00am \n  \nWho’s Playing: 5 – 8 pm Moss / 9 pm – 12 am Coot \n  \nTickets: FREE\, no booking required.
URL:https://wimbledonvillage.com/event/live-music-at-the-dog-fox-7/
ATTACH;FMTTYPE=image/png:https://wimbledonvillage.com/wp-content/uploads/2025/03/Screenshot-2025-03-17-at-10.42.2.png
END:VEVENT
BEGIN:VEVENT
DTSTART;TZID=Europe/London:20250705T103000
DTEND;TZID=Europe/London:20250705T120000
DTSTAMP:20260420T045449
CREATED:20230819T155822Z
LAST-MODIFIED:20250831T132807Z
UID:10008235-1751711400-1751716800@wimbledonvillage.com
SUMMARY:Wimbledon Common and Village Walk & Talk
DESCRIPTION:A free and fun ‘walk and talk’ every Saturday morning around Wimbledon Common and Wimbledon Village. \n  \nWalk and talks are a chance for all generations to take a stroll\, chat\, meet friends and neighbours\, make new friends and enjoy their local area and green spaces together. From older adults to young children\, from buggies to beagles – everybody can join in. \n  \nNo booking\, no reservations\, just turn up and you will get a very warm welcome. \n  \nWhen & Where: 10.30am at the Wimbledon War Memorial on The Green\, at the corner of Parkside and The Causeway.
URL:https://wimbledonvillage.com/event/weekly-walk-talk/2025-07-05/
ATTACH;FMTTYPE=image/jpeg:https://wimbledonvillage.com/wp-content/uploads/2023/08/Walk-Talk-Wimbledon-Common-walkers-on-a-sunny-day.jpg
END:VEVENT
BEGIN:VEVENT
DTSTART;TZID=Europe/London:20250705T090000
DTEND;TZID=Europe/London:20250705T100000
DTSTAMP:20260420T045449
CREATED:20230819T151954Z
LAST-MODIFIED:20250831T130729Z
UID:10007542-1751706000-1751709600@wimbledonvillage.com
SUMMARY:Wimbledon Common Parkrun
DESCRIPTION:A free\, fun\, and friendly weekly 5k community event. Participants can choose to walk\, jog\, run\, volunteer or just spectate. \n  \nThe run starts from near the Windmill car park every Saturday at 9am. \n  \nJoin other runners and supporters for a post run coffee at the Windmill Cafe.
URL:https://wimbledonvillage.com/event/wimbledon-common-park-run/2025-07-05/
ATTACH;FMTTYPE=image/jpeg:https://wimbledonvillage.com/wp-content/uploads/2023/08/Wimbledon-Common-Parkrun-runners-enjoying-the-course.jpg
END:VEVENT
BEGIN:VEVENT
DTSTART;TZID=Europe/London:20250705T080000
DTEND;TZID=Europe/London:20250705T170000
DTSTAMP:20260420T045449
CREATED:20250512T200603Z
LAST-MODIFIED:20250512T200630Z
UID:10004669-1751702400-1751734800@wimbledonvillage.com
SUMMARY:Guided Walk: Summer Medicinal Herbs for Calm and Sleep
DESCRIPTION:A guided herbal medicine walk in Cannizaro’s herb garden with Nadia Hill\, a local medical herbalist and naturopath.  \n  \nThe walk will focus on botanical medicines that lift the spirits\, calm anxiety\, increase memory\, aid sleep and wellbeing. \n  \nFor more information on Nadia\, visit https://wimbledonherbalist.com. \n  \nWhere & When: Meet at the Millennium Fountain at the entrance of Cannizaro Park\, for a prompt 11 am start on Saturday 5th July. \n  \nTickets: £16.96 including booking fee
URL:https://wimbledonvillage.com/event/guided-walk-summer-medicinal-herbs-for-calm-and-sleep-2/
ATTACH;FMTTYPE=image/jpeg:https://wimbledonvillage.com/wp-content/uploads/2025/05/https-cdn.evbuc_.com-images-102-2.jpg
END:VEVENT
BEGIN:VEVENT
DTSTART;TZID=Europe/London:20250705T080000
DTEND;TZID=Europe/London:20250705T170000
DTSTAMP:20260420T045449
CREATED:20250401T150755Z
LAST-MODIFIED:20250702T162126Z
UID:10004436-1751702400-1751734800@wimbledonvillage.com
SUMMARY:Live Music at the Rose & Crown
DESCRIPTION:Enjoy live music at the Rose & Crown Thursday to Sunday during both weeks of the Wimbledon Fortnight. \n  \nWhere & When: Rose & Crown\, 8 – 11 pm on: \n\nThursday 3rd July – IndieGo\nFriday 4th July – IndieGo\nSaturday 5th July – Nova Scotia\nSunday 6th July – IndieGo\nThursday 10th July – IndieGo\nFriday 11th July – IndieGo\nSaturday 12th July – IndieGo\nSunday 13th July – Adam Temple (@4 pm)\n\n  \nBooking/Tickets: Not required. Free events.
URL:https://wimbledonvillage.com/event/live-music-at-the-rose-crown/2025-07-05/
ATTACH;FMTTYPE=image/jpeg:https://wimbledonvillage.com/wp-content/uploads/2025/04/448701601_1011991440936665_67133.jpg
END:VEVENT
BEGIN:VEVENT
DTSTART;TZID=Europe/London:20250705T080000
DTEND;TZID=Europe/London:20250705T170000
DTSTAMP:20260420T045449
CREATED:20250317T102901Z
LAST-MODIFIED:20250317T102929Z
UID:10004371-1751702400-1751734800@wimbledonvillage.com
SUMMARY:Live Music at the Dog & Fox
DESCRIPTION:The Dog is going big for this years’ Championships with an acoustic artist and full live band playing every Thursday\, Friday\, Saturday and Sunday of the tennis! \n  \nWhere & When: Dog & Fox\, Saturday 5th July\, 5:00pm – 12:00am \n  \nWho’s Playing: 5 – 8 pm Johnny Hail / 9 pm – 12 am Wathefunk \n  \nTickets: FREE\, no booking required.
URL:https://wimbledonvillage.com/event/live-music-at-the-dog-fox-5/
ATTACH;FMTTYPE=image/png:https://wimbledonvillage.com/wp-content/uploads/2025/03/Screenshot-2025-03-17-at-10.24.3.png
END:VEVENT
BEGIN:VEVENT
DTSTART;TZID=Europe/London:20250704T080000
DTEND;TZID=Europe/London:20250704T170000
DTSTAMP:20260420T045449
CREATED:20250626T075717Z
LAST-MODIFIED:20250626T075717Z
UID:10004705-1751616000-1751648400@wimbledonvillage.com
SUMMARY:Yangarra Barrel-Top Tasting @ Amathus
DESCRIPTION:Enjoy a free barrel-top tasting of Australia’s award-winning Yangarra Wines. \n  \nWhere & When: Amathus\, Friday 4th July\, from 3 – 7 pm. \n  \nBooking: Not required. Free event.
URL:https://wimbledonvillage.com/event/yangarra-barrel-top-tasting-amathus/
ATTACH;FMTTYPE=image/jpeg:https://wimbledonvillage.com/wp-content/uploads/2025/06/New_CellarDoor_SingleBlock_Lineu.jpg
END:VEVENT
BEGIN:VEVENT
DTSTART;TZID=Europe/London:20250704T080000
DTEND;TZID=Europe/London:20250704T170000
DTSTAMP:20260420T045449
CREATED:20250622T110804Z
LAST-MODIFIED:20250622T110833Z
UID:10004697-1751616000-1751648400@wimbledonvillage.com
SUMMARY:Judy Murray Book Signing
DESCRIPTION:Meet Judy Murray at this one-hour book signing for her new novel: Game\, Set & Murder. \n  \nWhere & When: Wimbledon Books\, on Friday 4th July from 10.45 – 11.45 am.
URL:https://wimbledonvillage.com/event/judy-murray-booking-signing/
ATTACH;FMTTYPE=image/jpeg:https://wimbledonvillage.com/wp-content/uploads/2025/06/Judy-Murray-for-The-Female-Lead-.jpg
END:VEVENT
BEGIN:VEVENT
DTSTART;TZID=Europe/London:20250704T080000
DTEND;TZID=Europe/London:20250704T170000
DTSTAMP:20260420T045449
CREATED:20250401T150755Z
LAST-MODIFIED:20250702T162126Z
UID:10004435-1751616000-1751648400@wimbledonvillage.com
SUMMARY:Live Music at the Rose & Crown
DESCRIPTION:Enjoy live music at the Rose & Crown Thursday to Sunday during both weeks of the Wimbledon Fortnight. \n  \nWhere & When: Rose & Crown\, 8 – 11 pm on: \n\nThursday 3rd July – IndieGo\nFriday 4th July – IndieGo\nSaturday 5th July – Nova Scotia\nSunday 6th July – IndieGo\nThursday 10th July – IndieGo\nFriday 11th July – IndieGo\nSaturday 12th July – IndieGo\nSunday 13th July – Adam Temple (@4 pm)\n\n  \nBooking/Tickets: Not required. Free events.
URL:https://wimbledonvillage.com/event/live-music-at-the-rose-crown/2025-07-04/
ATTACH;FMTTYPE=image/jpeg:https://wimbledonvillage.com/wp-content/uploads/2025/04/448701601_1011991440936665_67133.jpg
END:VEVENT
BEGIN:VEVENT
DTSTART;TZID=Europe/London:20250704T080000
DTEND;TZID=Europe/London:20250704T170000
DTSTAMP:20260420T045449
CREATED:20250317T101510Z
LAST-MODIFIED:20250317T101510Z
UID:10004369-1751616000-1751648400@wimbledonvillage.com
SUMMARY:Live Music at the Dog & Fox
DESCRIPTION:The Dog is going big for this years’ Championships with an acoustic artist and full live band playing every Thursday\, Friday\, Saturday and Sunday of the tennis! \n  \nWhere & When: Dog & Fox\, Friday 4th July\, 5:00pm – 12:00am \n  \nWho’s Playing: 5 – 8 pm Cristina Carter / 9 pm – 12 am Coot \n  \nTickets: FREE\, no booking required. \n 
URL:https://wimbledonvillage.com/event/live-music-at-the-dog-fox-3/
ATTACH;FMTTYPE=image/png:https://wimbledonvillage.com/wp-content/uploads/2025/03/Screenshot-2025-03-17-at-10.10.2.png
END:VEVENT
BEGIN:VEVENT
DTSTART;TZID=Europe/London:20250703T080000
DTEND;TZID=Europe/London:20250703T170000
DTSTAMP:20260420T045449
CREATED:20250702T144755Z
LAST-MODIFIED:20250702T144755Z
UID:10004707-1751529600-1751562000@wimbledonvillage.com
SUMMARY:Pub Quiz @ the Fox & Grapes
DESCRIPTION:Grab your brightest friends for this fun pub quiz at the Fox & Grapes.  Maximum 6 people per team.  1st prize : £100 bar tab\, second prize : £50 tab\, to be used on a return visit. \n  \nWhere & When: Fox & Grapes\, Thursday 3rd July at 7.30 pm. \n  \nBooking/Cost: Free entry. Walk-ins welcome but to book a table please call 020 8619 1300 or email reservations@foxandgrapeswimbledon.co.uk \n 
URL:https://wimbledonvillage.com/event/pub-quiz-the-fox-grapes/
ATTACH;FMTTYPE=image/jpeg:https://wimbledonvillage.com/wp-content/uploads/2025/07/pexels-bohlemedia-1089930.jpg
END:VEVENT
BEGIN:VEVENT
DTSTART;TZID=Europe/London:20250703T080000
DTEND;TZID=Europe/London:20250703T170000
DTSTAMP:20260420T045449
CREATED:20250401T150755Z
LAST-MODIFIED:20250702T162126Z
UID:10004434-1751529600-1751562000@wimbledonvillage.com
SUMMARY:Live Music at the Rose & Crown
DESCRIPTION:Enjoy live music at the Rose & Crown Thursday to Sunday during both weeks of the Wimbledon Fortnight. \n  \nWhere & When: Rose & Crown\, 8 – 11 pm on: \n\nThursday 3rd July – IndieGo\nFriday 4th July – IndieGo\nSaturday 5th July – Nova Scotia\nSunday 6th July – IndieGo\nThursday 10th July – IndieGo\nFriday 11th July – IndieGo\nSaturday 12th July – IndieGo\nSunday 13th July – Adam Temple (@4 pm)\n\n  \nBooking/Tickets: Not required. Free events.
URL:https://wimbledonvillage.com/event/live-music-at-the-rose-crown/2025-07-03/
ATTACH;FMTTYPE=image/jpeg:https://wimbledonvillage.com/wp-content/uploads/2025/04/448701601_1011991440936665_67133.jpg
END:VEVENT
BEGIN:VEVENT
DTSTART;TZID=Europe/London:20250703T080000
DTEND;TZID=Europe/London:20250703T170000
DTSTAMP:20260420T045449
CREATED:20250317T100753Z
LAST-MODIFIED:20250317T105831Z
UID:10004366-1751529600-1751562000@wimbledonvillage.com
SUMMARY:Live Music at the Dog & Fox
DESCRIPTION:The Dog is going big for this years’ Championships with an acoustic artist and full live band playing every Thursday\, Friday\, Saturday and Sunday of the tennis! \n  \nWhere & When: Dog & Fox\, Thursday 3rd July\, 5:00pm – 12:00am \n  \nWho’s Playing: 5 – 8 pm George Coulson / 9 pm – 12 am B4-99 \n  \nTickets: FREE\, no booking required
URL:https://wimbledonvillage.com/event/live-music-at-the-dog-fox/
ATTACH;FMTTYPE=image/png:https://wimbledonvillage.com/wp-content/uploads/2025/03/Screenshot-2025-03-17-at-09.57.2.png
END:VEVENT
END:VCALENDAR