BEGIN:VCALENDAR
VERSION:2.0
PRODID:-//Wimbledon Village - ECPv6.15.20//NONSGML v1.0//EN
CALSCALE:GREGORIAN
METHOD:PUBLISH
X-WR-CALNAME:Wimbledon Village
X-ORIGINAL-URL:https://wimbledonvillage.com
X-WR-CALDESC:Events for Wimbledon Village
REFRESH-INTERVAL;VALUE=DURATION:PT1H
X-Robots-Tag:noindex
X-PUBLISHED-TTL:PT1H
BEGIN:VTIMEZONE
TZID:Europe/London
BEGIN:DAYLIGHT
TZOFFSETFROM:+0000
TZOFFSETTO:+0100
TZNAME:BST
DTSTART:20240331T010000
END:DAYLIGHT
BEGIN:STANDARD
TZOFFSETFROM:+0100
TZOFFSETTO:+0000
TZNAME:GMT
DTSTART:20241027T010000
END:STANDARD
BEGIN:DAYLIGHT
TZOFFSETFROM:+0000
TZOFFSETTO:+0100
TZNAME:BST
DTSTART:20250330T010000
END:DAYLIGHT
BEGIN:STANDARD
TZOFFSETFROM:+0100
TZOFFSETTO:+0000
TZNAME:GMT
DTSTART:20251026T010000
END:STANDARD
BEGIN:DAYLIGHT
TZOFFSETFROM:+0000
TZOFFSETTO:+0100
TZNAME:BST
DTSTART:20260329T010000
END:DAYLIGHT
BEGIN:STANDARD
TZOFFSETFROM:+0100
TZOFFSETTO:+0000
TZNAME:GMT
DTSTART:20261025T010000
END:STANDARD
END:VTIMEZONE
BEGIN:VEVENT
DTSTART;TZID=Europe/London:20250417T080000
DTEND;TZID=Europe/London:20250417T170000
DTSTAMP:20260420T085203
CREATED:20250302T105631Z
LAST-MODIFIED:20250302T105631Z
UID:10004331-1744876800-1744909200@wimbledonvillage.com
SUMMARY:Crafting Afternoons @ St John the Baptist
DESCRIPTION:Join a friendly group at St John’s for regular crafting afternoons (and chat!) to make items for the Church Christmas Fair. All welcome. \n  \nWhere & When: St John the Baptist. Held every 1st and 3rd Thursday of the month from 3.15 – 5.15 pm.
URL:https://wimbledonvillage.com/event/crafting-afternoons-st-john-the-baptist/2025-04-17/
ATTACH;FMTTYPE=image/jpeg:https://wimbledonvillage.com/wp-content/uploads/2025/03/pexels-castorlystock-3945638.jpg
END:VEVENT
BEGIN:VEVENT
DTSTART;TZID=Europe/London:20250417T080000
DTEND;TZID=Europe/London:20250417T170000
DTSTAMP:20260420T085203
CREATED:20250302T075010Z
LAST-MODIFIED:20250302T081026Z
UID:10004317-1744876800-1744909200@wimbledonvillage.com
SUMMARY:The Lakes Distillery Barrel-top Tasting
DESCRIPTION:A second opportunity to enjoy a barrel-top tasting from The Lakes Distillery. Expect enticing English whisky from the winner of the ‘World’s Best Single Malt 2022’. \n  \nWhere & When: Amathus\, Thursday 17th April from 3 to 6 pm \n  \nTickets/Booking: Free event. Booking not required.
URL:https://wimbledonvillage.com/event/the-lakes-distillery-barrel-top-tasting-2/
ATTACH;FMTTYPE=image/jpeg:https://wimbledonvillage.com/wp-content/uploads/2025/03/Evolution-Home-9x16_8c392e0b-97a.jpg
END:VEVENT
BEGIN:VEVENT
DTSTART;TZID=Europe/London:20250416T190000
DTEND;TZID=Europe/London:20250416T220000
DTSTAMP:20260420T085203
CREATED:20240428T113530Z
LAST-MODIFIED:20250831T125653Z
UID:10006764-1744830000-1744840800@wimbledonvillage.com
SUMMARY:Pub Quiz @ The Dog & Fox
DESCRIPTION:Grab your team\, get your brain in gear and get quizzical at the Dog & Fox. \n  \nWhere & When: The Dog & Fox\, 24 High Street\, Wimbledon Village\, London SW19 5EA\, every Wednesday night\, 7 – 10 pm.
URL:https://wimbledonvillage.com/event/pub-quiz-the-dog-fox/2025-04-16/
ATTACH;FMTTYPE=image/png:https://wimbledonvillage.com/wp-content/uploads/2024/04/Dog-Fox-pub-quiz-image.png
END:VEVENT
BEGIN:VEVENT
DTSTART;TZID=Europe/London:20250415T193000
DTEND;TZID=Europe/London:20250415T224500
DTSTAMP:20260420T085203
CREATED:20240222T093828Z
LAST-MODIFIED:20250831T125428Z
UID:10002187-1744745400-1744757100@wimbledonvillage.com
SUMMARY:Pub Quiz @ The Rose & Crown
DESCRIPTION:Grab your cleverest pals & put your knowledge to the test with fantastic quiz master Duncan at the weekly Rose & Crown pub quiz. \n  \nWhere & When: The Rose & Crown\, 55 High Street\, Wimbledon Village\, London SW19 5BA\, every Tuesday from 7.30 – 10.45 pm (except during the Wimbledon tennis fortnight).
URL:https://wimbledonvillage.com/event/rose-crown-pub-quiz/2025-04-15/
ATTACH;FMTTYPE=image/jpeg:https://wimbledonvillage.com/wp-content/uploads/2023/08/Rose-Crown-pub-quiz-image.jpg
END:VEVENT
BEGIN:VEVENT
DTSTART;TZID=Europe/London:20250415T080000
DTEND;TZID=Europe/London:20250415T170000
DTSTAMP:20260420T085203
CREATED:20250406T074649Z
LAST-MODIFIED:20250409T080826Z
UID:10004491-1744704000-1744736400@wimbledonvillage.com
SUMMARY:Live Music at The Ivy Café Wimbledon
DESCRIPTION:Enjoy live music and a complimentary glass of The Ivy Cuvee* \n  \nWhere & When: The Ivy Café\, Wimbledon\, every Tuesday in April & May from 6 – 8 pm. \n  \n*T&Cs apply – see The Ivy Cafe Wimbledon website for details.
URL:https://wimbledonvillage.com/event/live-music-at-the-ivy-cafe-wimbledon/2025-04-15/
ATTACH;FMTTYPE=image/png:https://wimbledonvillage.com/wp-content/uploads/2025/04/THE-IVY-APERITIF-MAR2511146-Not-.png
END:VEVENT
BEGIN:VEVENT
DTSTART;TZID=Europe/London:20250415T080000
DTEND;TZID=Europe/London:20250415T170000
DTSTAMP:20260420T085203
CREATED:20250208T102615Z
LAST-MODIFIED:20250831T133614Z
UID:10004280-1744704000-1744736400@wimbledonvillage.com
SUMMARY:Wimbledon Common Healthy Walks
DESCRIPTION:Take a little outdoor exercise and at the same time learn about the history and current management of the Commons at this regular programme of healthy walks on Wimbledon Common. \n  \nThese moderate walks take place every three weeks and last for approximately 1 hour. They are led by one of the Commons’ full-time staff or a regular volunteer. \n  \nWhere and When: Meeting/end point is outside the wooden garages near to the Rangers Office on Windmill Road. Time: 10am-11am. Booking is not required. \n  \nWalk dates for 2025: \n\n11 February\n4 March\n25 March\n15 April\n6 May\n27 May\n17 June\n8 July\n29 July\n19 August\n9 September\n30 September\n21 October\n11 November\n2 December\n23 December
URL:https://wimbledonvillage.com/event/wimbledon-common-healthy-walks-2/2025-04-15/
ATTACH;FMTTYPE=image/jpeg:https://wimbledonvillage.com/wp-content/uploads/2025/02/img20230815105914035hdr_cropped_.jpg
END:VEVENT
BEGIN:VEVENT
DTSTART;TZID=Europe/London:20250414T080000
DTEND;TZID=Europe/London:20250416T170000
DTSTAMP:20260420T085203
CREATED:20250302T084251Z
LAST-MODIFIED:20250302T091714Z
UID:10004319-1744617600-1744822800@wimbledonvillage.com
SUMMARY:The Great Easter Make-Off Camp
DESCRIPTION:Hop into creativity this spring with this Easter Holiday Camp from Planet Art.  Your little ones will get crafty\, make new friends\, and celebrate Easter in style with three days of Easter-themed fun: \n\nArts and crafts\nEaster Hat Parade\nEgg Hunt\nBunny Dance Show\nEaster Party\nGames & outdoor adventures (if the weather behaves)!\n\n  \nSuitable for children from 4 – 9 years (4-year-olds must be in Reception). \n  \nWhere & When: The Garden Hall @ St Mary’s Church\, April 14th – 16th\, 9.30 am to 3 pm daily. \n  \nCost: £60 per day.
URL:https://wimbledonvillage.com/event/the-great-easter-make-off-camp/
ATTACH;FMTTYPE=image/jpeg:https://wimbledonvillage.com/wp-content/uploads/2025/03/IMG_9795.jpg
END:VEVENT
BEGIN:VEVENT
DTSTART;TZID=Europe/London:20250413T190000
DTEND;TZID=Europe/London:20250413T220000
DTSTAMP:20260420T085203
CREATED:20240108T125908Z
LAST-MODIFIED:20250831T125309Z
UID:10006411-1744570800-1744581600@wimbledonvillage.com
SUMMARY:Pub Quiz @ the Fire Stables
DESCRIPTION:Put your thinking hat on because this is a game for real players. Call your smartest friends and put together a winning team to answer questions about general knowledge\, music\, geography\, everything and nothing. A £50 bar tab is up for grabs each week. \n  \nWhere & When: Fire Stables\, every Sunday from 7 – 10 pm.
URL:https://wimbledonvillage.com/event/pub-quiz-the-fire-stables/2025-04-13/
ATTACH;FMTTYPE=image/jpeg:https://wimbledonvillage.com/wp-content/uploads/2024/01/rsz_pexels-elevate-1269025.jpg
END:VEVENT
BEGIN:VEVENT
DTSTART;TZID=Europe/London:20250413T100000
DTEND;TZID=Europe/London:20250413T150000
DTSTAMP:20260420T085203
CREATED:20230819T162853Z
LAST-MODIFIED:20250831T125135Z
UID:10005719-1744538400-1744556400@wimbledonvillage.com
SUMMARY:Wimbledon Village Farmers' Market
DESCRIPTION:The Village Farmers’ Market serves up a range of fabulous farm fresh and local products along with a varied offering of ready to eat goodies every Sunday from 10am to 3pm on the Village High Street. Stalls rotate each week. \n  \nFollow The Wimbledon Village Farmers’ Market on Instagram or Facebook for more details.
URL:https://wimbledonvillage.com/event/wimbledon-village-farmers-market/2025-04-13/
ATTACH;FMTTYPE=image/jpeg:https://wimbledonvillage.com/wp-content/uploads/2023/08/Farmers-Market-vegetables.jpg
END:VEVENT
BEGIN:VEVENT
DTSTART;TZID=Europe/London:20250413T080000
DTEND;TZID=Europe/London:20250413T170000
DTSTAMP:20260420T085203
CREATED:20250208T151047Z
LAST-MODIFIED:20250208T151822Z
UID:10004298-1744531200-1744563600@wimbledonvillage.com
SUMMARY:Songkran Festival @ Buddhapadipa Temple
DESCRIPTION:The Songkran Festival\, also known as Thailand’s Water Festival\, is an electrifying blend of ancient traditions and modern festivities that marks the Thai New Year.  Buddhapadipa Temple will be holding a fundraising ceremony on Songkran Festival this year to support the main temple’s roof restoration project. \n  \nFor full event details\, please check their website. \n  \nWhere & When: Buddhapadipa Temple\, Sunday 13th April\, 10 am – 4 pm \n  \nTickets: Free. Booking not required \n 
URL:https://wimbledonvillage.com/event/songkran-festival-buddhapadipa-temple/
ATTACH;FMTTYPE=image/jpeg:https://wimbledonvillage.com/wp-content/uploads/2024/08/Buddhapadipa-Temple-exterior.jpg
END:VEVENT
BEGIN:VEVENT
DTSTART;TZID=Europe/London:20250412T103000
DTEND;TZID=Europe/London:20250412T120000
DTSTAMP:20260420T085203
CREATED:20230819T155822Z
LAST-MODIFIED:20250831T132807Z
UID:10008223-1744453800-1744459200@wimbledonvillage.com
SUMMARY:Wimbledon Common and Village Walk & Talk
DESCRIPTION:A free and fun ‘walk and talk’ every Saturday morning around Wimbledon Common and Wimbledon Village. \n  \nWalk and talks are a chance for all generations to take a stroll\, chat\, meet friends and neighbours\, make new friends and enjoy their local area and green spaces together. From older adults to young children\, from buggies to beagles – everybody can join in. \n  \nNo booking\, no reservations\, just turn up and you will get a very warm welcome. \n  \nWhen & Where: 10.30am at the Wimbledon War Memorial on The Green\, at the corner of Parkside and The Causeway.
URL:https://wimbledonvillage.com/event/weekly-walk-talk/2025-04-12/
ATTACH;FMTTYPE=image/jpeg:https://wimbledonvillage.com/wp-content/uploads/2023/08/Walk-Talk-Wimbledon-Common-walkers-on-a-sunny-day.jpg
END:VEVENT
BEGIN:VEVENT
DTSTART;TZID=Europe/London:20250412T090000
DTEND;TZID=Europe/London:20250412T100000
DTSTAMP:20260420T085203
CREATED:20230819T151954Z
LAST-MODIFIED:20250831T130729Z
UID:10007530-1744448400-1744452000@wimbledonvillage.com
SUMMARY:Wimbledon Common Parkrun
DESCRIPTION:A free\, fun\, and friendly weekly 5k community event. Participants can choose to walk\, jog\, run\, volunteer or just spectate. \n  \nThe run starts from near the Windmill car park every Saturday at 9am. \n  \nJoin other runners and supporters for a post run coffee at the Windmill Cafe.
URL:https://wimbledonvillage.com/event/wimbledon-common-park-run/2025-04-12/
ATTACH;FMTTYPE=image/jpeg:https://wimbledonvillage.com/wp-content/uploads/2023/08/Wimbledon-Common-Parkrun-runners-enjoying-the-course.jpg
END:VEVENT
BEGIN:VEVENT
DTSTART;TZID=Europe/London:20250412T080000
DTEND;TZID=Europe/London:20250412T170000
DTSTAMP:20260420T085203
CREATED:20250406T082203Z
LAST-MODIFIED:20250406T082413Z
UID:10004552-1744444800-1744477200@wimbledonvillage.com
SUMMARY:Free Tasting: Tesseron Cognac
DESCRIPTION:This fabulous producer of extremely fine Cognac (and owner of Bordeaux’s Château Pontet Canet) will showcase some exquisite examples of the noblest of French Brandies. \n  \nWhere & When: Jeroboams\, Saturday 12th April from 12 – 3 pm \n  \nBooking/Tickets: Not required. Free Event.
URL:https://wimbledonvillage.com/event/free-tasting-tesseron-cognac/
ATTACH;FMTTYPE=image/jpeg:https://wimbledonvillage.com/wp-content/uploads/2025/04/00148Benjamin-Deroche-pour-Ponte.jpg
END:VEVENT
BEGIN:VEVENT
DTSTART;TZID=Europe/London:20250412T080000
DTEND;TZID=Europe/London:20250412T170000
DTSTAMP:20260420T085203
CREATED:20250302T074259Z
LAST-MODIFIED:20250302T080946Z
UID:10004316-1744444800-1744477200@wimbledonvillage.com
SUMMARY:Citadelle Gin Barrel-top Tasting
DESCRIPTION:If you haven’t tasted Citadelle gin\, you’re in for a treat at this barrel-top tasting. It’s a beautifully crafted French gin\, striking the perfect balance between finesse and intensity. As an added bonus you’ll also be able to try Pierre Ferrand Dry Curaçao\, an outstanding orange liqueur that recreates a style of Curaçao prevalent in the 19th century. \n  \nWhere & When: Amathus\, on Saturday 12th April from 3 to 6 pm. \n  \nTickets/Booking: Free event. Booking not required.
URL:https://wimbledonvillage.com/event/citadelle-gin-barrel-top-tasting/
ATTACH;FMTTYPE=image/png:https://wimbledonvillage.com/wp-content/uploads/2025/03/Screenshot-2025-03-02-at-07.40.0.png
END:VEVENT
BEGIN:VEVENT
DTSTART;TZID=Europe/London:20250412T080000
DTEND;TZID=Europe/London:20250412T170000
DTSTAMP:20260420T085203
CREATED:20250219T080920Z
LAST-MODIFIED:20250219T080920Z
UID:10004305-1744444800-1744477200@wimbledonvillage.com
SUMMARY:Guided Tree Walk @ Cannizaro Park
DESCRIPTION:Enjoy an informative walking tour of Cannizaro Park’s trees with arboriculturist Greg Packman. \n  \nWhere & When: Cannizaro Park\, Saturday 12th April from 11 am – 1 pm.
URL:https://wimbledonvillage.com/event/guided-tree-walk-cannizaro-park/
ATTACH;FMTTYPE=image/jpeg:https://wimbledonvillage.com/wp-content/uploads/2024/04/CAN.-1-38_original-2048x1230-1.jpg
END:VEVENT
BEGIN:VEVENT
DTSTART;TZID=Europe/London:20250412T080000
DTEND;TZID=Europe/London:20250412T170000
DTSTAMP:20260420T085203
CREATED:20240414T092931Z
LAST-MODIFIED:20250831T134400Z
UID:10004347-1744444800-1744477200@wimbledonvillage.com
SUMMARY:Wimbledon Village Stables Open Day
DESCRIPTION:On the second Saturday of every month\, the Stables invites visitors to explore the yard\, meet the horses\, and see how everything runs behind the scenes. \n  \nIt’s a great opportunity to learn about membership options\, and see the Equicise horse simulator\, designed for all ages and abilities. Plus children will love meeting Mr Fudge\, the friendly Shetland pony!  \n  \nWhere & When: Wimbledon Village Stables\, 24 A/B\, High St\, Wimbledon Village\, London SW19 5DX\, second Saturday of every month\, from 2 – 3 pm. \n  \nBooking: No booking required—just turn up and enjoy a relaxed\, informative afternoon.
URL:https://wimbledonvillage.com/event/wimbledon-village-stables-open-afternoons/2025-04-12/
ATTACH;FMTTYPE=image/jpeg:https://wimbledonvillage.com/wp-content/uploads/2025/03/IMG_7836.jpg
END:VEVENT
BEGIN:VEVENT
DTSTART;TZID=Europe/London:20250411T080000
DTEND;TZID=Europe/London:20250411T170000
DTSTAMP:20260420T085203
CREATED:20250406T112409Z
LAST-MODIFIED:20250406T112501Z
UID:10004553-1744358400-1744390800@wimbledonvillage.com
SUMMARY:Celebrate National Pet Day with a Pooch Portrait
DESCRIPTION:Head to the Dog & Fox to celebrating all four-legged friends of the world this National Pet Day. Photographer Amie Barron will be taking dog portraits\, plus you will receive a snack for them to chomp on\, a drink* for you and a social dog walk around the Common afterwards. \n  \nWhere & When: The Dog & Fox\, Friday 11th April from 12 – 3 pm. \n  \nTickets: £55 \n  \n*Drink includes a glass of prosecco\, beer or soft drink.
URL:https://wimbledonvillage.com/event/celebrate-national-pet-day-with-a-pooch-portrait/
ATTACH;FMTTYPE=image/jpeg:https://wimbledonvillage.com/wp-content/uploads/2025/04/https-cdn.evbuc_.com-images-990.jpg
END:VEVENT
BEGIN:VEVENT
DTSTART;TZID=Europe/London:20250411T080000
DTEND;TZID=Europe/London:20250411T170000
DTSTAMP:20260420T085203
CREATED:20250301T201857Z
LAST-MODIFIED:20250302T080736Z
UID:10004315-1744358400-1744390800@wimbledonvillage.com
SUMMARY:FAIR Barrel-top tasting
DESCRIPTION:FAIR\, the leading fair-trade spirits brand\, visits Amathus Wimbledon to showcase some of their products\, including their Cucumber\, Chipotle and Elderflower liqueurs. Tempt your tastebuds and learn how to use these delightful liqueurs in your cocktail making. \n  \nWhere & When: Amathus\, Friday 11th April from 3 to 6 pm \n  \nTickets/Booking: Free event. Booking not required
URL:https://wimbledonvillage.com/event/fair-barrel-top-tasting/
ATTACH;FMTTYPE=image/png:https://wimbledonvillage.com/wp-content/uploads/2025/03/Screenshot-2025-03-01-at-20.16.4.png
END:VEVENT
BEGIN:VEVENT
DTSTART;TZID=Europe/London:20250409T190000
DTEND;TZID=Europe/London:20250409T220000
DTSTAMP:20260420T085203
CREATED:20240428T113530Z
LAST-MODIFIED:20250831T125653Z
UID:10006763-1744225200-1744236000@wimbledonvillage.com
SUMMARY:Pub Quiz @ The Dog & Fox
DESCRIPTION:Grab your team\, get your brain in gear and get quizzical at the Dog & Fox. \n  \nWhere & When: The Dog & Fox\, 24 High Street\, Wimbledon Village\, London SW19 5EA\, every Wednesday night\, 7 – 10 pm.
URL:https://wimbledonvillage.com/event/pub-quiz-the-dog-fox/2025-04-09/
ATTACH;FMTTYPE=image/png:https://wimbledonvillage.com/wp-content/uploads/2024/04/Dog-Fox-pub-quiz-image.png
END:VEVENT
BEGIN:VEVENT
DTSTART;TZID=Europe/London:20250409T080000
DTEND;TZID=Europe/London:20250409T170000
DTSTAMP:20260420T085203
CREATED:20241206T140154Z
LAST-MODIFIED:20250317T224632Z
UID:10004167-1744185600-1744218000@wimbledonvillage.com
SUMMARY:Persepolis: Art\, Architecture and the ideology of the Persian Empire
DESCRIPTION:A Lecture by James Renshaw for The Arts Society Wimbledon \n  \nThe Persian Empire exploded into life in the middle of the 6th Century BC and was the largest empire in the world for the next two centuries. Around 515 BC its third great king\, Darius I\, commissioned a vast new city with his grand palace at its centre. This lecture explores the wonder of Persepolis\, and what the great palace and its art can tell us about the ideology of this extraordinary and influential empire. \n  \nWhere & When: The Sacred Heart Church Hall on Wednesday 9th April at 8 pm (coffee from 7.30 pm). Also available on Zoom. \n  \nTickets: ASW members free. Visitors & guests: £10
URL:https://wimbledonvillage.com/event/persepolis-art-architecture-and-the-ideology-of-the-persian-empire/
ATTACH;FMTTYPE=image/jpeg:https://wimbledonvillage.com/wp-content/uploads/2024/12/GettyImages_113636452-b50aee6.jp_.jpg
END:VEVENT
BEGIN:VEVENT
DTSTART;TZID=Europe/London:20250408T193000
DTEND;TZID=Europe/London:20250408T224500
DTSTAMP:20260420T085203
CREATED:20240222T093828Z
LAST-MODIFIED:20250831T125428Z
UID:10002186-1744140600-1744152300@wimbledonvillage.com
SUMMARY:Pub Quiz @ The Rose & Crown
DESCRIPTION:Grab your cleverest pals & put your knowledge to the test with fantastic quiz master Duncan at the weekly Rose & Crown pub quiz. \n  \nWhere & When: The Rose & Crown\, 55 High Street\, Wimbledon Village\, London SW19 5BA\, every Tuesday from 7.30 – 10.45 pm (except during the Wimbledon tennis fortnight).
URL:https://wimbledonvillage.com/event/rose-crown-pub-quiz/2025-04-08/
ATTACH;FMTTYPE=image/jpeg:https://wimbledonvillage.com/wp-content/uploads/2023/08/Rose-Crown-pub-quiz-image.jpg
END:VEVENT
BEGIN:VEVENT
DTSTART;TZID=Europe/London:20250408T080000
DTEND;TZID=Europe/London:20250408T170000
DTSTAMP:20260420T085203
CREATED:20250406T074649Z
LAST-MODIFIED:20250409T080826Z
UID:10004490-1744099200-1744131600@wimbledonvillage.com
SUMMARY:Live Music at The Ivy Café Wimbledon
DESCRIPTION:Enjoy live music and a complimentary glass of The Ivy Cuvee* \n  \nWhere & When: The Ivy Café\, Wimbledon\, every Tuesday in April & May from 6 – 8 pm. \n  \n*T&Cs apply – see The Ivy Cafe Wimbledon website for details.
URL:https://wimbledonvillage.com/event/live-music-at-the-ivy-cafe-wimbledon/2025-04-08/
ATTACH;FMTTYPE=image/png:https://wimbledonvillage.com/wp-content/uploads/2025/04/THE-IVY-APERITIF-MAR2511146-Not-.png
END:VEVENT
BEGIN:VEVENT
DTSTART;TZID=Europe/London:20250406T190000
DTEND;TZID=Europe/London:20250406T220000
DTSTAMP:20260420T085203
CREATED:20240108T125908Z
LAST-MODIFIED:20250831T125309Z
UID:10006410-1743966000-1743976800@wimbledonvillage.com
SUMMARY:Pub Quiz @ the Fire Stables
DESCRIPTION:Put your thinking hat on because this is a game for real players. Call your smartest friends and put together a winning team to answer questions about general knowledge\, music\, geography\, everything and nothing. A £50 bar tab is up for grabs each week. \n  \nWhere & When: Fire Stables\, every Sunday from 7 – 10 pm.
URL:https://wimbledonvillage.com/event/pub-quiz-the-fire-stables/2025-04-06/
ATTACH;FMTTYPE=image/jpeg:https://wimbledonvillage.com/wp-content/uploads/2024/01/rsz_pexels-elevate-1269025.jpg
END:VEVENT
BEGIN:VEVENT
DTSTART;TZID=Europe/London:20250406T100000
DTEND;TZID=Europe/London:20250406T150000
DTSTAMP:20260420T085203
CREATED:20230819T162853Z
LAST-MODIFIED:20250831T125135Z
UID:10005718-1743933600-1743951600@wimbledonvillage.com
SUMMARY:Wimbledon Village Farmers' Market
DESCRIPTION:The Village Farmers’ Market serves up a range of fabulous farm fresh and local products along with a varied offering of ready to eat goodies every Sunday from 10am to 3pm on the Village High Street. Stalls rotate each week. \n  \nFollow The Wimbledon Village Farmers’ Market on Instagram or Facebook for more details.
URL:https://wimbledonvillage.com/event/wimbledon-village-farmers-market/2025-04-06/
ATTACH;FMTTYPE=image/jpeg:https://wimbledonvillage.com/wp-content/uploads/2023/08/Farmers-Market-vegetables.jpg
END:VEVENT
BEGIN:VEVENT
DTSTART;TZID=Europe/London:20250406T080000
DTEND;TZID=Europe/London:20250406T170000
DTSTAMP:20260420T085203
CREATED:20250112T074914Z
LAST-MODIFIED:20250112T082149Z
UID:10004212-1743926400-1743958800@wimbledonvillage.com
SUMMARY:Wimbledon Common Nature Club: Egg Hunt
DESCRIPTION:The Wimbledon Common Nature Club meets on the first Sunday of each month between 10am and 12 noon to do hands on activities with nature\, from making bird feeders to examining life under a microscope. Events are suitable for 6 – 14 year olds. Parents are welcome to come along too. \n  \nAt the April session the children will identify eggs\, paint their own and make a nest. \n  \nWhere & When: Information Centre\, Windmill Road\, Wimbledon Common on Sunday 6th April from 10 am – 12 pm. \n  \nCost: Free\, although the Club welcomes donations towards equipment and invited guests. \n  \nFor more information and contact details please click the button below.
URL:https://wimbledonvillage.com/event/wimbledon-common-nature-club-life-under-the-microscope-2/
ATTACH;FMTTYPE=image/jpeg:https://wimbledonvillage.com/wp-content/uploads/2025/01/Wimbledon-Common-Nature-Club-two.jpg
END:VEVENT
BEGIN:VEVENT
DTSTART;TZID=Europe/London:20250405T103000
DTEND;TZID=Europe/London:20250405T120000
DTSTAMP:20260420T085203
CREATED:20230819T155822Z
LAST-MODIFIED:20250831T132807Z
UID:10008222-1743849000-1743854400@wimbledonvillage.com
SUMMARY:Wimbledon Common and Village Walk & Talk
DESCRIPTION:A free and fun ‘walk and talk’ every Saturday morning around Wimbledon Common and Wimbledon Village. \n  \nWalk and talks are a chance for all generations to take a stroll\, chat\, meet friends and neighbours\, make new friends and enjoy their local area and green spaces together. From older adults to young children\, from buggies to beagles – everybody can join in. \n  \nNo booking\, no reservations\, just turn up and you will get a very warm welcome. \n  \nWhen & Where: 10.30am at the Wimbledon War Memorial on The Green\, at the corner of Parkside and The Causeway.
URL:https://wimbledonvillage.com/event/weekly-walk-talk/2025-04-05/
ATTACH;FMTTYPE=image/jpeg:https://wimbledonvillage.com/wp-content/uploads/2023/08/Walk-Talk-Wimbledon-Common-walkers-on-a-sunny-day.jpg
END:VEVENT
BEGIN:VEVENT
DTSTART;TZID=Europe/London:20250405T090000
DTEND;TZID=Europe/London:20250405T100000
DTSTAMP:20260420T085203
CREATED:20230819T151954Z
LAST-MODIFIED:20250831T130729Z
UID:10007529-1743843600-1743847200@wimbledonvillage.com
SUMMARY:Wimbledon Common Parkrun
DESCRIPTION:A free\, fun\, and friendly weekly 5k community event. Participants can choose to walk\, jog\, run\, volunteer or just spectate. \n  \nThe run starts from near the Windmill car park every Saturday at 9am. \n  \nJoin other runners and supporters for a post run coffee at the Windmill Cafe.
URL:https://wimbledonvillage.com/event/wimbledon-common-park-run/2025-04-05/
ATTACH;FMTTYPE=image/jpeg:https://wimbledonvillage.com/wp-content/uploads/2023/08/Wimbledon-Common-Parkrun-runners-enjoying-the-course.jpg
END:VEVENT
BEGIN:VEVENT
DTSTART;TZID=Europe/London:20250405T080000
DTEND;TZID=Europe/London:20250405T170000
DTSTAMP:20260420T085203
CREATED:20250301T201156Z
LAST-MODIFIED:20250302T080313Z
UID:10004314-1743840000-1743872400@wimbledonvillage.com
SUMMARY:Raasay Whisky and Gin Barrel-top Tasting
DESCRIPTION:Isle of Raasay was the first legal distillery on the Inner Hebridean island of Raasay\, and creates some fantastic island single malts\, as well as a handcrafted gin. A range of whiskies\, along with the gin\, will be available to try at this barrel-top tasting. \n  \nWhere & When: Amathus\, Saturday 5th April from 12 to 4 pm \n  \nTickets/Booking: Free event. Booking not required
URL:https://wimbledonvillage.com/event/raasay-whisky-and-gin-barrel-top-tasting/
ATTACH;FMTTYPE=image/png:https://wimbledonvillage.com/wp-content/uploads/2025/03/Screenshot-2025-03-01-at-20.09.2.png
END:VEVENT
BEGIN:VEVENT
DTSTART;TZID=Europe/London:20250404T080000
DTEND;TZID=Europe/London:20250404T170000
DTSTAMP:20260420T085203
CREATED:20250317T091510Z
LAST-MODIFIED:20250317T091510Z
UID:10004365-1743753600-1743786000@wimbledonvillage.com
SUMMARY:Vegan Chef's Table @ The Dog & Fox
DESCRIPTION:Join Head Chef Hugh\, who will be utilising fantastic local and seasonal British produce to create an array of mouth watering\, plant-based dishes for guests to enjoy. \n  \nWhere & When: Dog & Fox\, Friday April 4th\, 6.30 – 10.30 pm. \n  \nTickets: £50pp
URL:https://wimbledonvillage.com/event/vegan-chefs-table-the-dog-fox/
ATTACH;FMTTYPE=image/png:https://wimbledonvillage.com/wp-content/uploads/2025/03/471960977_18266705305251476_1269.png
END:VEVENT
BEGIN:VEVENT
DTSTART;TZID=Europe/London:20250404T080000
DTEND;TZID=Europe/London:20250404T170000
DTSTAMP:20260420T085203
CREATED:20250301T200232Z
LAST-MODIFIED:20250301T201302Z
UID:10004313-1743753600-1743786000@wimbledonvillage.com
SUMMARY:Mijenta Tequila Barrel-top Tasting
DESCRIPTION:Mijenta is an award-winning\, sustainable tequila that’s new to the Amathus stable. Using only the best ingredients and a meticulous process\, they create a tequila that’s complex\, balanced and delicious. Try it at this in-store barrel top tasting. \n  \n  \nWhere & When: Amathus on Friday 4th April from 3 to 5 pm \n  \n  \nTickets/Booking: Free event. Booking not required.
URL:https://wimbledonvillage.com/event/mijenta-tequila-barrel-top-tasting/
ATTACH;FMTTYPE=image/png:https://wimbledonvillage.com/wp-content/uploads/2025/03/Screenshot-2025-03-01-at-20.00.0.png
END:VEVENT
END:VCALENDAR