BEGIN:VCALENDAR
VERSION:2.0
PRODID:-//Wimbledon Village - ECPv6.15.20//NONSGML v1.0//EN
CALSCALE:GREGORIAN
METHOD:PUBLISH
X-ORIGINAL-URL:https://wimbledonvillage.com
X-WR-CALDESC:Events for Wimbledon Village
REFRESH-INTERVAL;VALUE=DURATION:PT1H
X-Robots-Tag:noindex
X-PUBLISHED-TTL:PT1H
BEGIN:VTIMEZONE
TZID:Europe/London
BEGIN:DAYLIGHT
TZOFFSETFROM:+0000
TZOFFSETTO:+0100
TZNAME:BST
DTSTART:20250330T010000
END:DAYLIGHT
BEGIN:STANDARD
TZOFFSETFROM:+0100
TZOFFSETTO:+0000
TZNAME:GMT
DTSTART:20251026T010000
END:STANDARD
BEGIN:DAYLIGHT
TZOFFSETFROM:+0000
TZOFFSETTO:+0100
TZNAME:BST
DTSTART:20260329T010000
END:DAYLIGHT
BEGIN:STANDARD
TZOFFSETFROM:+0100
TZOFFSETTO:+0000
TZNAME:GMT
DTSTART:20261025T010000
END:STANDARD
BEGIN:DAYLIGHT
TZOFFSETFROM:+0000
TZOFFSETTO:+0100
TZNAME:BST
DTSTART:20270328T010000
END:DAYLIGHT
BEGIN:STANDARD
TZOFFSETFROM:+0100
TZOFFSETTO:+0000
TZNAME:GMT
DTSTART:20271031T010000
END:STANDARD
END:VTIMEZONE
BEGIN:VEVENT
DTSTART;TZID=Europe/London:20260508T180000
DTEND;TZID=Europe/London:20260508T193000
DTSTAMP:20260420T012422
CREATED:20260406T084610Z
LAST-MODIFIED:20260406T084718Z
UID:10009216-1778263200-1778268600@wimbledonvillage.com
SUMMARY:French Esoterica\, White Edition @ Jeroboams
DESCRIPTION:Discover more about some of the quirkier regional white wines from across France at this intimate in store tasting. \n\n\n\n  \n\n\n\n\n\n\nTaste six carefully selected lesser-known white wines from all over France\, featuring unique styles\, rare varietals and quirky expressions\, accompanied by cheese and nibbles. \n  \nThere will also be a sequel tasting for red wines\, so look out for that! \n  \n\n\nWhere & When: Jeroboams\, Friday 8th May\, 6 – 7.30 pm \n  \nTickets: £35 pp. Buy on Eventbrite through the link below\, or purchase in store.
URL:https://wimbledonvillage.com/event/french-esoterica-white-edition-jeroboams/
ATTACH;FMTTYPE=image/jpeg:https://wimbledonvillage.com/wp-content/uploads/2026/04/image-6.jpg
END:VEVENT
BEGIN:VEVENT
DTSTART;TZID=Europe/London:20260509T090000
DTEND;TZID=Europe/London:20260509T100000
DTSTAMP:20260420T012422
CREATED:20230819T151954Z
LAST-MODIFIED:20250831T130729Z
UID:10007586-1778317200-1778320800@wimbledonvillage.com
SUMMARY:Wimbledon Common Parkrun
DESCRIPTION:A free\, fun\, and friendly weekly 5k community event. Participants can choose to walk\, jog\, run\, volunteer or just spectate. \n  \nThe run starts from near the Windmill car park every Saturday at 9am. \n  \nJoin other runners and supporters for a post run coffee at the Windmill Cafe.
URL:https://wimbledonvillage.com/event/wimbledon-common-park-run/2026-05-09/
ATTACH;FMTTYPE=image/jpeg:https://wimbledonvillage.com/wp-content/uploads/2023/08/Wimbledon-Common-Parkrun-runners-enjoying-the-course.jpg
END:VEVENT
BEGIN:VEVENT
DTSTART;TZID=Europe/London:20260509T103000
DTEND;TZID=Europe/London:20260509T120000
DTSTAMP:20260420T012422
CREATED:20230819T155822Z
LAST-MODIFIED:20250831T132807Z
UID:10008278-1778322600-1778328000@wimbledonvillage.com
SUMMARY:Wimbledon Common and Village Walk & Talk
DESCRIPTION:A free and fun ‘walk and talk’ every Saturday morning around Wimbledon Common and Wimbledon Village. \n  \nWalk and talks are a chance for all generations to take a stroll\, chat\, meet friends and neighbours\, make new friends and enjoy their local area and green spaces together. From older adults to young children\, from buggies to beagles – everybody can join in. \n  \nNo booking\, no reservations\, just turn up and you will get a very warm welcome. \n  \nWhen & Where: 10.30am at the Wimbledon War Memorial on The Green\, at the corner of Parkside and The Causeway.
URL:https://wimbledonvillage.com/event/weekly-walk-talk/2026-05-09/
ATTACH;FMTTYPE=image/jpeg:https://wimbledonvillage.com/wp-content/uploads/2023/08/Walk-Talk-Wimbledon-Common-walkers-on-a-sunny-day.jpg
END:VEVENT
BEGIN:VEVENT
DTSTART;TZID=Europe/London:20260509T103000
DTEND;TZID=Europe/London:20260509T123000
DTSTAMP:20260420T012422
CREATED:20260202T101817Z
LAST-MODIFIED:20260313T133339Z
UID:10008883-1778322600-1778329800@wimbledonvillage.com
SUMMARY:Forest Bathing @ Cannizaro Park
DESCRIPTION:Enjoy a guided slow sensory walk and immerse yourself in the wooded world of Cannizaro Park with Susanne Meis. \n  \nSusanne is the Founder of Meet in Nature and has guided Forest Bathing events across the UK\, including for The Royal Botanic Gardens Kew\, the Forest Bathing Institute\, The National Trust\, and The RSPB. \n  \nWhere & When? : Cannizaro Park on Saturday 9th May\, from 10.30 am – 12.30 pm. Meet at the Millenium Fountain by the main park entrance for a prompt 10.30 start. \n  \nTickets: £15pp plus booking fee.
URL:https://wimbledonvillage.com/event/forest-bathing-cannizaro-park-6/
ATTACH;FMTTYPE=image/jpeg:https://wimbledonvillage.com/wp-content/uploads/2023/08/Forest-Bathing-Walk-@-Cannizaro-Park.jpg
END:VEVENT
BEGIN:VEVENT
DTSTART;TZID=Europe/London:20260509T140000
DTEND;TZID=Europe/London:20260509T150000
DTSTAMP:20260420T012422
CREATED:20260104T133826Z
LAST-MODIFIED:20260104T133826Z
UID:10008786-1778335200-1778338800@wimbledonvillage.com
SUMMARY:Wimbledon Village Stables Open Day
DESCRIPTION:On the second Saturday of every month\, the Village Stables invites visitors to explore the yard\, meet the horses\, and see how everything runs behind the scenes. \n  \nIt’s a great opportunity to learn about membership options\, and see the Equicise horse simulator\, designed for all ages and abilities. Plus children will love meeting Mr Fudge\, the friendly Shetland pony! \n  \nWhere & When: Wimbledon Village Stables on the second Saturday of every month\, from 2 – 3 pm. \n  \nBooking: No booking required – just turn up and enjoy a relaxed\, informative afternoon.
URL:https://wimbledonvillage.com/event/wimbledon-village-stables-open-day/2026-05-09/
ATTACH;FMTTYPE=image/jpeg:https://wimbledonvillage.com/wp-content/uploads/2025/03/IMG_7836.jpg
END:VEVENT
BEGIN:VEVENT
DTSTART;TZID=Europe/London:20260510T100000
DTEND;TZID=Europe/London:20260510T150000
DTSTAMP:20260420T012422
CREATED:20230819T162853Z
LAST-MODIFIED:20250831T125135Z
UID:10005775-1778407200-1778425200@wimbledonvillage.com
SUMMARY:Wimbledon Village Farmers' Market
DESCRIPTION:The Village Farmers’ Market serves up a range of fabulous farm fresh and local products along with a varied offering of ready to eat goodies every Sunday from 10am to 3pm on the Village High Street. Stalls rotate each week. \n  \nFollow The Wimbledon Village Farmers’ Market on Instagram or Facebook for more details.
URL:https://wimbledonvillage.com/event/wimbledon-village-farmers-market/2026-05-10/
ATTACH;FMTTYPE=image/jpeg:https://wimbledonvillage.com/wp-content/uploads/2023/08/Farmers-Market-vegetables.jpg
END:VEVENT
BEGIN:VEVENT
DTSTART;TZID=Europe/London:20260510T190000
DTEND;TZID=Europe/London:20260510T220000
DTSTAMP:20260420T012422
CREATED:20240108T125908Z
LAST-MODIFIED:20250831T125309Z
UID:10006467-1778439600-1778450400@wimbledonvillage.com
SUMMARY:Pub Quiz @ the Fire Stables
DESCRIPTION:Put your thinking hat on because this is a game for real players. Call your smartest friends and put together a winning team to answer questions about general knowledge\, music\, geography\, everything and nothing. A £50 bar tab is up for grabs each week. \n  \nWhere & When: Fire Stables\, every Sunday from 7 – 10 pm.
URL:https://wimbledonvillage.com/event/pub-quiz-the-fire-stables/2026-05-10/
ATTACH;FMTTYPE=image/jpeg:https://wimbledonvillage.com/wp-content/uploads/2024/01/rsz_pexels-elevate-1269025.jpg
END:VEVENT
BEGIN:VEVENT
DTSTART;TZID=Europe/London:20260511T133000
DTEND;TZID=Europe/London:20260511T150000
DTSTAMP:20260420T012422
CREATED:20251115T222907Z
LAST-MODIFIED:20260322T191634Z
UID:10009202-1778506200-1778511600@wimbledonvillage.com
SUMMARY:Prams & Pinot Wine Tasting
DESCRIPTION:A wine tasting welcoming all parents & prams. \n  \nEnjoy and learn about 4 seasonal wines accompanied with light nibbles\, in a relaxed and informal environment with plenty of pram space. Spittoons and a small changing table are available. \n  \nEnjoy an exclusive discount\, only available on the tasting day: Get 10% off your order when you purchase any of the wines tasted. \n  \nWhere & When: Friarwood Wines & Spirits on selected Mondays\, 1:30-3pm. Recommended arrival time\, 1.20pm \n  \nTickets: £25pp
URL:https://wimbledonvillage.com/event/prams-pinot-wine-tasting/2026-05-11/
ATTACH;FMTTYPE=image/png:https://wimbledonvillage.com/wp-content/uploads/2024/08/Mumdays-Wine-Tastings_2022.png
END:VEVENT
BEGIN:VEVENT
DTSTART;TZID=Europe/London:20260512T193000
DTEND;TZID=Europe/London:20260512T224500
DTSTAMP:20260420T012422
CREATED:20250922T102723Z
LAST-MODIFIED:20260202T082017Z
UID:10002243-1778614200-1778625900@wimbledonvillage.com
SUMMARY:Pub Quiz @ The Rose & Crown
DESCRIPTION:Grab your cleverest pals & put your knowledge to the test with fantastic quiz master Duncan at the weekly Rose & Crown pub quiz. \n  \nWhere & When: The Rose & Crown\, 55 High Street\, Wimbledon Village\, London SW19 5BA\, every Tuesday from 7.30 – 10.45 pm (except during the Wimbledon tennis fortnight).
URL:https://wimbledonvillage.com/event/rose-crown-pub-quiz-3/2026-05-12/
ATTACH;FMTTYPE=image/jpeg:https://wimbledonvillage.com/wp-content/uploads/2023/08/Rose-Crown-pub-quiz-image.jpg
END:VEVENT
BEGIN:VEVENT
DTSTART;TZID=Europe/London:20260512T200000
DTEND;TZID=Europe/London:20260512T220000
DTSTAMP:20260420T012422
CREATED:20260301T153138Z
LAST-MODIFIED:20260301T153254Z
UID:10008918-1778616000-1778623200@wimbledonvillage.com
SUMMARY:Pub Quiz @ The Hand in Hand
DESCRIPTION:Get your brainiest mates together\, come up with the funniest team name and put your trivia knowledge to the test at the Hand in Hands’ weekly quiz for a chance to win one of the lovely prizes on offer. \n  \nQuizmaster John Spain will put you through your paces from general knowledge to music and sport. You’ve got to be in it\, to win it! \n  \nWhere & When: Hand in Hand\, every Tuesday from 8 -10 pm.
URL:https://wimbledonvillage.com/event/pub-quiz-the-hand-in-hand/2026-05-12/
ATTACH;FMTTYPE=image/jpeg:https://wimbledonvillage.com/wp-content/uploads/2024/04/Screenshot-2026-03-01-at-15.29.0.jpg
END:VEVENT
BEGIN:VEVENT
DTSTART;TZID=Europe/London:20260513T190000
DTEND;TZID=Europe/London:20260513T220000
DTSTAMP:20260420T012422
CREATED:20240428T113530Z
LAST-MODIFIED:20250831T125653Z
UID:10006818-1778698800-1778709600@wimbledonvillage.com
SUMMARY:Pub Quiz @ The Dog & Fox
DESCRIPTION:Grab your team\, get your brain in gear and get quizzical at the Dog & Fox. \n  \nWhere & When: The Dog & Fox\, 24 High Street\, Wimbledon Village\, London SW19 5EA\, every Wednesday night\, 7 – 10 pm.
URL:https://wimbledonvillage.com/event/pub-quiz-the-dog-fox/2026-05-13/
ATTACH;FMTTYPE=image/png:https://wimbledonvillage.com/wp-content/uploads/2024/04/Dog-Fox-pub-quiz-image.png
END:VEVENT
BEGIN:VEVENT
DTSTART;TZID=Europe/London:20260513T193000
DTEND;TZID=Europe/London:20260513T213000
DTSTAMP:20260420T012422
CREATED:20251124T185607Z
LAST-MODIFIED:20251124T193710Z
UID:10008634-1778700600-1778707800@wimbledonvillage.com
SUMMARY:Do We See What They Saw? Experiencing Paintings in the Past
DESCRIPTION:A Lecture for The Arts Society Wimbledon by Dr Chantal Brotherton-Ratcliffe \n  \nHow does our experience of looking at works of art today compare to the viewing experience of earlier centuries?  This lecture considers the very different conditions in which paintings were seen and displayed in the past. Today we don’t have just daylight and candlelight\, we do not use magnifying glasses\, conceal pictures behind small curtains\, or hang pictures way up high. Come and hear about the unexpected ways people enjoyed and responded to art in the past. \n  \nWhere & When: The Sacred Heart Church Hall on Wednesday 13th May at 8 pm (coffee from 7.30 pm). Also available on Zoom. \n  \nTickets: Members free. Visitors & guests: £10
URL:https://wimbledonvillage.com/event/do-we-see-what-they-saw-experiencing-paintings-in-the-past/
ATTACH;FMTTYPE=image/jpeg:https://wimbledonvillage.com/wp-content/uploads/2025/11/Georges_de_La_Tour_009-1-1-scale.jpg
END:VEVENT
BEGIN:VEVENT
DTSTART;TZID=Europe/London:20260516T090000
DTEND;TZID=Europe/London:20260516T100000
DTSTAMP:20260420T012422
CREATED:20230819T151954Z
LAST-MODIFIED:20250831T130729Z
UID:10007587-1778922000-1778925600@wimbledonvillage.com
SUMMARY:Wimbledon Common Parkrun
DESCRIPTION:A free\, fun\, and friendly weekly 5k community event. Participants can choose to walk\, jog\, run\, volunteer or just spectate. \n  \nThe run starts from near the Windmill car park every Saturday at 9am. \n  \nJoin other runners and supporters for a post run coffee at the Windmill Cafe.
URL:https://wimbledonvillage.com/event/wimbledon-common-park-run/2026-05-16/
ATTACH;FMTTYPE=image/jpeg:https://wimbledonvillage.com/wp-content/uploads/2023/08/Wimbledon-Common-Parkrun-runners-enjoying-the-course.jpg
END:VEVENT
BEGIN:VEVENT
DTSTART;TZID=Europe/London:20260516T103000
DTEND;TZID=Europe/London:20260516T120000
DTSTAMP:20260420T012422
CREATED:20230819T155822Z
LAST-MODIFIED:20250831T132807Z
UID:10008279-1778927400-1778932800@wimbledonvillage.com
SUMMARY:Wimbledon Common and Village Walk & Talk
DESCRIPTION:A free and fun ‘walk and talk’ every Saturday morning around Wimbledon Common and Wimbledon Village. \n  \nWalk and talks are a chance for all generations to take a stroll\, chat\, meet friends and neighbours\, make new friends and enjoy their local area and green spaces together. From older adults to young children\, from buggies to beagles – everybody can join in. \n  \nNo booking\, no reservations\, just turn up and you will get a very warm welcome. \n  \nWhen & Where: 10.30am at the Wimbledon War Memorial on The Green\, at the corner of Parkside and The Causeway.
URL:https://wimbledonvillage.com/event/weekly-walk-talk/2026-05-16/
ATTACH;FMTTYPE=image/jpeg:https://wimbledonvillage.com/wp-content/uploads/2023/08/Walk-Talk-Wimbledon-Common-walkers-on-a-sunny-day.jpg
END:VEVENT
BEGIN:VEVENT
DTSTART;TZID=Europe/London:20260517T100000
DTEND;TZID=Europe/London:20260517T150000
DTSTAMP:20260420T012422
CREATED:20230819T162853Z
LAST-MODIFIED:20250831T125135Z
UID:10005776-1779012000-1779030000@wimbledonvillage.com
SUMMARY:Wimbledon Village Farmers' Market
DESCRIPTION:The Village Farmers’ Market serves up a range of fabulous farm fresh and local products along with a varied offering of ready to eat goodies every Sunday from 10am to 3pm on the Village High Street. Stalls rotate each week. \n  \nFollow The Wimbledon Village Farmers’ Market on Instagram or Facebook for more details.
URL:https://wimbledonvillage.com/event/wimbledon-village-farmers-market/2026-05-17/
ATTACH;FMTTYPE=image/jpeg:https://wimbledonvillage.com/wp-content/uploads/2023/08/Farmers-Market-vegetables.jpg
END:VEVENT
BEGIN:VEVENT
DTSTART;TZID=Europe/London:20260517T100000
DTEND;TZID=Europe/London:20260517T150000
DTSTAMP:20260420T012422
CREATED:20260202T101750Z
LAST-MODIFIED:20260202T101750Z
UID:10008884-1779012000-1779030000@wimbledonvillage.com
SUMMARY:Family Activity Day at Cannizaro Park
DESCRIPTION:Enjoy a day exploring Cannizaro Park Pond with the Friends of Cannizaro Park.  \n  \nWhere & When: The Pond at Cannizaro Park on Sunday 17th May. Check The Friends of Cannizaro Park website for timing/more details. \n  \nBooking/Tickets: Not required. Free event.
URL:https://wimbledonvillage.com/event/family-activity-day-at-cannizaro-park/
ATTACH;FMTTYPE=image/jpeg:https://wimbledonvillage.com/wp-content/uploads/2025/05/unnamed-21.jpg
END:VEVENT
BEGIN:VEVENT
DTSTART;TZID=Europe/London:20260517T190000
DTEND;TZID=Europe/London:20260517T220000
DTSTAMP:20260420T012422
CREATED:20240108T125908Z
LAST-MODIFIED:20250831T125309Z
UID:10006468-1779044400-1779055200@wimbledonvillage.com
SUMMARY:Pub Quiz @ the Fire Stables
DESCRIPTION:Put your thinking hat on because this is a game for real players. Call your smartest friends and put together a winning team to answer questions about general knowledge\, music\, geography\, everything and nothing. A £50 bar tab is up for grabs each week. \n  \nWhere & When: Fire Stables\, every Sunday from 7 – 10 pm.
URL:https://wimbledonvillage.com/event/pub-quiz-the-fire-stables/2026-05-17/
ATTACH;FMTTYPE=image/jpeg:https://wimbledonvillage.com/wp-content/uploads/2024/01/rsz_pexels-elevate-1269025.jpg
END:VEVENT
BEGIN:VEVENT
DTSTART;TZID=Europe/London:20260519T100000
DTEND;TZID=Europe/London:20260519T110000
DTSTAMP:20260420T012422
CREATED:20260104T114342Z
LAST-MODIFIED:20260104T114342Z
UID:10008672-1779184800-1779188400@wimbledonvillage.com
SUMMARY:Wimbledon Common Healthy Walks
DESCRIPTION:Take a little outdoor exercise and at the same time learn about the history and current management of the Commons at this regular programme of healthy walks on Wimbledon Common. \n  \nThese moderate walks take place every three weeks and last for approximately 1 hour. They are led by one of the Commons’ full-time staff or a regular volunteer. \n  \nWhere and When: Meeting/end point is outside the wooden garages near to the Rangers Office on Windmill Road. Time: 10am-11am. Booking is not required. \n  \nWalk dates for 2026: \n\n13 January\n3 February\n24 February\n17 March\n7 April\n28 April\n19 May\n9 June\n30 June\n21 July\n11 August\n1 September\n22 September\n13 October\n3 November\n24 November\n15 December
URL:https://wimbledonvillage.com/event/wimbledon-common-healthy-walks-3/2026-05-19/
ATTACH;FMTTYPE=image/jpeg:https://wimbledonvillage.com/wp-content/uploads/2025/02/img20230815105914035hdr_cropped_.jpg
END:VEVENT
BEGIN:VEVENT
DTSTART;TZID=Europe/London:20260519T193000
DTEND;TZID=Europe/London:20260519T224500
DTSTAMP:20260420T012422
CREATED:20250922T102723Z
LAST-MODIFIED:20260202T082017Z
UID:10002244-1779219000-1779230700@wimbledonvillage.com
SUMMARY:Pub Quiz @ The Rose & Crown
DESCRIPTION:Grab your cleverest pals & put your knowledge to the test with fantastic quiz master Duncan at the weekly Rose & Crown pub quiz. \n  \nWhere & When: The Rose & Crown\, 55 High Street\, Wimbledon Village\, London SW19 5BA\, every Tuesday from 7.30 – 10.45 pm (except during the Wimbledon tennis fortnight).
URL:https://wimbledonvillage.com/event/rose-crown-pub-quiz-3/2026-05-19/
ATTACH;FMTTYPE=image/jpeg:https://wimbledonvillage.com/wp-content/uploads/2023/08/Rose-Crown-pub-quiz-image.jpg
END:VEVENT
BEGIN:VEVENT
DTSTART;TZID=Europe/London:20260519T200000
DTEND;TZID=Europe/London:20260519T220000
DTSTAMP:20260420T012422
CREATED:20260301T153138Z
LAST-MODIFIED:20260301T153254Z
UID:10008919-1779220800-1779228000@wimbledonvillage.com
SUMMARY:Pub Quiz @ The Hand in Hand
DESCRIPTION:Get your brainiest mates together\, come up with the funniest team name and put your trivia knowledge to the test at the Hand in Hands’ weekly quiz for a chance to win one of the lovely prizes on offer. \n  \nQuizmaster John Spain will put you through your paces from general knowledge to music and sport. You’ve got to be in it\, to win it! \n  \nWhere & When: Hand in Hand\, every Tuesday from 8 -10 pm.
URL:https://wimbledonvillage.com/event/pub-quiz-the-hand-in-hand/2026-05-19/
ATTACH;FMTTYPE=image/jpeg:https://wimbledonvillage.com/wp-content/uploads/2024/04/Screenshot-2026-03-01-at-15.29.0.jpg
END:VEVENT
BEGIN:VEVENT
DTSTART;TZID=Europe/London:20260520T190000
DTEND;TZID=Europe/London:20260520T220000
DTSTAMP:20260420T012422
CREATED:20240428T113530Z
LAST-MODIFIED:20250831T125653Z
UID:10006819-1779303600-1779314400@wimbledonvillage.com
SUMMARY:Pub Quiz @ The Dog & Fox
DESCRIPTION:Grab your team\, get your brain in gear and get quizzical at the Dog & Fox. \n  \nWhere & When: The Dog & Fox\, 24 High Street\, Wimbledon Village\, London SW19 5EA\, every Wednesday night\, 7 – 10 pm.
URL:https://wimbledonvillage.com/event/pub-quiz-the-dog-fox/2026-05-20/
ATTACH;FMTTYPE=image/png:https://wimbledonvillage.com/wp-content/uploads/2024/04/Dog-Fox-pub-quiz-image.png
END:VEVENT
BEGIN:VEVENT
DTSTART;TZID=Europe/London:20260521T183000
DTEND;TZID=Europe/London:20260521T200000
DTSTAMP:20260420T012422
CREATED:20260322T174912Z
LAST-MODIFIED:20260322T174912Z
UID:10009200-1779388200-1779393600@wimbledonvillage.com
SUMMARY:Grower Champagne Tasting @ Amathus
DESCRIPTION:An increasing number of growers are pulling back from supplying grapes to the Grande Marques to concentrate on making their own Champagne.  \n  \nWith a focus on terroir and individuality\, they’re producing some stunning wines\, often in tiny amounts. \n  \nJoin Amathus Master of Wine Ana Sapungiu for a guided tasting of five grower Champagnes. \n\n\n  \nWhere & When: Amathus\, Thursday 21st May 2026\, from 6.30 – 8 pm \n  \nTickets: £50pp plus booking fee.
URL:https://wimbledonvillage.com/event/grower-champagne-tasting-amathus/
ATTACH;FMTTYPE=image/jpeg:https://wimbledonvillage.com/wp-content/uploads/2026/03/image-3-2.jpg
END:VEVENT
BEGIN:VEVENT
DTSTART;TZID=Europe/London:20260523T090000
DTEND;TZID=Europe/London:20260523T100000
DTSTAMP:20260420T012422
CREATED:20230819T151954Z
LAST-MODIFIED:20250831T130729Z
UID:10007588-1779526800-1779530400@wimbledonvillage.com
SUMMARY:Wimbledon Common Parkrun
DESCRIPTION:A free\, fun\, and friendly weekly 5k community event. Participants can choose to walk\, jog\, run\, volunteer or just spectate. \n  \nThe run starts from near the Windmill car park every Saturday at 9am. \n  \nJoin other runners and supporters for a post run coffee at the Windmill Cafe.
URL:https://wimbledonvillage.com/event/wimbledon-common-park-run/2026-05-23/
ATTACH;FMTTYPE=image/jpeg:https://wimbledonvillage.com/wp-content/uploads/2023/08/Wimbledon-Common-Parkrun-runners-enjoying-the-course.jpg
END:VEVENT
BEGIN:VEVENT
DTSTART;TZID=Europe/London:20260523T103000
DTEND;TZID=Europe/London:20260523T120000
DTSTAMP:20260420T012422
CREATED:20230819T155822Z
LAST-MODIFIED:20250831T132807Z
UID:10008280-1779532200-1779537600@wimbledonvillage.com
SUMMARY:Wimbledon Common and Village Walk & Talk
DESCRIPTION:A free and fun ‘walk and talk’ every Saturday morning around Wimbledon Common and Wimbledon Village. \n  \nWalk and talks are a chance for all generations to take a stroll\, chat\, meet friends and neighbours\, make new friends and enjoy their local area and green spaces together. From older adults to young children\, from buggies to beagles – everybody can join in. \n  \nNo booking\, no reservations\, just turn up and you will get a very warm welcome. \n  \nWhen & Where: 10.30am at the Wimbledon War Memorial on The Green\, at the corner of Parkside and The Causeway.
URL:https://wimbledonvillage.com/event/weekly-walk-talk/2026-05-23/
ATTACH;FMTTYPE=image/jpeg:https://wimbledonvillage.com/wp-content/uploads/2023/08/Walk-Talk-Wimbledon-Common-walkers-on-a-sunny-day.jpg
END:VEVENT
BEGIN:VEVENT
DTSTART;TZID=Europe/London:20260524T100000
DTEND;TZID=Europe/London:20260524T150000
DTSTAMP:20260420T012422
CREATED:20230819T162853Z
LAST-MODIFIED:20250831T125135Z
UID:10005777-1779616800-1779634800@wimbledonvillage.com
SUMMARY:Wimbledon Village Farmers' Market
DESCRIPTION:The Village Farmers’ Market serves up a range of fabulous farm fresh and local products along with a varied offering of ready to eat goodies every Sunday from 10am to 3pm on the Village High Street. Stalls rotate each week. \n  \nFollow The Wimbledon Village Farmers’ Market on Instagram or Facebook for more details.
URL:https://wimbledonvillage.com/event/wimbledon-village-farmers-market/2026-05-24/
ATTACH;FMTTYPE=image/jpeg:https://wimbledonvillage.com/wp-content/uploads/2023/08/Farmers-Market-vegetables.jpg
END:VEVENT
BEGIN:VEVENT
DTSTART;TZID=Europe/London:20260524T190000
DTEND;TZID=Europe/London:20260524T220000
DTSTAMP:20260420T012422
CREATED:20240108T125908Z
LAST-MODIFIED:20250831T125309Z
UID:10006469-1779649200-1779660000@wimbledonvillage.com
SUMMARY:Pub Quiz @ the Fire Stables
DESCRIPTION:Put your thinking hat on because this is a game for real players. Call your smartest friends and put together a winning team to answer questions about general knowledge\, music\, geography\, everything and nothing. A £50 bar tab is up for grabs each week. \n  \nWhere & When: Fire Stables\, every Sunday from 7 – 10 pm.
URL:https://wimbledonvillage.com/event/pub-quiz-the-fire-stables/2026-05-24/
ATTACH;FMTTYPE=image/jpeg:https://wimbledonvillage.com/wp-content/uploads/2024/01/rsz_pexels-elevate-1269025.jpg
END:VEVENT
BEGIN:VEVENT
DTSTART;TZID=Europe/London:20260526T193000
DTEND;TZID=Europe/London:20260526T224500
DTSTAMP:20260420T012422
CREATED:20250922T102723Z
LAST-MODIFIED:20260202T082017Z
UID:10002245-1779823800-1779835500@wimbledonvillage.com
SUMMARY:Pub Quiz @ The Rose & Crown
DESCRIPTION:Grab your cleverest pals & put your knowledge to the test with fantastic quiz master Duncan at the weekly Rose & Crown pub quiz. \n  \nWhere & When: The Rose & Crown\, 55 High Street\, Wimbledon Village\, London SW19 5BA\, every Tuesday from 7.30 – 10.45 pm (except during the Wimbledon tennis fortnight).
URL:https://wimbledonvillage.com/event/rose-crown-pub-quiz-3/2026-05-26/
ATTACH;FMTTYPE=image/jpeg:https://wimbledonvillage.com/wp-content/uploads/2023/08/Rose-Crown-pub-quiz-image.jpg
END:VEVENT
BEGIN:VEVENT
DTSTART;TZID=Europe/London:20260526T200000
DTEND;TZID=Europe/London:20260526T220000
DTSTAMP:20260420T012422
CREATED:20260301T153138Z
LAST-MODIFIED:20260301T153254Z
UID:10008920-1779825600-1779832800@wimbledonvillage.com
SUMMARY:Pub Quiz @ The Hand in Hand
DESCRIPTION:Get your brainiest mates together\, come up with the funniest team name and put your trivia knowledge to the test at the Hand in Hands’ weekly quiz for a chance to win one of the lovely prizes on offer. \n  \nQuizmaster John Spain will put you through your paces from general knowledge to music and sport. You’ve got to be in it\, to win it! \n  \nWhere & When: Hand in Hand\, every Tuesday from 8 -10 pm.
URL:https://wimbledonvillage.com/event/pub-quiz-the-hand-in-hand/2026-05-26/
ATTACH;FMTTYPE=image/jpeg:https://wimbledonvillage.com/wp-content/uploads/2024/04/Screenshot-2026-03-01-at-15.29.0.jpg
END:VEVENT
BEGIN:VEVENT
DTSTART;TZID=Europe/London:20260527T120000
DTEND;TZID=Europe/London:20260527T130000
DTSTAMP:20260420T012422
CREATED:20260413T145832Z
LAST-MODIFIED:20260413T145832Z
UID:10009219-1779883200-1779886800@wimbledonvillage.com
SUMMARY:Webinar: Understanding self harm in young people
DESCRIPTION:A free webinar covering the causes\, risk factors & triggers of self-harm – as well as strategies to support young people who self-harm. \n\n\n\n  \nIt will be led by Stephen McCluskey\, a highly experienced mental health nurse who has spent the last 30 years working within Child and Adolescent Mental Health services (CAMHS)\, the National Self Harm Service for Adolescents and Specialist Personality Disorder services. He has extensive knowledge of self-harm having worked in this specialist area with young people and families. \n  \nAimed at informing parents\, carers and professionals\, he will discuss the context of self harm in young people\, covering the underlying causes and functions of self harm\, risk factors\, triggers and strategies for supporting young people who harm themselves\, including available support. \n  \n\n\nThis webinar is part of a series of monthly\, free events brought to you by The Family Treatment Service. \n  \nWhere & When: Online\, 12 – 1 pm on Wednesday 27th May \n  \nCost: Free event. Book via the link below.
URL:https://wimbledonvillage.com/event/webinar-understanding-self-harm-in-young-people-2/
ATTACH;FMTTYPE=image/jpeg:https://wimbledonvillage.com/wp-content/uploads/2026/04/image-1-3.jpg
END:VEVENT
BEGIN:VEVENT
DTSTART;TZID=Europe/London:20260527T190000
DTEND;TZID=Europe/London:20260527T203000
DTSTAMP:20260420T012422
CREATED:20260304T200719Z
LAST-MODIFIED:20260304T200744Z
UID:10009181-1779908400-1779913800@wimbledonvillage.com
SUMMARY:Wimbledon Society Lecture: Josephine Butler
DESCRIPTION:In Victorian times\, a woman living quietly at North View on Wimbledon Common was stirring up a national storm. Josephine Butler wasn’t content to accept the injustices of her age. \n  \nOutraged by the routine mistreatment of girls and young women\, Butler became one of the most determined and fearless campaigners for women’s rights. Working alongside crusading journalist WT Stead\, she helped to expose abuses that society preferred to ignore. Together\, they pushed the issue into the public eye and fought to protect some of the most vulnerable people in Victorian Britain. \n  \nHer extraordinary story is brought to life by Susanna Rustin\, social affairs leader writer for The Guardian and former arts journalist at the Financial Times. \n  \nWhere & When: Emmanuel Church\, 24 Ridgway\, SW19 4QN on Wednesday 27th May @ 7 pm.
URL:https://wimbledonvillage.com/event/wimbledon-society-lecture-josephine-butler-the-most-distinguished-woman-of-the-19th-century/
ATTACH;FMTTYPE=image/jpeg:https://wimbledonvillage.com/wp-content/uploads/2026/03/josephine-butler.jpg
END:VEVENT
END:VCALENDAR