BEGIN:VCALENDAR
VERSION:2.0
PRODID:-//Wimbledon Village - ECPv6.15.20//NONSGML v1.0//EN
CALSCALE:GREGORIAN
METHOD:PUBLISH
X-WR-CALNAME:Wimbledon Village
X-ORIGINAL-URL:https://wimbledonvillage.com
X-WR-CALDESC:Events for Wimbledon Village
REFRESH-INTERVAL;VALUE=DURATION:PT1H
X-Robots-Tag:noindex
X-PUBLISHED-TTL:PT1H
BEGIN:VTIMEZONE
TZID:Europe/London
BEGIN:DAYLIGHT
TZOFFSETFROM:+0000
TZOFFSETTO:+0100
TZNAME:BST
DTSTART:20240331T010000
END:DAYLIGHT
BEGIN:STANDARD
TZOFFSETFROM:+0100
TZOFFSETTO:+0000
TZNAME:GMT
DTSTART:20241027T010000
END:STANDARD
BEGIN:DAYLIGHT
TZOFFSETFROM:+0000
TZOFFSETTO:+0100
TZNAME:BST
DTSTART:20250330T010000
END:DAYLIGHT
BEGIN:STANDARD
TZOFFSETFROM:+0100
TZOFFSETTO:+0000
TZNAME:GMT
DTSTART:20251026T010000
END:STANDARD
BEGIN:DAYLIGHT
TZOFFSETFROM:+0000
TZOFFSETTO:+0100
TZNAME:BST
DTSTART:20260329T010000
END:DAYLIGHT
BEGIN:STANDARD
TZOFFSETFROM:+0100
TZOFFSETTO:+0000
TZNAME:GMT
DTSTART:20261025T010000
END:STANDARD
END:VTIMEZONE
BEGIN:VEVENT
DTSTART;TZID=Europe/London:20250628T090000
DTEND;TZID=Europe/London:20250628T100000
DTSTAMP:20260420T054815
CREATED:20230819T151954Z
LAST-MODIFIED:20250831T130729Z
UID:10007541-1751101200-1751104800@wimbledonvillage.com
SUMMARY:Wimbledon Common Parkrun
DESCRIPTION:A free\, fun\, and friendly weekly 5k community event. Participants can choose to walk\, jog\, run\, volunteer or just spectate. \n  \nThe run starts from near the Windmill car park every Saturday at 9am. \n  \nJoin other runners and supporters for a post run coffee at the Windmill Cafe.
URL:https://wimbledonvillage.com/event/wimbledon-common-park-run/2025-06-28/
ATTACH;FMTTYPE=image/jpeg:https://wimbledonvillage.com/wp-content/uploads/2023/08/Wimbledon-Common-Parkrun-runners-enjoying-the-course.jpg
END:VEVENT
BEGIN:VEVENT
DTSTART;TZID=Europe/London:20250628T080000
DTEND;TZID=Europe/London:20250628T170000
DTSTAMP:20260420T054815
CREATED:20250512T195111Z
LAST-MODIFIED:20250519T124045Z
UID:10004668-1751097600-1751130000@wimbledonvillage.com
SUMMARY:Pond Activity Day at Cannizaro Park
DESCRIPTION:Enjoy a day exploring Cannizaro Park Pond with the Friends of Cannizaro Park.  \n  \nHear all about the upcoming pond restoration project taking place late in the Summer and the benefits it will bring to the nearby communities\, the park\, and the pond’s habitat for years to come. There will be free activities for all the family throughout the day including talks\, water experiments and colouring-in sheets. \n  \nWhere & When: The Pond at Cannizaro Park on Saturday\, 28th June from 10 am – 3 pm. \n  \nBooking/Tickets: Not required. Free event.
URL:https://wimbledonvillage.com/event/pond-activity-day-at-cannizaro-park/
ATTACH;FMTTYPE=image/jpeg:https://wimbledonvillage.com/wp-content/uploads/2025/05/unnamed-21.jpg
END:VEVENT
BEGIN:VEVENT
DTSTART;TZID=Europe/London:20250627T080000
DTEND;TZID=Europe/London:20250627T170000
DTSTAMP:20260420T054815
CREATED:20250520T113756Z
LAST-MODIFIED:20250520T113756Z
UID:10004679-1751011200-1751043600@wimbledonvillage.com
SUMMARY:King's Arts 2025: Band of the Scots Guards
DESCRIPTION:The world-famous Band of the Scots Guards\, direct from Changing the Guard at Buckingham Palace\, will be joined by pupils from King’s to take us on a global musical tour: Around the World in 80 Minutes. \n  \nKnown for their exceptional musicianship and ceremonial prestige\, the band has earned a reputation for delivering unforgettable performances. \n  \nWhere: King’s Concert Hall\, King’s College School. Entrance via Glencairn Road Gate\, SW19 4RA only \n  \nWhen: Friday 27th June at 7 pm \n  \nTickets: £20 to include a glass of wine (adults) / £6 to include a soft drink (students)
URL:https://wimbledonvillage.com/event/kings-arts-2025-band-of-the-scots-guards/
ATTACH;FMTTYPE=image/jpeg:https://wimbledonvillage.com/wp-content/uploads/2025/05/image-67cb531a-80f5-47be-86eb-79.jpg
END:VEVENT
BEGIN:VEVENT
DTSTART;TZID=Europe/London:20250627T080000
DTEND;TZID=Europe/London:20250627T170000
DTSTAMP:20260420T054815
CREATED:20250410T160413Z
LAST-MODIFIED:20250410T160413Z
UID:10004563-1751011200-1751043600@wimbledonvillage.com
SUMMARY:St John's Lunchtime Recital: Anthea Fry on Piano
DESCRIPTION:Featuring Anthea Fry on piano. She will perform pieces by Mozart\, Chopin and Beethoven. \n  \nThis event is one of a series of Lunchtime Recitals held on the final Friday of each month\, featuring local and international professional musicians. \n  \nWhere & When: St John the Baptist\, on Friday 27th June at 1pm.  The Church is open for refreshments from 12.30pm with delicious home-made cakes available. Attendees are also welcome to bring their own food and drinks to enjoy before or after the recital. \n  \nBooking: No booking required. This event is free but donations are welcome in aid of the St John’s Music Fund.
URL:https://wimbledonvillage.com/event/st-johns-lunchtime-recital-anthea-fry-on-piano/
ATTACH;FMTTYPE=image/jpeg:https://wimbledonvillage.com/wp-content/uploads/2024/06/geert-pieters-8QrPJ3Kfie4-unspla.jpg
END:VEVENT
BEGIN:VEVENT
DTSTART;TZID=Europe/London:20250626T080000
DTEND;TZID=Europe/London:20250626T170000
DTSTAMP:20260420T054815
CREATED:20250524T111041Z
LAST-MODIFIED:20250525T151803Z
UID:10004681-1750924800-1750957200@wimbledonvillage.com
SUMMARY:Spanish Night Supper Club
DESCRIPTION:Indulge in an unforgettable dining experience inspired by the sun- drenched coasts and vibrant cuisine of Spain. You’ll even be joined at the event by a very special guest chef. \n  \nWhere & When: Fox & Grapes on Thursday 26th June at 7.30 pm \n  \nTickets: £55pp to include a welcome drink\, a selection of canapés\, a full Spanish dinner\, and attentive service throughout the night. Wine and drinks during the meal are available to purchase separately.
URL:https://wimbledonvillage.com/event/spanish-night-supper-club-fox-grapes/
ATTACH;FMTTYPE=image/jpeg:https://wimbledonvillage.com/wp-content/uploads/2025/05/Spanish-Night-Supper-Club-Fox-.jpg
END:VEVENT
BEGIN:VEVENT
DTSTART;TZID=Europe/London:20250625T190000
DTEND;TZID=Europe/London:20250625T220000
DTSTAMP:20260420T054815
CREATED:20240428T113530Z
LAST-MODIFIED:20250831T125653Z
UID:10006774-1750878000-1750888800@wimbledonvillage.com
SUMMARY:Pub Quiz @ The Dog & Fox
DESCRIPTION:Grab your team\, get your brain in gear and get quizzical at the Dog & Fox. \n  \nWhere & When: The Dog & Fox\, 24 High Street\, Wimbledon Village\, London SW19 5EA\, every Wednesday night\, 7 – 10 pm.
URL:https://wimbledonvillage.com/event/pub-quiz-the-dog-fox/2025-06-25/
ATTACH;FMTTYPE=image/png:https://wimbledonvillage.com/wp-content/uploads/2024/04/Dog-Fox-pub-quiz-image.png
END:VEVENT
BEGIN:VEVENT
DTSTART;TZID=Europe/London:20250625T080000
DTEND;TZID=Europe/London:20250708T170000
DTSTAMP:20260420T054815
CREATED:20250525T153414Z
LAST-MODIFIED:20250610T163416Z
UID:10004682-1750838400-1751994000@wimbledonvillage.com
SUMMARY:Wimbledon Pop-Up @ Life Kitchens
DESCRIPTION:Head to the Wimbledon Pop-Up at Life Kitchens and browse a range of beautiful handmade products from local businesses\, including jewellery\, gifts\, homeware and more. \n  \n10% of all sales from the Pop-Up will be donated to two wonderful charities\, Small Steps & Dementia UK. \n\n  \n\nWhere & When: Life Kitchens\, 3 High Street\, Wimbledon Village from 25th June to 8th July. \n  \nOpen Evening: Tuesday 25th June\, 6 – 9 pm with drinks and nibbles. \n 
URL:https://wimbledonvillage.com/event/wimbledon-pop-up-life-kitchens-2/
ATTACH;FMTTYPE=image/png:https://wimbledonvillage.com/wp-content/uploads/2025/05/Screenshot-2025-05-25-at-16.36.2.png
END:VEVENT
BEGIN:VEVENT
DTSTART;TZID=Europe/London:20250625T080000
DTEND;TZID=Europe/London:20250625T170000
DTSTAMP:20260420T054815
CREATED:20250525T150931Z
LAST-MODIFIED:20250525T150931Z
UID:10004680-1750838400-1750870800@wimbledonvillage.com
SUMMARY:Sip & Sketch @ Amathus
DESCRIPTION:Learn to draw with two time Wildlife Artist of the Year Category winner Tom Middleton\, while enjoying a glass of fine wine (or two!) and some tasty nibbles. \n  \nA relaxed\, fun and sociable event\, with all materials provided. \n  \nWhere & When: Amathus\, Wednesday 25th June\, from 6:30 to 8:30 pm. \n  \nTickets: £35 per person (aged 18+ only).
URL:https://wimbledonvillage.com/event/sip-sketch-amathus-2/
ATTACH;FMTTYPE=image/jpeg:https://wimbledonvillage.com/wp-content/uploads/2025/05/Sip-Sketch-Amathus.jpg
END:VEVENT
BEGIN:VEVENT
DTSTART;TZID=Europe/London:20250625T080000
DTEND;TZID=Europe/London:20250625T170000
DTSTAMP:20260420T054815
CREATED:20250520T112522Z
LAST-MODIFIED:20250520T114039Z
UID:10004676-1750838400-1750870800@wimbledonvillage.com
SUMMARY:King's Arts 2025: In Conversation with Sarah\, Duchess of York
DESCRIPTION:Sunday Times and New York Times bestselling novelist and children’s author\, philanthropist and entrepreneur Sarah\, Duchess of York will be talking to broadcaster and journalist Chris Rogers about finding a new direction for her writing career in her 60s. \n  \nCopies of the Duchess’s books Flora & Fern: Wonder in the Woods\, A Woman of Intrigue and Her Heart for a Compass will be available for purchase with your ticket and at the event. Bring your copy along to the post-event book signing. \n  \nWhere: King’s Festival Marquee\, King’s College School\, Wimbledon. Entrance via Glencairn Road Gate\, SW19 4RA only \n  \nWhen: Wednesday 25th June\, 7.30 pm \n  \nTickets: £30 to include a glass of wine (adults) / £15 to include a soft drink (students)
URL:https://wimbledonvillage.com/event/kings-arts-2025-in-conversation-with-sarah-duchess-of-york/
ATTACH;FMTTYPE=image/jpeg:https://wimbledonvillage.com/wp-content/uploads/2025/05/image-da15dcd9-eb78-42d4-8049-01.jpg
END:VEVENT
BEGIN:VEVENT
DTSTART;TZID=Europe/London:20250625T080000
DTEND;TZID=Europe/London:20250625T170000
DTSTAMP:20260420T054815
CREATED:20250520T111332Z
LAST-MODIFIED:20250520T111332Z
UID:10004677-1750838400-1750870800@wimbledonvillage.com
SUMMARY:King's Arts 2025: String Showcase
DESCRIPTION:King’s finest string players are joined by musicians from the exceptional musical collective the Academy of Ancient Music – one of Europe’s leading Baroque ensembles\, led by celebrated Musical Director Laurence Cummings – and pupils from partnerships schools to deliver an unforgettable evening\, celebrating some of the Baroque era’s greatest works. \n  \nWhere & When: King’s Concert Hall at King’s College School\, Wimbledon\, on Wednesday 25th June at 6.30pm. Entrance via Glencairn Road Gate\, SW19 4RA only. \n  \nTickets: £12 to include a glass of wine (adults) / £6 to include a soft drink (students)
URL:https://wimbledonvillage.com/event/kings-arts-2025-string-showcase/
ATTACH;FMTTYPE=image/jpeg:https://wimbledonvillage.com/wp-content/uploads/2025/05/image-b277b9dd-ee79-4e96-b55b-3b.jpg
END:VEVENT
BEGIN:VEVENT
DTSTART;TZID=Europe/London:20250624T193000
DTEND;TZID=Europe/London:20250624T224500
DTSTAMP:20260420T054815
CREATED:20240222T093828Z
LAST-MODIFIED:20250831T125428Z
UID:10002197-1750793400-1750805100@wimbledonvillage.com
SUMMARY:Pub Quiz @ The Rose & Crown
DESCRIPTION:Grab your cleverest pals & put your knowledge to the test with fantastic quiz master Duncan at the weekly Rose & Crown pub quiz. \n  \nWhere & When: The Rose & Crown\, 55 High Street\, Wimbledon Village\, London SW19 5BA\, every Tuesday from 7.30 – 10.45 pm (except during the Wimbledon tennis fortnight).
URL:https://wimbledonvillage.com/event/rose-crown-pub-quiz/2025-06-24/
ATTACH;FMTTYPE=image/jpeg:https://wimbledonvillage.com/wp-content/uploads/2023/08/Rose-Crown-pub-quiz-image.jpg
END:VEVENT
BEGIN:VEVENT
DTSTART;TZID=Europe/London:20250624T080000
DTEND;TZID=Europe/London:20250624T170000
DTSTAMP:20260420T054815
CREATED:20250520T112432Z
LAST-MODIFIED:20250520T112432Z
UID:10004678-1750752000-1750784400@wimbledonvillage.com
SUMMARY:King's Arts 2025: Forty Pianists and Four Pianos
DESCRIPTION:This piano concert with a difference will feature performances by King’s pupils and teachers offering a very rare chance to hear up to eight pianists performing simultaneously. \n  \nWhere & When: King’s Concert Hall at King’s College School\, Wimbledon\, on Tuesday 24th June at 6.45pm. Entrance via Glencairn Road Gate\, SW19 4RA only. \n  \nTickets: £12 to include a glass of wine (adults) / £6 to include a soft drink (students)
URL:https://wimbledonvillage.com/event/kings-arts-2025-forty-pianists-and-four-pianos/
ATTACH;FMTTYPE=image/jpeg:https://wimbledonvillage.com/wp-content/uploads/2025/05/image-ae10b168-5f5d-441c-ad19-04.jpg
END:VEVENT
BEGIN:VEVENT
DTSTART;TZID=Europe/London:20250624T080000
DTEND;TZID=Europe/London:20250624T170000
DTSTAMP:20260420T054815
CREATED:20250520T111714Z
LAST-MODIFIED:20250527T085313Z
UID:10004675-1750752000-1750784400@wimbledonvillage.com
SUMMARY:King's Arts 2025: In Conversation with Dame Denise Lewis
DESCRIPTION:Olympic medal-winning athlete\, former BBC sports pundit and President of UK Athletics\, Dame Denise Lewis DBE joins Angellica Bell\, television and radio presenter\, for an insightful conversation about her life in sports. \n  \nDame Denise’s latest book Adaptability: Seven Lessons to Thrive in a World of Competing Demands will be available for purchase with your ticket and at the event. Bring your copy along to the post-event book signing. \n  \nWhere: King’s Festival Marquee\, King’s College School\, Wimbledon. Entrance via Glencairn Road Gate\, SW19 4RA only \n  \nWhen: Tuesday 24th June\, 7.30 pm \n  \nTickets: £30 to include a glass of wine (adults) / £15 to include a soft drink (students)
URL:https://wimbledonvillage.com/event/kings-arts-2025-in-conversation-with-dame-denise-lewis/
ATTACH;FMTTYPE=image/jpeg:https://wimbledonvillage.com/wp-content/uploads/2025/05/image-3c72c7b8-818b-4f79-9252-51.jpg
END:VEVENT
BEGIN:VEVENT
DTSTART;TZID=Europe/London:20250623T080000
DTEND;TZID=Europe/London:20250623T170000
DTSTAMP:20260420T054815
CREATED:20250520T104319Z
LAST-MODIFIED:20250520T111550Z
UID:10004674-1750665600-1750698000@wimbledonvillage.com
SUMMARY:King's Arts 2025: In Conversation with Alan Carr
DESCRIPTION:Alan Carr’s unique humour and stage presence have made him one of Britain’s most successful and cherished comedians. Don’t miss your chance to hear Alan talk about his life\, career and creativity with King’s own\, Michael Underwood. \n  \nCopies of Alan’s books\, Look Who It Is and Alanatomy will be available for purchase with your ticket and at the event. Bring your copy along to the post-event book signing. \n\n\n\n\n\n\n  \nWhere: King’s Festival Marquee\, King’s College School\, Wimbledon. Entrance via Glencairn Road Gate\, SW19 4RA only \n  \nWhen: Monday 23rd June 2025 at 7.30 pm \n  \nTickets:  £30 to include a glass of wine (adults) / £15 to include a soft drink (students)
URL:https://wimbledonvillage.com/event/kings-arts-2025-in-conversation-with-alan-carr/
ATTACH;FMTTYPE=image/jpeg:https://wimbledonvillage.com/wp-content/uploads/2025/05/image-9cbebc30-195a-417d-8ab5-bc.jpg
END:VEVENT
BEGIN:VEVENT
DTSTART;TZID=Europe/London:20250622T190000
DTEND;TZID=Europe/London:20250622T220000
DTSTAMP:20260420T054815
CREATED:20240108T125908Z
LAST-MODIFIED:20250831T125309Z
UID:10006421-1750618800-1750629600@wimbledonvillage.com
SUMMARY:Pub Quiz @ the Fire Stables
DESCRIPTION:Put your thinking hat on because this is a game for real players. Call your smartest friends and put together a winning team to answer questions about general knowledge\, music\, geography\, everything and nothing. A £50 bar tab is up for grabs each week. \n  \nWhere & When: Fire Stables\, every Sunday from 7 – 10 pm.
URL:https://wimbledonvillage.com/event/pub-quiz-the-fire-stables/2025-06-22/
ATTACH;FMTTYPE=image/jpeg:https://wimbledonvillage.com/wp-content/uploads/2024/01/rsz_pexels-elevate-1269025.jpg
END:VEVENT
BEGIN:VEVENT
DTSTART;TZID=Europe/London:20250622T100000
DTEND;TZID=Europe/London:20250622T150000
DTSTAMP:20260420T054815
CREATED:20230819T162853Z
LAST-MODIFIED:20250831T125135Z
UID:10005729-1750586400-1750604400@wimbledonvillage.com
SUMMARY:Wimbledon Village Farmers' Market
DESCRIPTION:The Village Farmers’ Market serves up a range of fabulous farm fresh and local products along with a varied offering of ready to eat goodies every Sunday from 10am to 3pm on the Village High Street. Stalls rotate each week. \n  \nFollow The Wimbledon Village Farmers’ Market on Instagram or Facebook for more details.
URL:https://wimbledonvillage.com/event/wimbledon-village-farmers-market/2025-06-22/
ATTACH;FMTTYPE=image/jpeg:https://wimbledonvillage.com/wp-content/uploads/2023/08/Farmers-Market-vegetables.jpg
END:VEVENT
BEGIN:VEVENT
DTSTART;TZID=Europe/London:20250622T080000
DTEND;TZID=Europe/London:20250622T170000
DTSTAMP:20260420T054815
CREATED:20250509T084843Z
LAST-MODIFIED:20250831T133107Z
UID:10004661-1750579200-1750611600@wimbledonvillage.com
SUMMARY:Wimbledon Common 10k & Half Marathon
DESCRIPTION:A half marathon and 10k run around Wimbledon Common organised by Runthrough. \n  \n2025 Dates: Sunday 22nd June / Sunday 27th July / Sunday 7th September / Sunday 23rd November \n  \nWhere:  9:30 am –  12:30 pm\, Richard Evans Memorial Playing Fields Roehampton Vale London SW15 3PQ \n\n  \n\nTickets: From £30 (individual) – £160 (group of 6)
URL:https://wimbledonvillage.com/event/wimbledon-common-10k-half-marathon/2025-06-22/
ATTACH;FMTTYPE=image/png:https://wimbledonvillage.com/wp-content/uploads/2025/05/e1GdAhXBEyRMP7Lj0dnqTTKpfVQFcvhU.png
END:VEVENT
BEGIN:VEVENT
DTSTART;TZID=Europe/London:20250621T103000
DTEND;TZID=Europe/London:20250621T120000
DTSTAMP:20260420T054815
CREATED:20230819T155822Z
LAST-MODIFIED:20250831T132807Z
UID:10008233-1750501800-1750507200@wimbledonvillage.com
SUMMARY:Wimbledon Common and Village Walk & Talk
DESCRIPTION:A free and fun ‘walk and talk’ every Saturday morning around Wimbledon Common and Wimbledon Village. \n  \nWalk and talks are a chance for all generations to take a stroll\, chat\, meet friends and neighbours\, make new friends and enjoy their local area and green spaces together. From older adults to young children\, from buggies to beagles – everybody can join in. \n  \nNo booking\, no reservations\, just turn up and you will get a very warm welcome. \n  \nWhen & Where: 10.30am at the Wimbledon War Memorial on The Green\, at the corner of Parkside and The Causeway.
URL:https://wimbledonvillage.com/event/weekly-walk-talk/2025-06-21/
ATTACH;FMTTYPE=image/jpeg:https://wimbledonvillage.com/wp-content/uploads/2023/08/Walk-Talk-Wimbledon-Common-walkers-on-a-sunny-day.jpg
END:VEVENT
BEGIN:VEVENT
DTSTART;TZID=Europe/London:20250621T090000
DTEND;TZID=Europe/London:20250621T100000
DTSTAMP:20260420T054815
CREATED:20230819T151954Z
LAST-MODIFIED:20250831T130729Z
UID:10007540-1750496400-1750500000@wimbledonvillage.com
SUMMARY:Wimbledon Common Parkrun
DESCRIPTION:A free\, fun\, and friendly weekly 5k community event. Participants can choose to walk\, jog\, run\, volunteer or just spectate. \n  \nThe run starts from near the Windmill car park every Saturday at 9am. \n  \nJoin other runners and supporters for a post run coffee at the Windmill Cafe.
URL:https://wimbledonvillage.com/event/wimbledon-common-park-run/2025-06-21/
ATTACH;FMTTYPE=image/jpeg:https://wimbledonvillage.com/wp-content/uploads/2023/08/Wimbledon-Common-Parkrun-runners-enjoying-the-course.jpg
END:VEVENT
BEGIN:VEVENT
DTSTART;TZID=Europe/London:20250620T080000
DTEND;TZID=Europe/London:20250627T170000
DTSTAMP:20260420T054815
CREATED:20250610T162746Z
LAST-MODIFIED:20250610T163524Z
UID:10004690-1750406400-1751043600@wimbledonvillage.com
SUMMARY:Art Exhibition: Modern Ruin
DESCRIPTION:Ad Lib Gallery presents Modern Ruin\, a bold exhibition showcasing the work of Louisa Tebbutt & 66HUNDRED along with guest artists Matt Mackman\, Gary James McQueen\, Stefano\, Rachel Richards\, Emily Penfold & more. \n  \nWhere & When: Ad Lib Gallery\, Thursday 19th June (Private View 6 – 8 pm) to Friday 27th June. Gallery open daily from 10 am – 5.30 pm.
URL:https://wimbledonvillage.com/event/art-exhibition-modern-ruin/
ATTACH;FMTTYPE=image/jpeg:https://wimbledonvillage.com/wp-content/uploads/2025/06/remove-traces-of-reality-louisa-.jpg
END:VEVENT
BEGIN:VEVENT
DTSTART;TZID=Europe/London:20250620T080000
DTEND;TZID=Europe/London:20250620T170000
DTSTAMP:20260420T054815
CREATED:20250530T092953Z
LAST-MODIFIED:20250530T093105Z
UID:10004685-1750406400-1750438800@wimbledonvillage.com
SUMMARY:Gourmet Crisp Tasting Challenge - with Sparkling Wines
DESCRIPTION:A wine tasting with a difference – put your palette to the test in a blind-tasting of some of Jeroboam’s huge range of premium potato crisps while sipping Champagne and Sparkling Wines from around the world. The person who gets the most flavours right wins a bottle of Nyetimber Rosé! \n  \nWhere & When: Jeroboams\, Friday 20th June at 6 pm. \n  \nTickets: £30. Available to purchase on Eventbrite (click button below) or in the shop.
URL:https://wimbledonvillage.com/event/gourmet-crisp-tasting-challenge-with-sparkling-wines/
ATTACH;FMTTYPE=image/jpeg:https://wimbledonvillage.com/wp-content/uploads/2025/05/https-cdn.evbuc_.com-images-103-2.jpg
END:VEVENT
BEGIN:VEVENT
DTSTART;TZID=Europe/London:20250619T080000
DTEND;TZID=Europe/London:20250619T170000
DTSTAMP:20260420T054815
CREATED:20250302T105631Z
LAST-MODIFIED:20250302T105631Z
UID:10004335-1750320000-1750352400@wimbledonvillage.com
SUMMARY:Crafting Afternoons @ St John the Baptist
DESCRIPTION:Join a friendly group at St John’s for regular crafting afternoons (and chat!) to make items for the Church Christmas Fair. All welcome. \n  \nWhere & When: St John the Baptist. Held every 1st and 3rd Thursday of the month from 3.15 – 5.15 pm.
URL:https://wimbledonvillage.com/event/crafting-afternoons-st-john-the-baptist/2025-06-19/
ATTACH;FMTTYPE=image/jpeg:https://wimbledonvillage.com/wp-content/uploads/2025/03/pexels-castorlystock-3945638.jpg
END:VEVENT
BEGIN:VEVENT
DTSTART;TZID=Europe/London:20250618T190000
DTEND;TZID=Europe/London:20250618T220000
DTSTAMP:20260420T054815
CREATED:20240428T113530Z
LAST-MODIFIED:20250831T125653Z
UID:10006773-1750273200-1750284000@wimbledonvillage.com
SUMMARY:Pub Quiz @ The Dog & Fox
DESCRIPTION:Grab your team\, get your brain in gear and get quizzical at the Dog & Fox. \n  \nWhere & When: The Dog & Fox\, 24 High Street\, Wimbledon Village\, London SW19 5EA\, every Wednesday night\, 7 – 10 pm.
URL:https://wimbledonvillage.com/event/pub-quiz-the-dog-fox/2025-06-18/
ATTACH;FMTTYPE=image/png:https://wimbledonvillage.com/wp-content/uploads/2024/04/Dog-Fox-pub-quiz-image.png
END:VEVENT
BEGIN:VEVENT
DTSTART;TZID=Europe/London:20250618T080000
DTEND;TZID=Europe/London:20250618T170000
DTSTAMP:20260420T054815
CREATED:20250615T120806Z
LAST-MODIFIED:20250615T120806Z
UID:10004694-1750233600-1750266000@wimbledonvillage.com
SUMMARY:Live Music at Light on the Common
DESCRIPTION:Enjoy a night of free live music at this popular neighbourhood restaurant while enjoying excellent modern European food made using only the freshest seasonal ingredients. Dine al fresco or in their light airy interior. \n  \nFor reservations please call 02089463031
URL:https://wimbledonvillage.com/event/live-music-at-light-on-the-common/
ATTACH;FMTTYPE=image/jpeg:https://wimbledonvillage.com/wp-content/uploads/2025/06/Screenshot-2025-06-15-at-12.59.4.jpg
END:VEVENT
BEGIN:VEVENT
DTSTART;TZID=Europe/London:20250618T080000
DTEND;TZID=Europe/London:20250618T170000
DTSTAMP:20260420T054815
CREATED:20250528T080208Z
LAST-MODIFIED:20250528T083210Z
UID:10004683-1750233600-1750266000@wimbledonvillage.com
SUMMARY:Webinar: Understanding Self Harm in Young People
DESCRIPTION:This webinar will be led by Stephen McCluskey\, a highly experienced mental health nurse with extensive CAMHS experience and specialist knowledge of self-harm in young people. \n  \nAimed at informing parents\, carers and professionals\, Stephen will discuss the context of self harm\, covering the underlying causes and functions\, risk factors\, triggers and strategies for supporting young people who harm themselves\, including available help. \n  \nThe webinar is part of a series of monthly\, free events brought to you by The Family Treatment Service. \n  \n\nWhere & When: Online at 12pm on Wednesday 18th June. \n  \nCost: Free event. Register using the link below.
URL:https://wimbledonvillage.com/event/webinar-understanding-self-harm-in-young-people/
ATTACH;FMTTYPE=image/jpeg:https://wimbledonvillage.com/wp-content/uploads/2025/03/Unknown-1.jpeg
END:VEVENT
BEGIN:VEVENT
DTSTART;TZID=Europe/London:20250617T193000
DTEND;TZID=Europe/London:20250617T224500
DTSTAMP:20260420T054815
CREATED:20240222T093828Z
LAST-MODIFIED:20250831T125428Z
UID:10002196-1750188600-1750200300@wimbledonvillage.com
SUMMARY:Pub Quiz @ The Rose & Crown
DESCRIPTION:Grab your cleverest pals & put your knowledge to the test with fantastic quiz master Duncan at the weekly Rose & Crown pub quiz. \n  \nWhere & When: The Rose & Crown\, 55 High Street\, Wimbledon Village\, London SW19 5BA\, every Tuesday from 7.30 – 10.45 pm (except during the Wimbledon tennis fortnight).
URL:https://wimbledonvillage.com/event/rose-crown-pub-quiz/2025-06-17/
ATTACH;FMTTYPE=image/jpeg:https://wimbledonvillage.com/wp-content/uploads/2023/08/Rose-Crown-pub-quiz-image.jpg
END:VEVENT
BEGIN:VEVENT
DTSTART;TZID=Europe/London:20250617T080000
DTEND;TZID=Europe/London:20250617T170000
DTSTAMP:20260420T054815
CREATED:20250208T102615Z
LAST-MODIFIED:20250831T133614Z
UID:10004283-1750147200-1750179600@wimbledonvillage.com
SUMMARY:Wimbledon Common Healthy Walks
DESCRIPTION:Take a little outdoor exercise and at the same time learn about the history and current management of the Commons at this regular programme of healthy walks on Wimbledon Common. \n  \nThese moderate walks take place every three weeks and last for approximately 1 hour. They are led by one of the Commons’ full-time staff or a regular volunteer. \n  \nWhere and When: Meeting/end point is outside the wooden garages near to the Rangers Office on Windmill Road. Time: 10am-11am. Booking is not required. \n  \nWalk dates for 2025: \n\n11 February\n4 March\n25 March\n15 April\n6 May\n27 May\n17 June\n8 July\n29 July\n19 August\n9 September\n30 September\n21 October\n11 November\n2 December\n23 December
URL:https://wimbledonvillage.com/event/wimbledon-common-healthy-walks-2/2025-06-17/
ATTACH;FMTTYPE=image/jpeg:https://wimbledonvillage.com/wp-content/uploads/2025/02/img20230815105914035hdr_cropped_.jpg
END:VEVENT
BEGIN:VEVENT
DTSTART;TZID=Europe/London:20250615T190000
DTEND;TZID=Europe/London:20250615T220000
DTSTAMP:20260420T054815
CREATED:20240108T125908Z
LAST-MODIFIED:20250831T125309Z
UID:10006420-1750014000-1750024800@wimbledonvillage.com
SUMMARY:Pub Quiz @ the Fire Stables
DESCRIPTION:Put your thinking hat on because this is a game for real players. Call your smartest friends and put together a winning team to answer questions about general knowledge\, music\, geography\, everything and nothing. A £50 bar tab is up for grabs each week. \n  \nWhere & When: Fire Stables\, every Sunday from 7 – 10 pm.
URL:https://wimbledonvillage.com/event/pub-quiz-the-fire-stables/2025-06-15/
ATTACH;FMTTYPE=image/jpeg:https://wimbledonvillage.com/wp-content/uploads/2024/01/rsz_pexels-elevate-1269025.jpg
END:VEVENT
BEGIN:VEVENT
DTSTART;TZID=Europe/London:20250615T100000
DTEND;TZID=Europe/London:20250615T150000
DTSTAMP:20260420T054815
CREATED:20230819T162853Z
LAST-MODIFIED:20250831T125135Z
UID:10005728-1749981600-1749999600@wimbledonvillage.com
SUMMARY:Wimbledon Village Farmers' Market
DESCRIPTION:The Village Farmers’ Market serves up a range of fabulous farm fresh and local products along with a varied offering of ready to eat goodies every Sunday from 10am to 3pm on the Village High Street. Stalls rotate each week. \n  \nFollow The Wimbledon Village Farmers’ Market on Instagram or Facebook for more details.
URL:https://wimbledonvillage.com/event/wimbledon-village-farmers-market/2025-06-15/
ATTACH;FMTTYPE=image/jpeg:https://wimbledonvillage.com/wp-content/uploads/2023/08/Farmers-Market-vegetables.jpg
END:VEVENT
BEGIN:VEVENT
DTSTART;TZID=Europe/London:20250614T103000
DTEND;TZID=Europe/London:20250614T120000
DTSTAMP:20260420T054815
CREATED:20230819T155822Z
LAST-MODIFIED:20250831T132807Z
UID:10008232-1749897000-1749902400@wimbledonvillage.com
SUMMARY:Wimbledon Common and Village Walk & Talk
DESCRIPTION:A free and fun ‘walk and talk’ every Saturday morning around Wimbledon Common and Wimbledon Village. \n  \nWalk and talks are a chance for all generations to take a stroll\, chat\, meet friends and neighbours\, make new friends and enjoy their local area and green spaces together. From older adults to young children\, from buggies to beagles – everybody can join in. \n  \nNo booking\, no reservations\, just turn up and you will get a very warm welcome. \n  \nWhen & Where: 10.30am at the Wimbledon War Memorial on The Green\, at the corner of Parkside and The Causeway.
URL:https://wimbledonvillage.com/event/weekly-walk-talk/2025-06-14/
ATTACH;FMTTYPE=image/jpeg:https://wimbledonvillage.com/wp-content/uploads/2023/08/Walk-Talk-Wimbledon-Common-walkers-on-a-sunny-day.jpg
END:VEVENT
END:VCALENDAR