BEGIN:VCALENDAR
VERSION:2.0
PRODID:-//Wimbledon Village - ECPv6.15.20//NONSGML v1.0//EN
CALSCALE:GREGORIAN
METHOD:PUBLISH
X-WR-CALNAME:Wimbledon Village
X-ORIGINAL-URL:https://wimbledonvillage.com
X-WR-CALDESC:Events for Wimbledon Village
REFRESH-INTERVAL;VALUE=DURATION:PT1H
X-Robots-Tag:noindex
X-PUBLISHED-TTL:PT1H
BEGIN:VTIMEZONE
TZID:Europe/London
BEGIN:DAYLIGHT
TZOFFSETFROM:+0000
TZOFFSETTO:+0100
TZNAME:BST
DTSTART:20240331T010000
END:DAYLIGHT
BEGIN:STANDARD
TZOFFSETFROM:+0100
TZOFFSETTO:+0000
TZNAME:GMT
DTSTART:20241027T010000
END:STANDARD
BEGIN:DAYLIGHT
TZOFFSETFROM:+0000
TZOFFSETTO:+0100
TZNAME:BST
DTSTART:20250330T010000
END:DAYLIGHT
BEGIN:STANDARD
TZOFFSETFROM:+0100
TZOFFSETTO:+0000
TZNAME:GMT
DTSTART:20251026T010000
END:STANDARD
BEGIN:DAYLIGHT
TZOFFSETFROM:+0000
TZOFFSETTO:+0100
TZNAME:BST
DTSTART:20260329T010000
END:DAYLIGHT
BEGIN:STANDARD
TZOFFSETFROM:+0100
TZOFFSETTO:+0000
TZNAME:GMT
DTSTART:20261025T010000
END:STANDARD
END:VTIMEZONE
BEGIN:VEVENT
DTSTART;TZID=Europe/London:20250531T090000
DTEND;TZID=Europe/London:20250531T100000
DTSTAMP:20260420T071256
CREATED:20230819T151954Z
LAST-MODIFIED:20250831T130729Z
UID:10007537-1748682000-1748685600@wimbledonvillage.com
SUMMARY:Wimbledon Common Parkrun
DESCRIPTION:A free\, fun\, and friendly weekly 5k community event. Participants can choose to walk\, jog\, run\, volunteer or just spectate. \n  \nThe run starts from near the Windmill car park every Saturday at 9am. \n  \nJoin other runners and supporters for a post run coffee at the Windmill Cafe.
URL:https://wimbledonvillage.com/event/wimbledon-common-park-run/2025-05-31/
ATTACH;FMTTYPE=image/jpeg:https://wimbledonvillage.com/wp-content/uploads/2023/08/Wimbledon-Common-Parkrun-runners-enjoying-the-course.jpg
END:VEVENT
BEGIN:VEVENT
DTSTART;TZID=Europe/London:20250531T080000
DTEND;TZID=Europe/London:20250601T170000
DTSTAMP:20260420T071256
CREATED:20250509T083616Z
LAST-MODIFIED:20250512T172239Z
UID:10004655-1748678400-1748797200@wimbledonvillage.com
SUMMARY:Songs Under The Summer Sun
DESCRIPTION:An unforgettable afternoon under the summer sun as Mayhem Theatre Company presents A Toast to Love – a heartwarming\, open-air musical showcase celebrating love in all its forms. \n  \nExpect an afternoon of toe-tapping tunes\, heartfelt stories\, and a live band setting the perfect mood for you and your loved ones — whether you’re enjoying a picnic with family\, catching up with friends\, or maybe even on a first date! Raise a glass of cider or lemonade\, settle in and soak in the magic of this one-of-a-kind experience! \n  \nWhere & When: The Italian Garden in Cannizaro Park. Performances at 5 pm on Saturday 31st May and 1 pm & 5 pm on Sunday 1st June. \n  \nTickets: *Adults £22.50 / *Children under 10 £11.50 / Under 3s go free.  *Booking fee applies.
URL:https://wimbledonvillage.com/event/songs-under-the-summer-sun-2/
ATTACH;FMTTYPE=image/jpeg:https://wimbledonvillage.com/wp-content/uploads/2025/05/00386-17434994739039-m.jpg
END:VEVENT
BEGIN:VEVENT
DTSTART;TZID=Europe/London:20250530T080000
DTEND;TZID=Europe/London:20250530T170000
DTSTAMP:20260420T071256
CREATED:20250504T081119Z
LAST-MODIFIED:20250504T081119Z
UID:10004645-1748592000-1748624400@wimbledonvillage.com
SUMMARY:Lost Explorer Barrel-top Tasting
DESCRIPTION:Lost Explorer is renowned for its beautifully handcrafted Mezcal\, made from a variety of species of agave using traditional methods. Try their award-winning Mezcal for yourself and discover how to make the most of this versatile spirit. \n  \nWhere & When: Amathus\, on Friday 30th May from 3 – 6 pm \n  \nTickets/Booking: Free event. Booking not required.
URL:https://wimbledonvillage.com/event/lost-explorer-barrel-top-tasting/
ATTACH;FMTTYPE=image/png:https://wimbledonvillage.com/wp-content/uploads/2025/04/Screenshot-2025-04-30-at-12.08.5.png
END:VEVENT
BEGIN:VEVENT
DTSTART;TZID=Europe/London:20250529T080000
DTEND;TZID=Europe/London:20250615T170000
DTSTAMP:20260420T071256
CREATED:20250519T055819Z
LAST-MODIFIED:20250519T061849Z
UID:10004670-1748505600-1750006800@wimbledonvillage.com
SUMMARY:Art Exhibition: Hannah Ivory Baker
DESCRIPTION:A compelling new collection of work from esteemed London-based artist Hannah Ivory Baker. \n  \nRenowned for her evocative semi-abstract landscapes and seascapes\, Baker captures the raw beauty and unpredictability of the natural world—from the rugged Cornish coast to the tranquil Somerset Levels.​ \n  \nWhere & When: Ad Lib Gallery\, from Thursday 29th May to Sunday 15th June. Private View: Thursday 29th May\, 6 – 8 pm.
URL:https://wimbledonvillage.com/event/art-exhibition-hannah-ivory-baker/
ATTACH;FMTTYPE=image/jpeg:https://wimbledonvillage.com/wp-content/uploads/2025/05/Standing-at-the-Edge-of-the-Coas.jpg
END:VEVENT
BEGIN:VEVENT
DTSTART;TZID=Europe/London:20250528T190000
DTEND;TZID=Europe/London:20250528T220000
DTSTAMP:20260420T071256
CREATED:20240428T113530Z
LAST-MODIFIED:20250831T125653Z
UID:10006770-1748458800-1748469600@wimbledonvillage.com
SUMMARY:Pub Quiz @ The Dog & Fox
DESCRIPTION:Grab your team\, get your brain in gear and get quizzical at the Dog & Fox. \n  \nWhere & When: The Dog & Fox\, 24 High Street\, Wimbledon Village\, London SW19 5EA\, every Wednesday night\, 7 – 10 pm.
URL:https://wimbledonvillage.com/event/pub-quiz-the-dog-fox/2025-05-28/
ATTACH;FMTTYPE=image/png:https://wimbledonvillage.com/wp-content/uploads/2024/04/Dog-Fox-pub-quiz-image.png
END:VEVENT
BEGIN:VEVENT
DTSTART;TZID=Europe/London:20250527T193000
DTEND;TZID=Europe/London:20250527T224500
DTSTAMP:20260420T071256
CREATED:20240222T093828Z
LAST-MODIFIED:20250831T125428Z
UID:10002193-1748374200-1748385900@wimbledonvillage.com
SUMMARY:Pub Quiz @ The Rose & Crown
DESCRIPTION:Grab your cleverest pals & put your knowledge to the test with fantastic quiz master Duncan at the weekly Rose & Crown pub quiz. \n  \nWhere & When: The Rose & Crown\, 55 High Street\, Wimbledon Village\, London SW19 5BA\, every Tuesday from 7.30 – 10.45 pm (except during the Wimbledon tennis fortnight).
URL:https://wimbledonvillage.com/event/rose-crown-pub-quiz/2025-05-27/
ATTACH;FMTTYPE=image/jpeg:https://wimbledonvillage.com/wp-content/uploads/2023/08/Rose-Crown-pub-quiz-image.jpg
END:VEVENT
BEGIN:VEVENT
DTSTART;TZID=Europe/London:20250527T080000
DTEND;TZID=Europe/London:20250529T170000
DTSTAMP:20260420T071256
CREATED:20250302T100536Z
LAST-MODIFIED:20250507T054452Z
UID:10004324-1748332800-1748538000@wimbledonvillage.com
SUMMARY:Might Makers Super Camp
DESCRIPTION:Allow your child to unleash their creative powers at this Superhero Holiday Camp with Planet Art.  They will enjoy three action-packed days of superhero-themed arts and crafts\, exciting games\, and heroic fun. Suitable for 4 – 9 years (4-year-olds must be in Reception). \n  \nWhere & When: The Garden Hall @ St Mary’s Church\, Tuesday 27th to Thursday 29th May\, daily from 9:30 am to 3:00 pm \n  \nCost: £60 per day
URL:https://wimbledonvillage.com/event/might-makers-super-camp/
ATTACH;FMTTYPE=image/jpeg:https://wimbledonvillage.com/wp-content/uploads/2025/03/IMG_5175.jpg
END:VEVENT
BEGIN:VEVENT
DTSTART;TZID=Europe/London:20250527T080000
DTEND;TZID=Europe/London:20250527T170000
DTSTAMP:20260420T071256
CREATED:20250406T074649Z
LAST-MODIFIED:20250409T080826Z
UID:10004497-1748332800-1748365200@wimbledonvillage.com
SUMMARY:Live Music at The Ivy Café Wimbledon
DESCRIPTION:Enjoy live music and a complimentary glass of The Ivy Cuvee* \n  \nWhere & When: The Ivy Café\, Wimbledon\, every Tuesday in April & May from 6 – 8 pm. \n  \n*T&Cs apply – see The Ivy Cafe Wimbledon website for details.
URL:https://wimbledonvillage.com/event/live-music-at-the-ivy-cafe-wimbledon/2025-05-27/
ATTACH;FMTTYPE=image/png:https://wimbledonvillage.com/wp-content/uploads/2025/04/THE-IVY-APERITIF-MAR2511146-Not-.png
END:VEVENT
BEGIN:VEVENT
DTSTART;TZID=Europe/London:20250527T080000
DTEND;TZID=Europe/London:20250527T170000
DTSTAMP:20260420T071256
CREATED:20250208T102615Z
LAST-MODIFIED:20250831T133614Z
UID:10004282-1748332800-1748365200@wimbledonvillage.com
SUMMARY:Wimbledon Common Healthy Walks
DESCRIPTION:Take a little outdoor exercise and at the same time learn about the history and current management of the Commons at this regular programme of healthy walks on Wimbledon Common. \n  \nThese moderate walks take place every three weeks and last for approximately 1 hour. They are led by one of the Commons’ full-time staff or a regular volunteer. \n  \nWhere and When: Meeting/end point is outside the wooden garages near to the Rangers Office on Windmill Road. Time: 10am-11am. Booking is not required. \n  \nWalk dates for 2025: \n\n11 February\n4 March\n25 March\n15 April\n6 May\n27 May\n17 June\n8 July\n29 July\n19 August\n9 September\n30 September\n21 October\n11 November\n2 December\n23 December
URL:https://wimbledonvillage.com/event/wimbledon-common-healthy-walks-2/2025-05-27/
ATTACH;FMTTYPE=image/jpeg:https://wimbledonvillage.com/wp-content/uploads/2025/02/img20230815105914035hdr_cropped_.jpg
END:VEVENT
BEGIN:VEVENT
DTSTART;TZID=Europe/London:20250525T190000
DTEND;TZID=Europe/London:20250525T220000
DTSTAMP:20260420T071256
CREATED:20240108T125908Z
LAST-MODIFIED:20250831T125309Z
UID:10006417-1748199600-1748210400@wimbledonvillage.com
SUMMARY:Pub Quiz @ the Fire Stables
DESCRIPTION:Put your thinking hat on because this is a game for real players. Call your smartest friends and put together a winning team to answer questions about general knowledge\, music\, geography\, everything and nothing. A £50 bar tab is up for grabs each week. \n  \nWhere & When: Fire Stables\, every Sunday from 7 – 10 pm.
URL:https://wimbledonvillage.com/event/pub-quiz-the-fire-stables/2025-05-25/
ATTACH;FMTTYPE=image/jpeg:https://wimbledonvillage.com/wp-content/uploads/2024/01/rsz_pexels-elevate-1269025.jpg
END:VEVENT
BEGIN:VEVENT
DTSTART;TZID=Europe/London:20250525T100000
DTEND;TZID=Europe/London:20250525T150000
DTSTAMP:20260420T071256
CREATED:20230819T162853Z
LAST-MODIFIED:20250831T125135Z
UID:10005725-1748167200-1748185200@wimbledonvillage.com
SUMMARY:Wimbledon Village Farmers' Market
DESCRIPTION:The Village Farmers’ Market serves up a range of fabulous farm fresh and local products along with a varied offering of ready to eat goodies every Sunday from 10am to 3pm on the Village High Street. Stalls rotate each week. \n  \nFollow The Wimbledon Village Farmers’ Market on Instagram or Facebook for more details.
URL:https://wimbledonvillage.com/event/wimbledon-village-farmers-market/2025-05-25/
ATTACH;FMTTYPE=image/jpeg:https://wimbledonvillage.com/wp-content/uploads/2023/08/Farmers-Market-vegetables.jpg
END:VEVENT
BEGIN:VEVENT
DTSTART;TZID=Europe/London:20250525T000000
DTEND;TZID=Europe/London:20250525T000000
DTSTAMP:20260420T071256
CREATED:20250411T115356Z
LAST-MODIFIED:20250411T115356Z
UID:10004570-1748131200-1748131200@wimbledonvillage.com
SUMMARY:Bird Song Walk
DESCRIPTION:Join volunteer bird expert\, Les Evans-Hill for a walk on the Commons to spot some local birdlife and hear their wonderful songs. The walk will cover some different terrains and waterproof footwear is recommended as some areas may be wet underfoot. Please take binoculars if you have some. \n  \nWhere & When: Meet at the Ranger’s Office any time from 7.45am on Sunday 25th May. The walk will start at 8am and will last around 3 hours. \n  \nTickets/Booking: The walk is free but donations are gratefully accepted. Booking is essential. \n 
URL:https://wimbledonvillage.com/event/bird-song-walk/
ATTACH;FMTTYPE=image/png:https://wimbledonvillage.com/wp-content/uploads/2024/01/Screenshot-2024-01-09-at-10.20.3.png
END:VEVENT
BEGIN:VEVENT
DTSTART;TZID=Europe/London:20250524T103000
DTEND;TZID=Europe/London:20250524T120000
DTSTAMP:20260420T071256
CREATED:20230819T155822Z
LAST-MODIFIED:20250831T132807Z
UID:10008229-1748082600-1748088000@wimbledonvillage.com
SUMMARY:Wimbledon Common and Village Walk & Talk
DESCRIPTION:A free and fun ‘walk and talk’ every Saturday morning around Wimbledon Common and Wimbledon Village. \n  \nWalk and talks are a chance for all generations to take a stroll\, chat\, meet friends and neighbours\, make new friends and enjoy their local area and green spaces together. From older adults to young children\, from buggies to beagles – everybody can join in. \n  \nNo booking\, no reservations\, just turn up and you will get a very warm welcome. \n  \nWhen & Where: 10.30am at the Wimbledon War Memorial on The Green\, at the corner of Parkside and The Causeway.
URL:https://wimbledonvillage.com/event/weekly-walk-talk/2025-05-24/
ATTACH;FMTTYPE=image/jpeg:https://wimbledonvillage.com/wp-content/uploads/2023/08/Walk-Talk-Wimbledon-Common-walkers-on-a-sunny-day.jpg
END:VEVENT
BEGIN:VEVENT
DTSTART;TZID=Europe/London:20250524T090000
DTEND;TZID=Europe/London:20250524T100000
DTSTAMP:20260420T071256
CREATED:20230819T151954Z
LAST-MODIFIED:20250831T130729Z
UID:10007536-1748077200-1748080800@wimbledonvillage.com
SUMMARY:Wimbledon Common Parkrun
DESCRIPTION:A free\, fun\, and friendly weekly 5k community event. Participants can choose to walk\, jog\, run\, volunteer or just spectate. \n  \nThe run starts from near the Windmill car park every Saturday at 9am. \n  \nJoin other runners and supporters for a post run coffee at the Windmill Cafe.
URL:https://wimbledonvillage.com/event/wimbledon-common-park-run/2025-05-24/
ATTACH;FMTTYPE=image/jpeg:https://wimbledonvillage.com/wp-content/uploads/2023/08/Wimbledon-Common-Parkrun-runners-enjoying-the-course.jpg
END:VEVENT
BEGIN:VEVENT
DTSTART;TZID=Europe/London:20250524T080000
DTEND;TZID=Europe/London:20250524T170000
DTSTAMP:20260420T071256
CREATED:20250509T092250Z
LAST-MODIFIED:20250509T093048Z
UID:10004666-1748073600-1748106000@wimbledonvillage.com
SUMMARY:Lillet Garden Party @ the Dog & Fox
DESCRIPTION:Embrace the bank holiday at the Dog’s Lillet Garden Party. Enjoy a pint\, spritzer or maybe even some bubbles in the sun\, then dance the night away to live music and a DJ. \n  \nWhere & When: Dog & Fox\, Saturday 24th May from Midday – 11 pm \n  \nBooking: Not required. \n\n 
URL:https://wimbledonvillage.com/event/lillet-garden-party-the-dog-fox/
ATTACH;FMTTYPE=image/jpeg:https://wimbledonvillage.com/wp-content/uploads/2025/05/pexels-palomaclaricefotografia-1.jpg
END:VEVENT
BEGIN:VEVENT
DTSTART;TZID=Europe/London:20250524T080000
DTEND;TZID=Europe/London:20250524T170000
DTSTAMP:20260420T071256
CREATED:20250509T080255Z
LAST-MODIFIED:20250509T080255Z
UID:10004653-1748073600-1748106000@wimbledonvillage.com
SUMMARY:Ask the Experts @ Wimbledon Museum
DESCRIPTION:Join Michael Norman Smith\, Chair of the Local History Group\, and his colleague Sheila Dunman\, both ready to share their vast knowledge of Wimbledon’s rich past at this Ask The Experts session at Wimbledon Museum.  Whether you’re curious about historic landmarks\, old families\, or fascinating events\, this is your chance to explore our local heritage. \n  \nWhere & When: Wimbledon Museum\, from 2:30pm to 5pm on Saturday 24th May \n  \nTickets: This is a free\, walk-in event. No booking required.
URL:https://wimbledonvillage.com/event/ask-the-experts-wimbledon-museum-5/
ATTACH;FMTTYPE=image/png:https://wimbledonvillage.com/wp-content/uploads/2024/05/Screenshot-2024-05-06-at-09.26.5.png
END:VEVENT
BEGIN:VEVENT
DTSTART;TZID=Europe/London:20250523T080000
DTEND;TZID=Europe/London:20250523T170000
DTSTAMP:20260420T071256
CREATED:20250410T160021Z
LAST-MODIFIED:20250410T160021Z
UID:10004562-1747987200-1748019600@wimbledonvillage.com
SUMMARY:St John's Lunchtime Recital: Soprano Gina Lewis
DESCRIPTION:Soprano Gina Lewis will perform a number of pieces from composers such as Henry Purcell\, Darius Milhaud and Hugo Wolf. \n  \nWhere & When: St John the Baptist\, on Friday 23rd May at 1pm.  The Church is open for refreshments from 12.30pm with delicious home-made cakes available. Attendees are also welcome to bring their own food and drinks to enjoy before or after the recital. \n  \nBooking: No booking required. This event is free but donations are welcome in aid of the St John’s Music Fund.
URL:https://wimbledonvillage.com/event/st-johns-lunchtime-recital-soprano-gina-lewis/
ATTACH;FMTTYPE=image/jpeg:https://wimbledonvillage.com/wp-content/uploads/2024/06/geert-pieters-8QrPJ3Kfie4-unspla.jpg
END:VEVENT
BEGIN:VEVENT
DTSTART;TZID=Europe/London:20250522T080000
DTEND;TZID=Europe/London:20250522T170000
DTSTAMP:20260420T071256
CREATED:20250508T080333Z
LAST-MODIFIED:20250508T080455Z
UID:10004649-1747900800-1747933200@wimbledonvillage.com
SUMMARY:Webinar: You have an ADHD diagnosis\, what next?
DESCRIPTION:This insightful webinar will explore what it means to have ADHD and the implications of a diagnosis. \n  \nHosted by Hannah Creaven\, registered Mental Health Nurse and ADHD Nurse Prescriber at The Family Treatment Service\, the webinar will discuss considerations including treatment routes and support pathways following diagnosis of ADHD. It is aimed at parents and professionals with a focus on children and adolescents. \n  \nThis webinar is part of a series of monthly\, free events brought to you by The Family Treatment Service. \n  \nWhere & When: Online\, 11am on Thursday 22nd May \n  \nCost: Free event. Book via the link below.
URL:https://wimbledonvillage.com/event/webinar-you-have-an-adhd-diagnosis-what-next/
ATTACH;FMTTYPE=image/jpeg:https://wimbledonvillage.com/wp-content/uploads/2025/03/Unknown-1.jpeg
END:VEVENT
BEGIN:VEVENT
DTSTART;TZID=Europe/London:20250522T080000
DTEND;TZID=Europe/London:20250522T170000
DTSTAMP:20260420T071256
CREATED:20250411T064223Z
LAST-MODIFIED:20250411T064322Z
UID:10004569-1747900800-1747933200@wimbledonvillage.com
SUMMARY:Southern Rhône Masterclass with Château de Manissy
DESCRIPTION:Enjoy a wonderful evening exploring Southern Rhône Valley wines\, hosted by Château de Manissy. \n  \nWhere & When: Amathus\, Thursday 22nd May at 6.30 pm \n  \nTickets: £30pp
URL:https://wimbledonvillage.com/event/southern-rhone-masterclass-with-chateau-de-manissy/
ATTACH;FMTTYPE=image/jpeg:https://wimbledonvillage.com/wp-content/uploads/2025/04/https-cdn.evbuc_.com-images-100.jpg
END:VEVENT
BEGIN:VEVENT
DTSTART;TZID=Europe/London:20250521T190000
DTEND;TZID=Europe/London:20250521T220000
DTSTAMP:20260420T071256
CREATED:20240428T113530Z
LAST-MODIFIED:20250831T125653Z
UID:10006769-1747854000-1747864800@wimbledonvillage.com
SUMMARY:Pub Quiz @ The Dog & Fox
DESCRIPTION:Grab your team\, get your brain in gear and get quizzical at the Dog & Fox. \n  \nWhere & When: The Dog & Fox\, 24 High Street\, Wimbledon Village\, London SW19 5EA\, every Wednesday night\, 7 – 10 pm.
URL:https://wimbledonvillage.com/event/pub-quiz-the-dog-fox/2025-05-21/
ATTACH;FMTTYPE=image/png:https://wimbledonvillage.com/wp-content/uploads/2024/04/Dog-Fox-pub-quiz-image.png
END:VEVENT
BEGIN:VEVENT
DTSTART;TZID=Europe/London:20250521T080000
DTEND;TZID=Europe/London:20250521T170000
DTSTAMP:20260420T071256
CREATED:20250505T070446Z
LAST-MODIFIED:20250505T070446Z
UID:10004648-1747814400-1747846800@wimbledonvillage.com
SUMMARY:APPI Founders Class with Elisa Withers
DESCRIPTION:Join APPI founder Elisa Withers for this very special reformer class\, raising funds for The Felix Project.  This is a lovely opportunity to learn from Elisa and share in her passion for Pilates.  Elisa will also be available afterwards to chat all things Pilates and answer any questions you may have.  Spaces are limited to 6 so early booking essential. \n  \nWhere & When: APPI\, Wednesday 21st May @ 1 pm. \n  \nTickets: Charity fundraiser for The Felix Project: suggested donation £10.
URL:https://wimbledonvillage.com/event/appi-founders-class-with-elisa-withers/
ATTACH;FMTTYPE=image/jpeg:https://wimbledonvillage.com/wp-content/uploads/2025/03/9c.jpg
END:VEVENT
BEGIN:VEVENT
DTSTART;TZID=Europe/London:20250520T193000
DTEND;TZID=Europe/London:20250520T224500
DTSTAMP:20260420T071256
CREATED:20240222T093828Z
LAST-MODIFIED:20250831T125428Z
UID:10002192-1747769400-1747781100@wimbledonvillage.com
SUMMARY:Pub Quiz @ The Rose & Crown
DESCRIPTION:Grab your cleverest pals & put your knowledge to the test with fantastic quiz master Duncan at the weekly Rose & Crown pub quiz. \n  \nWhere & When: The Rose & Crown\, 55 High Street\, Wimbledon Village\, London SW19 5BA\, every Tuesday from 7.30 – 10.45 pm (except during the Wimbledon tennis fortnight).
URL:https://wimbledonvillage.com/event/rose-crown-pub-quiz/2025-05-20/
ATTACH;FMTTYPE=image/jpeg:https://wimbledonvillage.com/wp-content/uploads/2023/08/Rose-Crown-pub-quiz-image.jpg
END:VEVENT
BEGIN:VEVENT
DTSTART;TZID=Europe/London:20250520T080000
DTEND;TZID=Europe/London:20250520T170000
DTSTAMP:20260420T071256
CREATED:20250406T074649Z
LAST-MODIFIED:20250409T080826Z
UID:10004496-1747728000-1747760400@wimbledonvillage.com
SUMMARY:Live Music at The Ivy Café Wimbledon
DESCRIPTION:Enjoy live music and a complimentary glass of The Ivy Cuvee* \n  \nWhere & When: The Ivy Café\, Wimbledon\, every Tuesday in April & May from 6 – 8 pm. \n  \n*T&Cs apply – see The Ivy Cafe Wimbledon website for details.
URL:https://wimbledonvillage.com/event/live-music-at-the-ivy-cafe-wimbledon/2025-05-20/
ATTACH;FMTTYPE=image/png:https://wimbledonvillage.com/wp-content/uploads/2025/04/THE-IVY-APERITIF-MAR2511146-Not-.png
END:VEVENT
BEGIN:VEVENT
DTSTART;TZID=Europe/London:20250519T080000
DTEND;TZID=Europe/London:20250519T170000
DTSTAMP:20260420T071256
CREATED:20250409T081245Z
LAST-MODIFIED:20250409T081245Z
UID:10004556-1747641600-1747674000@wimbledonvillage.com
SUMMARY:Wimbledon Guild Charity Bridge Afternoon
DESCRIPTION:Enjoy an afternoon of Chicago Bridge and a fabulous afternoon tea in aid of Wimbledon Guild. There will also be a raffle and some scoring prizes. \n  \nWhere & When: St Mary’s Church Garden Hall on Monday 19th May\, 2 – 5 pm \n  \nTickets: £100 per table to include Afternoon Tea. \n  \nThis event is kindly sponsored by Claudia Button\, local Financial Adviser and Wealth Manager
URL:https://wimbledonvillage.com/event/wimbledon-guild-charity-bridge-afternoon/
ATTACH;FMTTYPE=image/jpeg:https://wimbledonvillage.com/wp-content/uploads/2023/09/Playing-cards-image.jpg
END:VEVENT
BEGIN:VEVENT
DTSTART;TZID=Europe/London:20250518T190000
DTEND;TZID=Europe/London:20250518T220000
DTSTAMP:20260420T071256
CREATED:20240108T125908Z
LAST-MODIFIED:20250831T125309Z
UID:10006416-1747594800-1747605600@wimbledonvillage.com
SUMMARY:Pub Quiz @ the Fire Stables
DESCRIPTION:Put your thinking hat on because this is a game for real players. Call your smartest friends and put together a winning team to answer questions about general knowledge\, music\, geography\, everything and nothing. A £50 bar tab is up for grabs each week. \n  \nWhere & When: Fire Stables\, every Sunday from 7 – 10 pm.
URL:https://wimbledonvillage.com/event/pub-quiz-the-fire-stables/2025-05-18/
ATTACH;FMTTYPE=image/jpeg:https://wimbledonvillage.com/wp-content/uploads/2024/01/rsz_pexels-elevate-1269025.jpg
END:VEVENT
BEGIN:VEVENT
DTSTART;TZID=Europe/London:20250518T100000
DTEND;TZID=Europe/London:20250518T150000
DTSTAMP:20260420T071256
CREATED:20230819T162853Z
LAST-MODIFIED:20250831T125135Z
UID:10005724-1747562400-1747580400@wimbledonvillage.com
SUMMARY:Wimbledon Village Farmers' Market
DESCRIPTION:The Village Farmers’ Market serves up a range of fabulous farm fresh and local products along with a varied offering of ready to eat goodies every Sunday from 10am to 3pm on the Village High Street. Stalls rotate each week. \n  \nFollow The Wimbledon Village Farmers’ Market on Instagram or Facebook for more details.
URL:https://wimbledonvillage.com/event/wimbledon-village-farmers-market/2025-05-18/
ATTACH;FMTTYPE=image/jpeg:https://wimbledonvillage.com/wp-content/uploads/2023/08/Farmers-Market-vegetables.jpg
END:VEVENT
BEGIN:VEVENT
DTSTART;TZID=Europe/London:20250518T080000
DTEND;TZID=Europe/London:20250518T170000
DTSTAMP:20260420T071256
CREATED:20250509T080037Z
LAST-MODIFIED:20250509T080037Z
UID:10004652-1747555200-1747587600@wimbledonvillage.com
SUMMARY:Ask the Experts @ Wimbledon Museum
DESCRIPTION:Join Michael Norman Smith\, Chair of the Local History Group\, and his colleague Sheila Dunman\, both ready to share their vast knowledge of Wimbledon’s rich past at this Ask The Experts session at Wimbledon Museum.  Whether you’re curious about historic landmarks\, old families\, or fascinating events\, this is your chance to explore our local heritage. \n  \nWhere & When: Wimbledon Museum\, from 2:30pm to 5pm on Sunday 18th May \n  \nTickets: This is a free\, walk-in event. No booking required.
URL:https://wimbledonvillage.com/event/ask-the-experts-wimbledon-museum-4/
ATTACH;FMTTYPE=image/png:https://wimbledonvillage.com/wp-content/uploads/2024/05/Screenshot-2024-05-06-at-09.26.5.png
END:VEVENT
BEGIN:VEVENT
DTSTART;TZID=Europe/London:20250518T080000
DTEND;TZID=Europe/London:20250518T170000
DTSTAMP:20260420T071256
CREATED:20250430T111144Z
LAST-MODIFIED:20250430T111144Z
UID:10004644-1747555200-1747587600@wimbledonvillage.com
SUMMARY:Desi Daru Vodka Barrel-top Tasting
DESCRIPTION:Desi Daru is an award-winning ultra-premium vodka brand\, marrying two cultures – English and Indian. At this free tasting you’ll try both their velvety Original vodka\, crafted with English winter wheat\, and their gorgeous Mango vodka\, which showcases the sumptuous sweetness of Indian Alphonso mangoes. \n  \nWhere & When: Amathus\, on Sunday 18th May from 2.30 – 5.30 pm \n  \nTickets/Booking: Free event. Booking not required.
URL:https://wimbledonvillage.com/event/desi-daru-vodka-barrel-top-tasting/
ATTACH;FMTTYPE=image/png:https://wimbledonvillage.com/wp-content/uploads/2025/04/Screenshot-2025-04-30-at-12.08.5.png
END:VEVENT
BEGIN:VEVENT
DTSTART;TZID=Europe/London:20250517T103000
DTEND;TZID=Europe/London:20250517T120000
DTSTAMP:20260420T071256
CREATED:20230819T155822Z
LAST-MODIFIED:20250831T132807Z
UID:10008228-1747477800-1747483200@wimbledonvillage.com
SUMMARY:Wimbledon Common and Village Walk & Talk
DESCRIPTION:A free and fun ‘walk and talk’ every Saturday morning around Wimbledon Common and Wimbledon Village. \n  \nWalk and talks are a chance for all generations to take a stroll\, chat\, meet friends and neighbours\, make new friends and enjoy their local area and green spaces together. From older adults to young children\, from buggies to beagles – everybody can join in. \n  \nNo booking\, no reservations\, just turn up and you will get a very warm welcome. \n  \nWhen & Where: 10.30am at the Wimbledon War Memorial on The Green\, at the corner of Parkside and The Causeway.
URL:https://wimbledonvillage.com/event/weekly-walk-talk/2025-05-17/
ATTACH;FMTTYPE=image/jpeg:https://wimbledonvillage.com/wp-content/uploads/2023/08/Walk-Talk-Wimbledon-Common-walkers-on-a-sunny-day.jpg
END:VEVENT
BEGIN:VEVENT
DTSTART;TZID=Europe/London:20250517T090000
DTEND;TZID=Europe/London:20250517T100000
DTSTAMP:20260420T071256
CREATED:20230819T151954Z
LAST-MODIFIED:20250831T130729Z
UID:10007535-1747472400-1747476000@wimbledonvillage.com
SUMMARY:Wimbledon Common Parkrun
DESCRIPTION:A free\, fun\, and friendly weekly 5k community event. Participants can choose to walk\, jog\, run\, volunteer or just spectate. \n  \nThe run starts from near the Windmill car park every Saturday at 9am. \n  \nJoin other runners and supporters for a post run coffee at the Windmill Cafe.
URL:https://wimbledonvillage.com/event/wimbledon-common-park-run/2025-05-17/
ATTACH;FMTTYPE=image/jpeg:https://wimbledonvillage.com/wp-content/uploads/2023/08/Wimbledon-Common-Parkrun-runners-enjoying-the-course.jpg
END:VEVENT
END:VCALENDAR