BEGIN:VCALENDAR
VERSION:2.0
PRODID:-//Wimbledon Village - ECPv6.15.20//NONSGML v1.0//EN
CALSCALE:GREGORIAN
METHOD:PUBLISH
X-ORIGINAL-URL:https://wimbledonvillage.com
X-WR-CALDESC:Events for Wimbledon Village
REFRESH-INTERVAL;VALUE=DURATION:PT1H
X-Robots-Tag:noindex
X-PUBLISHED-TTL:PT1H
BEGIN:VTIMEZONE
TZID:Europe/London
BEGIN:DAYLIGHT
TZOFFSETFROM:+0000
TZOFFSETTO:+0100
TZNAME:BST
DTSTART:20240331T010000
END:DAYLIGHT
BEGIN:STANDARD
TZOFFSETFROM:+0100
TZOFFSETTO:+0000
TZNAME:GMT
DTSTART:20241027T010000
END:STANDARD
BEGIN:DAYLIGHT
TZOFFSETFROM:+0000
TZOFFSETTO:+0100
TZNAME:BST
DTSTART:20250330T010000
END:DAYLIGHT
BEGIN:STANDARD
TZOFFSETFROM:+0100
TZOFFSETTO:+0000
TZNAME:GMT
DTSTART:20251026T010000
END:STANDARD
BEGIN:DAYLIGHT
TZOFFSETFROM:+0000
TZOFFSETTO:+0100
TZNAME:BST
DTSTART:20260329T010000
END:DAYLIGHT
BEGIN:STANDARD
TZOFFSETFROM:+0100
TZOFFSETTO:+0000
TZNAME:GMT
DTSTART:20261025T010000
END:STANDARD
END:VTIMEZONE
BEGIN:VEVENT
DTSTART;TZID=Europe/London:20251009T183000
DTEND;TZID=Europe/London:20251009T200000
DTSTAMP:20260420T071249
CREATED:20250814T075100Z
LAST-MODIFIED:20250831T140427Z
UID:10004875-1760034600-1760040000@wimbledonvillage.com
SUMMARY:Pol Roger Champagne Masterclass @ Amathus
DESCRIPTION:An exclusive Champagne masterclass hosted by Martin Heidsieck\, sixth generation of the Pol Roger Family. \n  \nIn its 175 years of history\, Pol Roger has carved out one of the most flattering reputations in the circle of the leading Champagne brands. Discover the remarkable range of Pol Roger Champagne\, including the Brut Rosé 2018\, the Blanc de Blancs 2015 and the esteemed Cuvée Sir Winston Churchill 2015. \n  \nLineup: \n\nPol Roger Brut Reserve NV\nPol Roger Brut Vintage 2018\nPol Roger Blanc de Blancs 2015\nPol Roger Extra Cuvée de Réserve Brut Rosé Vintage 2018\nPol Roger Cuvée Sir Winston Churchill 2015\n\n  \nAlso included are some light nibbles\, cheese and charcuterie to accompany the wines. \n  \nWhere & When: Amathus\, Thursday October 9th from 6.30 – 8 pm \n  \nTickets: £55
URL:https://wimbledonvillage.com/event/pol-roger-champagne-masterclass-amathus/
ATTACH;FMTTYPE=image/jpeg:https://wimbledonvillage.com/wp-content/uploads/2025/08/https-cdn.evbuc_.com-images-109-2.jpg
END:VEVENT
BEGIN:VEVENT
DTSTART;TZID=Europe/London:20251009T190000
DTEND;TZID=Europe/London:20251019T183000
DTSTAMP:20260420T071249
CREATED:20250831T160008Z
LAST-MODIFIED:20250831T160008Z
UID:10008509-1760036400-1760898600@wimbledonvillage.com
SUMMARY:Art Below Autumn Show 2025
DESCRIPTION:In October 2025\, in collaboration with Art Below\, Ad Lib Gallery will be showing artworks by numerous artists on billboard posters at Regents Park\, Pimlico & Hyde Park Corner tube stations. \n  \nTo coincide with the billboard campaign they will be exhibiting works by many of the participating artists at their gallery in Wimbledon Village\, along with some favourite Ad Lib Gallery artists and previous Art Below exhibitors. \n  \nWhere & When: Ad Lib Gallery\, from 9th – 19th October. Private view with complimentary drinks on Thursday 9th October\, 6-8pm. \n  \nGallery Opening Hours: Monday – Sunday from 10 am – 5:30 pm
URL:https://wimbledonvillage.com/event/art-below-autumn-show-2025/
ATTACH;FMTTYPE=image/jpeg:https://wimbledonvillage.com/wp-content/uploads/2025/08/Artbelow-autumn-show-25-cover-ad.jpg
END:VEVENT
BEGIN:VEVENT
DTSTART;TZID=Europe/London:20251010T180000
DTEND;TZID=Europe/London:20251010T193000
DTSTAMP:20260420T071249
CREATED:20250930T204608Z
LAST-MODIFIED:20250930T204608Z
UID:10008553-1760119200-1760124600@wimbledonvillage.com
SUMMARY:New Zealand Wine Tasting @ Jeroboams
DESCRIPTION:Explore the impressive diversity of wines from across the islands of New Zealand. Reds and Whites from Auckland to Central Otago. \n  \nWhere & When: Jeroboams\, Friday 10th October\, 6 – 7.30 pm \n  \nTickets: £35 pp. Buy on Eventbrite through the link below\, or purchase in store.
URL:https://wimbledonvillage.com/event/new-zealand-wine-tasting-at-jeroboams/
ATTACH;FMTTYPE=image/jpeg:https://wimbledonvillage.com/wp-content/uploads/2025/09/https-cdn.evbuc_.com-images-112.jpg
END:VEVENT
BEGIN:VEVENT
DTSTART;TZID=Europe/London:20251011T080000
DTEND;TZID=Europe/London:20251011T170000
DTSTAMP:20260420T071249
CREATED:20240414T092931Z
LAST-MODIFIED:20250831T134400Z
UID:10004353-1760169600-1760202000@wimbledonvillage.com
SUMMARY:Wimbledon Village Stables Open Day
DESCRIPTION:On the second Saturday of every month\, the Stables invites visitors to explore the yard\, meet the horses\, and see how everything runs behind the scenes. \n  \nIt’s a great opportunity to learn about membership options\, and see the Equicise horse simulator\, designed for all ages and abilities. Plus children will love meeting Mr Fudge\, the friendly Shetland pony!  \n  \nWhere & When: Wimbledon Village Stables\, 24 A/B\, High St\, Wimbledon Village\, London SW19 5DX\, second Saturday of every month\, from 2 – 3 pm. \n  \nBooking: No booking required—just turn up and enjoy a relaxed\, informative afternoon.
URL:https://wimbledonvillage.com/event/wimbledon-village-stables-open-afternoons/2025-10-11/
ATTACH;FMTTYPE=image/jpeg:https://wimbledonvillage.com/wp-content/uploads/2025/03/IMG_7836.jpg
END:VEVENT
BEGIN:VEVENT
DTSTART;TZID=Europe/London:20251011T090000
DTEND;TZID=Europe/London:20251011T100000
DTSTAMP:20260420T071249
CREATED:20230819T151954Z
LAST-MODIFIED:20250831T130729Z
UID:10007556-1760173200-1760176800@wimbledonvillage.com
SUMMARY:Wimbledon Common Parkrun
DESCRIPTION:A free\, fun\, and friendly weekly 5k community event. Participants can choose to walk\, jog\, run\, volunteer or just spectate. \n  \nThe run starts from near the Windmill car park every Saturday at 9am. \n  \nJoin other runners and supporters for a post run coffee at the Windmill Cafe.
URL:https://wimbledonvillage.com/event/wimbledon-common-park-run/2025-10-11/
ATTACH;FMTTYPE=image/jpeg:https://wimbledonvillage.com/wp-content/uploads/2023/08/Wimbledon-Common-Parkrun-runners-enjoying-the-course.jpg
END:VEVENT
BEGIN:VEVENT
DTSTART;TZID=Europe/London:20251011T103000
DTEND;TZID=Europe/London:20251011T120000
DTSTAMP:20260420T071249
CREATED:20230819T155822Z
LAST-MODIFIED:20250831T132807Z
UID:10008248-1760178600-1760184000@wimbledonvillage.com
SUMMARY:Wimbledon Common and Village Walk & Talk
DESCRIPTION:A free and fun ‘walk and talk’ every Saturday morning around Wimbledon Common and Wimbledon Village. \n  \nWalk and talks are a chance for all generations to take a stroll\, chat\, meet friends and neighbours\, make new friends and enjoy their local area and green spaces together. From older adults to young children\, from buggies to beagles – everybody can join in. \n  \nNo booking\, no reservations\, just turn up and you will get a very warm welcome. \n  \nWhen & Where: 10.30am at the Wimbledon War Memorial on The Green\, at the corner of Parkside and The Causeway.
URL:https://wimbledonvillage.com/event/weekly-walk-talk/2025-10-11/
ATTACH;FMTTYPE=image/jpeg:https://wimbledonvillage.com/wp-content/uploads/2023/08/Walk-Talk-Wimbledon-Common-walkers-on-a-sunny-day.jpg
END:VEVENT
BEGIN:VEVENT
DTSTART;TZID=Europe/London:20251012T100000
DTEND;TZID=Europe/London:20251012T150000
DTSTAMP:20260420T071249
CREATED:20230819T162853Z
LAST-MODIFIED:20250831T125135Z
UID:10005745-1760263200-1760281200@wimbledonvillage.com
SUMMARY:Wimbledon Village Farmers' Market
DESCRIPTION:The Village Farmers’ Market serves up a range of fabulous farm fresh and local products along with a varied offering of ready to eat goodies every Sunday from 10am to 3pm on the Village High Street. Stalls rotate each week. \n  \nFollow The Wimbledon Village Farmers’ Market on Instagram or Facebook for more details.
URL:https://wimbledonvillage.com/event/wimbledon-village-farmers-market/2025-10-12/
ATTACH;FMTTYPE=image/jpeg:https://wimbledonvillage.com/wp-content/uploads/2023/08/Farmers-Market-vegetables.jpg
END:VEVENT
BEGIN:VEVENT
DTSTART;TZID=Europe/London:20251012T190000
DTEND;TZID=Europe/London:20251012T220000
DTSTAMP:20260420T071249
CREATED:20240108T125908Z
LAST-MODIFIED:20250831T125309Z
UID:10006437-1760295600-1760306400@wimbledonvillage.com
SUMMARY:Pub Quiz @ the Fire Stables
DESCRIPTION:Put your thinking hat on because this is a game for real players. Call your smartest friends and put together a winning team to answer questions about general knowledge\, music\, geography\, everything and nothing. A £50 bar tab is up for grabs each week. \n  \nWhere & When: Fire Stables\, every Sunday from 7 – 10 pm.
URL:https://wimbledonvillage.com/event/pub-quiz-the-fire-stables/2025-10-12/
ATTACH;FMTTYPE=image/jpeg:https://wimbledonvillage.com/wp-content/uploads/2024/01/rsz_pexels-elevate-1269025.jpg
END:VEVENT
BEGIN:VEVENT
DTSTART;TZID=Europe/London:20251014T160000
DTEND;TZID=Europe/London:20251019T220000
DTSTAMP:20260420T071249
CREATED:20250831T122204Z
LAST-MODIFIED:20250831T140537Z
UID:10004881-1760457600-1760911200@wimbledonvillage.com
SUMMARY:Hand in Hand Beer Festival
DESCRIPTION:Enjoy six days of beer and ale tasting from different breweries\, chats with guest brewers and other activities. Free to attend\, this festival gathers friends\, regulars and all beer lovers together. \n  \nWhere & When: Hand in Hand\, Tuesday 14th – Sunday 19th October\, daily from 4 – 10 pm. \n  \nTickets/Booking: Free event\, booking not required.
URL:https://wimbledonvillage.com/event/hand-in-hand-beer-festival/
ATTACH;FMTTYPE=image/jpeg:https://wimbledonvillage.com/wp-content/uploads/2025/08/Screenshot-2025-08-31-at-13.11.4.jpg
END:VEVENT
BEGIN:VEVENT
DTSTART;TZID=Europe/London:20251014T193000
DTEND;TZID=Europe/London:20251014T224500
DTSTAMP:20260420T071249
CREATED:20240222T093828Z
LAST-MODIFIED:20250831T125428Z
UID:10002213-1760470200-1760481900@wimbledonvillage.com
SUMMARY:Pub Quiz @ The Rose & Crown
DESCRIPTION:Grab your cleverest pals & put your knowledge to the test with fantastic quiz master Duncan at the weekly Rose & Crown pub quiz. \n  \nWhere & When: The Rose & Crown\, 55 High Street\, Wimbledon Village\, London SW19 5BA\, every Tuesday from 7.30 – 10.45 pm (except during the Wimbledon tennis fortnight).
URL:https://wimbledonvillage.com/event/rose-crown-pub-quiz/2025-10-14/
ATTACH;FMTTYPE=image/jpeg:https://wimbledonvillage.com/wp-content/uploads/2023/08/Rose-Crown-pub-quiz-image.jpg
END:VEVENT
BEGIN:VEVENT
DTSTART;TZID=Europe/London:20251015T190000
DTEND;TZID=Europe/London:20251015T220000
DTSTAMP:20260420T071249
CREATED:20240428T113530Z
LAST-MODIFIED:20250831T125653Z
UID:10006788-1760554800-1760565600@wimbledonvillage.com
SUMMARY:Pub Quiz @ The Dog & Fox
DESCRIPTION:Grab your team\, get your brain in gear and get quizzical at the Dog & Fox. \n  \nWhere & When: The Dog & Fox\, 24 High Street\, Wimbledon Village\, London SW19 5EA\, every Wednesday night\, 7 – 10 pm.
URL:https://wimbledonvillage.com/event/pub-quiz-the-dog-fox/2025-10-15/
ATTACH;FMTTYPE=image/png:https://wimbledonvillage.com/wp-content/uploads/2024/04/Dog-Fox-pub-quiz-image.png
END:VEVENT
BEGIN:VEVENT
DTSTART;TZID=Europe/London:20251016T110000
DTEND;TZID=Europe/London:20251016T120000
DTSTAMP:20260420T071249
CREATED:20250914T112528Z
LAST-MODIFIED:20250914T112613Z
UID:10008538-1760612400-1760616000@wimbledonvillage.com
SUMMARY:Webinar: ADHD Treatment Options Explained
DESCRIPTION:Following on from her Understanding ADHD webinar held earlier this year\, this is a further opportunity to hear from highly experienced ADHD Nurse Prescriber Hannah Creaven\, about the treatment options available following an ADHD diagnosis. She will share information about ADHD medication and the wider therapeutic treatments available alongside – or as alternatives to medication. The session is aimed at parents and professionals with a focus on post-diagnosis support for children and adolescents. \n  \nThis webinar is part of a series of monthly\, free events brought to you by The Family Treatment Service. \n  \nWhere & When: Online\, 11am on Thursday 16th October \n  \nCost: Free event. Book via the link below.
URL:https://wimbledonvillage.com/event/webinar-adhd-treatment-options-explained/
ATTACH;FMTTYPE=image/jpeg:https://wimbledonvillage.com/wp-content/uploads/2025/03/Unknown-1.jpeg
END:VEVENT
BEGIN:VEVENT
DTSTART;TZID=Europe/London:20251017T193000
DTEND;TZID=Europe/London:20251017T213000
DTSTAMP:20260420T071249
CREATED:20250930T211153Z
LAST-MODIFIED:20250930T211331Z
UID:10008555-1760729400-1760736600@wimbledonvillage.com
SUMMARY:Songs of All Sorts and Supper Soirée
DESCRIPTION:The Friends of Wimbledon & Putney Commons invite you to enjoy an entertaining\, fundraising evening of Tunes\, Titters and Torch Songs along with a delicious charcuterie board buffet supper provided by Cart on the Common and a welcome drink. \n  \nSongs of all Sorts will be performed by longtime Wimbledon Residents and talented artists Pat Abernethy and Dave Marsden –  AKA Isosceles Theatre Company. \n  \nWhere & When: Friday 17th October\, from 7.30 pm at The Village Hall \n  \nTickets: £40pp plus booking fee. Book via the link below. \n 
URL:https://wimbledonvillage.com/event/songs-of-all-sorts-and-supper-soiree/
ATTACH;FMTTYPE=image/jpeg:https://wimbledonvillage.com/wp-content/uploads/2025/09/https-cdn.evbuc_.com-images-112-3.jpg
END:VEVENT
BEGIN:VEVENT
DTSTART;TZID=Europe/London:20251018T090000
DTEND;TZID=Europe/London:20251018T100000
DTSTAMP:20260420T071249
CREATED:20230819T151954Z
LAST-MODIFIED:20250831T130729Z
UID:10007557-1760778000-1760781600@wimbledonvillage.com
SUMMARY:Wimbledon Common Parkrun
DESCRIPTION:A free\, fun\, and friendly weekly 5k community event. Participants can choose to walk\, jog\, run\, volunteer or just spectate. \n  \nThe run starts from near the Windmill car park every Saturday at 9am. \n  \nJoin other runners and supporters for a post run coffee at the Windmill Cafe.
URL:https://wimbledonvillage.com/event/wimbledon-common-park-run/2025-10-18/
ATTACH;FMTTYPE=image/jpeg:https://wimbledonvillage.com/wp-content/uploads/2023/08/Wimbledon-Common-Parkrun-runners-enjoying-the-course.jpg
END:VEVENT
BEGIN:VEVENT
DTSTART;TZID=Europe/London:20251018T103000
DTEND;TZID=Europe/London:20251018T120000
DTSTAMP:20260420T071249
CREATED:20230819T155822Z
LAST-MODIFIED:20250831T132807Z
UID:10008249-1760783400-1760788800@wimbledonvillage.com
SUMMARY:Wimbledon Common and Village Walk & Talk
DESCRIPTION:A free and fun ‘walk and talk’ every Saturday morning around Wimbledon Common and Wimbledon Village. \n  \nWalk and talks are a chance for all generations to take a stroll\, chat\, meet friends and neighbours\, make new friends and enjoy their local area and green spaces together. From older adults to young children\, from buggies to beagles – everybody can join in. \n  \nNo booking\, no reservations\, just turn up and you will get a very warm welcome. \n  \nWhen & Where: 10.30am at the Wimbledon War Memorial on The Green\, at the corner of Parkside and The Causeway.
URL:https://wimbledonvillage.com/event/weekly-walk-talk/2025-10-18/
ATTACH;FMTTYPE=image/jpeg:https://wimbledonvillage.com/wp-content/uploads/2023/08/Walk-Talk-Wimbledon-Common-walkers-on-a-sunny-day.jpg
END:VEVENT
BEGIN:VEVENT
DTSTART;TZID=Europe/London:20251018T143000
DTEND;TZID=Europe/London:20251018T163000
DTSTAMP:20260420T071249
CREATED:20250622T115401Z
LAST-MODIFIED:20250831T140659Z
UID:10004701-1760797800-1760805000@wimbledonvillage.com
SUMMARY:Wimbledon National Trust Association Talk: A Marriage of Beauty & Genius
DESCRIPTION:Wimbledon National Trust Association lectures are held once a month on Saturday afternoons in the autumn and winter/spring. In the October lecture John Hawks describes the celebrated Victorian designer William Morris and his wife Jane\, the Pre-Raphaelite muse. \n  \nWhere & When: Christ Church Hall\, 2a Cottenham Park Road\, London\, SW20 0RZ on Saturday 18th October at 3pm. Tea/coffee and biscuits are served from 2.30 pm. \n  \nCost: WNTA members £4.00 Non members £4.50. Pay on the door. Tea/coffee & biscuits 50p.
URL:https://wimbledonvillage.com/event/wimbledon-national-trust-association-talk-a-marriage-of-beauty-genius/
ATTACH;FMTTYPE=image/jpeg:https://wimbledonvillage.com/wp-content/uploads/2023/08/National-Trust-Logo-white-on-purple.jpg
END:VEVENT
BEGIN:VEVENT
DTSTART;TZID=Europe/London:20251019T080000
DTEND;TZID=Europe/London:20251019T110000
DTSTAMP:20260420T071249
CREATED:20250411T120742Z
LAST-MODIFIED:20250831T140812Z
UID:10004572-1760860800-1760871600@wimbledonvillage.com
SUMMARY:Late Autumn Bird Walk
DESCRIPTION:Join a local volunteer bird expert for a walk on the Commons to spot some local birdlife and hear their wonderful songs. The walk will cover some different terrains and waterproof footwear is recommended as some areas may be wet underfoot. Please take binoculars if you have some. \n  \nWhere & When: Meet at the Ranger’s Office any time from 7.45am on Sunday 19th October. The walk will start at 8am and will last around 3 hours. \n  \nTickets/Booking: The walk is free but donations are gratefully accepted. Booking is essential.
URL:https://wimbledonvillage.com/event/late-autumn-bird-walk/
ATTACH;FMTTYPE=image/jpeg:https://wimbledonvillage.com/wp-content/uploads/2025/04/https-cdn.evbuc_.com-images-982-2.jpg
END:VEVENT
BEGIN:VEVENT
DTSTART;TZID=Europe/London:20251019T100000
DTEND;TZID=Europe/London:20251019T150000
DTSTAMP:20260420T071249
CREATED:20230819T162853Z
LAST-MODIFIED:20250831T125135Z
UID:10005746-1760868000-1760886000@wimbledonvillage.com
SUMMARY:Wimbledon Village Farmers' Market
DESCRIPTION:The Village Farmers’ Market serves up a range of fabulous farm fresh and local products along with a varied offering of ready to eat goodies every Sunday from 10am to 3pm on the Village High Street. Stalls rotate each week. \n  \nFollow The Wimbledon Village Farmers’ Market on Instagram or Facebook for more details.
URL:https://wimbledonvillage.com/event/wimbledon-village-farmers-market/2025-10-19/
ATTACH;FMTTYPE=image/jpeg:https://wimbledonvillage.com/wp-content/uploads/2023/08/Farmers-Market-vegetables.jpg
END:VEVENT
BEGIN:VEVENT
DTSTART;TZID=Europe/London:20251019T190000
DTEND;TZID=Europe/London:20251019T220000
DTSTAMP:20260420T071249
CREATED:20240108T125908Z
LAST-MODIFIED:20250831T125309Z
UID:10006438-1760900400-1760911200@wimbledonvillage.com
SUMMARY:Pub Quiz @ the Fire Stables
DESCRIPTION:Put your thinking hat on because this is a game for real players. Call your smartest friends and put together a winning team to answer questions about general knowledge\, music\, geography\, everything and nothing. A £50 bar tab is up for grabs each week. \n  \nWhere & When: Fire Stables\, every Sunday from 7 – 10 pm.
URL:https://wimbledonvillage.com/event/pub-quiz-the-fire-stables/2025-10-19/
ATTACH;FMTTYPE=image/jpeg:https://wimbledonvillage.com/wp-content/uploads/2024/01/rsz_pexels-elevate-1269025.jpg
END:VEVENT
BEGIN:VEVENT
DTSTART;TZID=Europe/London:20251021T080000
DTEND;TZID=Europe/London:20251021T170000
DTSTAMP:20260420T071249
CREATED:20250208T102615Z
LAST-MODIFIED:20250831T133614Z
UID:10004289-1761033600-1761066000@wimbledonvillage.com
SUMMARY:Wimbledon Common Healthy Walks
DESCRIPTION:Take a little outdoor exercise and at the same time learn about the history and current management of the Commons at this regular programme of healthy walks on Wimbledon Common. \n  \nThese moderate walks take place every three weeks and last for approximately 1 hour. They are led by one of the Commons’ full-time staff or a regular volunteer. \n  \nWhere and When: Meeting/end point is outside the wooden garages near to the Rangers Office on Windmill Road. Time: 10am-11am. Booking is not required. \n  \nWalk dates for 2025: \n\n11 February\n4 March\n25 March\n15 April\n6 May\n27 May\n17 June\n8 July\n29 July\n19 August\n9 September\n30 September\n21 October\n11 November\n2 December\n23 December
URL:https://wimbledonvillage.com/event/wimbledon-common-healthy-walks-2/2025-10-21/
ATTACH;FMTTYPE=image/jpeg:https://wimbledonvillage.com/wp-content/uploads/2025/02/img20230815105914035hdr_cropped_.jpg
END:VEVENT
BEGIN:VEVENT
DTSTART;TZID=Europe/London:20251021T193000
DTEND;TZID=Europe/London:20251021T224500
DTSTAMP:20260420T071249
CREATED:20240222T093828Z
LAST-MODIFIED:20250831T125428Z
UID:10002214-1761075000-1761086700@wimbledonvillage.com
SUMMARY:Pub Quiz @ The Rose & Crown
DESCRIPTION:Grab your cleverest pals & put your knowledge to the test with fantastic quiz master Duncan at the weekly Rose & Crown pub quiz. \n  \nWhere & When: The Rose & Crown\, 55 High Street\, Wimbledon Village\, London SW19 5BA\, every Tuesday from 7.30 – 10.45 pm (except during the Wimbledon tennis fortnight).
URL:https://wimbledonvillage.com/event/rose-crown-pub-quiz/2025-10-21/
ATTACH;FMTTYPE=image/jpeg:https://wimbledonvillage.com/wp-content/uploads/2023/08/Rose-Crown-pub-quiz-image.jpg
END:VEVENT
BEGIN:VEVENT
DTSTART;TZID=Europe/London:20251022T100000
DTEND;TZID=Europe/London:20251022T140000
DTSTAMP:20260420T071249
CREATED:20250924T081644Z
LAST-MODIFIED:20251006T180907Z
UID:10008550-1761127200-1761141600@wimbledonvillage.com
SUMMARY:Doggy Brunch @ the Rose & Crown
DESCRIPTION:Sit back\, relax and enjoy a delicious mid-week brunch while your pooch enjoys theirs. A charity event in aid of Dogs for Good. \n  \nWhere & When: Rose & Crown\, 10 am – 2 pm on Wednesday 22nd of October \n  \nTickets/Booking: £10pp.
URL:https://wimbledonvillage.com/event/doggy-brunch-the-rose-crown/
ATTACH;FMTTYPE=image/jpeg:https://wimbledonvillage.com/wp-content/uploads/2025/09/Screenshot-2025-09-24-at-09.14.5.jpg
END:VEVENT
BEGIN:VEVENT
DTSTART;TZID=Europe/London:20251022T190000
DTEND;TZID=Europe/London:20251022T220000
DTSTAMP:20260420T071249
CREATED:20240428T113530Z
LAST-MODIFIED:20250831T125653Z
UID:10006789-1761159600-1761170400@wimbledonvillage.com
SUMMARY:Pub Quiz @ The Dog & Fox
DESCRIPTION:Grab your team\, get your brain in gear and get quizzical at the Dog & Fox. \n  \nWhere & When: The Dog & Fox\, 24 High Street\, Wimbledon Village\, London SW19 5EA\, every Wednesday night\, 7 – 10 pm.
URL:https://wimbledonvillage.com/event/pub-quiz-the-dog-fox/2025-10-22/
ATTACH;FMTTYPE=image/png:https://wimbledonvillage.com/wp-content/uploads/2024/04/Dog-Fox-pub-quiz-image.png
END:VEVENT
BEGIN:VEVENT
DTSTART;TZID=Europe/London:20251024T130000
DTEND;TZID=Europe/London:20251024T140000
DTSTAMP:20260420T071249
CREATED:20250904T175005Z
LAST-MODIFIED:20250904T175119Z
UID:10008531-1761310800-1761314400@wimbledonvillage.com
SUMMARY:St John's October Lunchtime Recital
DESCRIPTION:The October recital will feature Simon Neill and St John’s Director of Music Robert Mingay-Smith (piano). Generously supported by the Tertis Foundation\, the programme includes Schubert’s Fantasy in F minor\, Mozart’s Piano Sonata in D major (K.381)\, and Saint-Saëns’s Danse Macabre. \n  \nThis event is one of a series of Lunchtime Recitals held on the final Friday of each month\, featuring local and international professional musicians. There will be no November and December recitals but instead\, lunchtime concerts will be held as part of the Wimbledon International Music Festival. \n  \nWhere & When: St John the Baptist\, on Friday 24th October at 1pm.  The Church is open for refreshments from 12.30pm with delicious home-made cakes available. Attendees are also welcome to bring their own food and drinks to enjoy before or after the recital. \n  \nBooking: No booking required. This event is free but donations are welcome in aid of the St John’s Music Fund. \n  \nTo join the St John’s mailing list and for more information about upcoming concerts please email: jane.long@me.com
URL:https://wimbledonvillage.com/event/st-johns-october-lunchtime-recital/
ATTACH;FMTTYPE=image/jpeg:https://wimbledonvillage.com/wp-content/uploads/2024/06/geert-pieters-8QrPJ3Kfie4-unspla.jpg
END:VEVENT
BEGIN:VEVENT
DTSTART;TZID=Europe/London:20251024T160000
DTEND;TZID=Europe/London:20251024T173000
DTSTAMP:20260420T071249
CREATED:20250930T212626Z
LAST-MODIFIED:20250930T212744Z
UID:10008552-1761321600-1761327000@wimbledonvillage.com
SUMMARY:Iberian Ham Carving Masterclass @ Jeroboams
DESCRIPTION:Enjoy an Iberian Ham carving masterclass with James from Brindisa who will demonstrate carving a full leg of melt-in-the-mouth\, acorn-fed ham with some fabulous Spanish wine alongside.  \n  \nWhere & When: Jeroboams\, Friday 24th October @ 4 pm \n  \nCost/Tickets: Free. Drop-in event – no booking required.
URL:https://wimbledonvillage.com/event/iberian-ham-carving-masterclass-jeroboams/
ATTACH;FMTTYPE=image/jpeg:https://wimbledonvillage.com/wp-content/uploads/2025/09/CM00101_Jabugo_Iberico_Ham_On_Bo.jpg
END:VEVENT
BEGIN:VEVENT
DTSTART;TZID=Europe/London:20251024T180000
DTEND;TZID=Europe/London:20251024T193000
DTSTAMP:20260420T071249
CREATED:20250930T205620Z
LAST-MODIFIED:20250930T205620Z
UID:10008554-1761328800-1761334200@wimbledonvillage.com
SUMMARY:Introduction to Grower Champagne @ Jeroboams
DESCRIPTION:Enjoy some of the most interesting\, innovative and delicious Champagnes from artisan producers around the region. Includes the tasting of at least five Champagnes and accompanying nibbles. \n  \nWhere & When: Jeroboams\, Friday 24th October\, 6 – 7.30 pm \n  \nTickets: £45 pp. Buy on Eventbrite through the link below or purchase in store.
URL:https://wimbledonvillage.com/event/introduction-to-grower-champagne-jeroboams/
ATTACH;FMTTYPE=image/jpeg:https://wimbledonvillage.com/wp-content/uploads/2025/09/https-cdn.evbuc_.com-images-112-2.jpg
END:VEVENT
BEGIN:VEVENT
DTSTART;TZID=Europe/London:20251025T090000
DTEND;TZID=Europe/London:20251025T100000
DTSTAMP:20260420T071249
CREATED:20230819T151954Z
LAST-MODIFIED:20250831T130729Z
UID:10007558-1761382800-1761386400@wimbledonvillage.com
SUMMARY:Wimbledon Common Parkrun
DESCRIPTION:A free\, fun\, and friendly weekly 5k community event. Participants can choose to walk\, jog\, run\, volunteer or just spectate. \n  \nThe run starts from near the Windmill car park every Saturday at 9am. \n  \nJoin other runners and supporters for a post run coffee at the Windmill Cafe.
URL:https://wimbledonvillage.com/event/wimbledon-common-park-run/2025-10-25/
ATTACH;FMTTYPE=image/jpeg:https://wimbledonvillage.com/wp-content/uploads/2023/08/Wimbledon-Common-Parkrun-runners-enjoying-the-course.jpg
END:VEVENT
BEGIN:VEVENT
DTSTART;TZID=Europe/London:20251025T103000
DTEND;TZID=Europe/London:20251025T120000
DTSTAMP:20260420T071249
CREATED:20230819T155822Z
LAST-MODIFIED:20250831T132807Z
UID:10008250-1761388200-1761393600@wimbledonvillage.com
SUMMARY:Wimbledon Common and Village Walk & Talk
DESCRIPTION:A free and fun ‘walk and talk’ every Saturday morning around Wimbledon Common and Wimbledon Village. \n  \nWalk and talks are a chance for all generations to take a stroll\, chat\, meet friends and neighbours\, make new friends and enjoy their local area and green spaces together. From older adults to young children\, from buggies to beagles – everybody can join in. \n  \nNo booking\, no reservations\, just turn up and you will get a very warm welcome. \n  \nWhen & Where: 10.30am at the Wimbledon War Memorial on The Green\, at the corner of Parkside and The Causeway.
URL:https://wimbledonvillage.com/event/weekly-walk-talk/2025-10-25/
ATTACH;FMTTYPE=image/jpeg:https://wimbledonvillage.com/wp-content/uploads/2023/08/Walk-Talk-Wimbledon-Common-walkers-on-a-sunny-day.jpg
END:VEVENT
BEGIN:VEVENT
DTSTART;TZID=Europe/London:20251025T103000
DTEND;TZID=Europe/London:20251025T123000
DTSTAMP:20260420T071249
CREATED:20250715T061509Z
LAST-MODIFIED:20250831T140932Z
UID:10004857-1761388200-1761395400@wimbledonvillage.com
SUMMARY:Forest Bathing @ Cannizaro Park
DESCRIPTION:Enjoy a guided slow sensory walk and immerse yourself in the wooded world of Cannizaro Park with Susanne Meis. \n  \nSusanne is the Founder of Meet in Nature and has guided Forest Bathing events across the UK\, including for The Royal Botanic Gardens Kew\, the Forest Bathing Institute\, The National Trust\, and The RSPB. \n  \nWhere & When? : Cannizaro Park on Saturday 25th October\, from 10.30 am – 12.30 pm. Meet at the Millenium Fountain by the main park entrance for a prompt 10.30 start. \n  \nTickets: £16.96 including booking fee
URL:https://wimbledonvillage.com/event/forest-bathing-cannizaro-park-5/
ATTACH;FMTTYPE=image/jpeg:https://wimbledonvillage.com/wp-content/uploads/2023/08/Forest-Bathing-Walk-@-Cannizaro-Park.jpg
END:VEVENT
BEGIN:VEVENT
DTSTART;TZID=Europe/London:20251026T100000
DTEND;TZID=Europe/London:20251026T104500
DTSTAMP:20260420T071249
CREATED:20250922T204204Z
LAST-MODIFIED:20250922T204204Z
UID:10008547-1761472800-1761475500@wimbledonvillage.com
SUMMARY:Little Teds Family Session @ Wimbledon Museum
DESCRIPTION:Discover the wonders of Wimbledon Museum through storytelling\, music and arts and crafts.  This fun-filled session features songs\, stories and activities to entertain and inform the youngest visitors! \n  \nWhere & When: Wimbledon Museum\, on Sunday 26th October\, from 10.00  to 10.45 am \n  \nTickets: £5 per child plus booking fee.  Adults do not need to buy tickets\, but there must be a minimum of one adult present per two children.
URL:https://wimbledonvillage.com/event/little-teds-family-session-wimbledon-museum-2/
ATTACH;FMTTYPE=image/jpeg:https://wimbledonvillage.com/wp-content/uploads/2024/10/https-cdn.evbuc_.com-images-848.jpg
END:VEVENT
END:VCALENDAR