BEGIN:VCALENDAR
VERSION:2.0
PRODID:-//Wimbledon Village - ECPv6.15.20//NONSGML v1.0//EN
CALSCALE:GREGORIAN
METHOD:PUBLISH
X-WR-CALNAME:Wimbledon Village
X-ORIGINAL-URL:https://wimbledonvillage.com
X-WR-CALDESC:Events for Wimbledon Village
REFRESH-INTERVAL;VALUE=DURATION:PT1H
X-Robots-Tag:noindex
X-PUBLISHED-TTL:PT1H
BEGIN:VTIMEZONE
TZID:Europe/London
BEGIN:DAYLIGHT
TZOFFSETFROM:+0000
TZOFFSETTO:+0100
TZNAME:BST
DTSTART:20250330T010000
END:DAYLIGHT
BEGIN:STANDARD
TZOFFSETFROM:+0100
TZOFFSETTO:+0000
TZNAME:GMT
DTSTART:20251026T010000
END:STANDARD
BEGIN:DAYLIGHT
TZOFFSETFROM:+0000
TZOFFSETTO:+0100
TZNAME:BST
DTSTART:20260329T010000
END:DAYLIGHT
BEGIN:STANDARD
TZOFFSETFROM:+0100
TZOFFSETTO:+0000
TZNAME:GMT
DTSTART:20261025T010000
END:STANDARD
BEGIN:DAYLIGHT
TZOFFSETFROM:+0000
TZOFFSETTO:+0100
TZNAME:BST
DTSTART:20270328T010000
END:DAYLIGHT
BEGIN:STANDARD
TZOFFSETFROM:+0100
TZOFFSETTO:+0000
TZNAME:GMT
DTSTART:20271031T010000
END:STANDARD
END:VTIMEZONE
BEGIN:VEVENT
DTSTART;TZID=Europe/London:20260124T103000
DTEND;TZID=Europe/London:20260124T120000
DTSTAMP:20260420T005255
CREATED:20230819T155822Z
LAST-MODIFIED:20250831T132807Z
UID:10008263-1769250600-1769256000@wimbledonvillage.com
SUMMARY:Wimbledon Common and Village Walk & Talk
DESCRIPTION:A free and fun ‘walk and talk’ every Saturday morning around Wimbledon Common and Wimbledon Village. \n  \nWalk and talks are a chance for all generations to take a stroll\, chat\, meet friends and neighbours\, make new friends and enjoy their local area and green spaces together. From older adults to young children\, from buggies to beagles – everybody can join in. \n  \nNo booking\, no reservations\, just turn up and you will get a very warm welcome. \n  \nWhen & Where: 10.30am at the Wimbledon War Memorial on The Green\, at the corner of Parkside and The Causeway.
URL:https://wimbledonvillage.com/event/weekly-walk-talk/2026-01-24/
ATTACH;FMTTYPE=image/jpeg:https://wimbledonvillage.com/wp-content/uploads/2023/08/Walk-Talk-Wimbledon-Common-walkers-on-a-sunny-day.jpg
END:VEVENT
BEGIN:VEVENT
DTSTART;TZID=Europe/London:20260125T100000
DTEND;TZID=Europe/London:20260125T150000
DTSTAMP:20260420T005255
CREATED:20230819T162853Z
LAST-MODIFIED:20250831T125135Z
UID:10005760-1769335200-1769353200@wimbledonvillage.com
SUMMARY:Wimbledon Village Farmers' Market
DESCRIPTION:The Village Farmers’ Market serves up a range of fabulous farm fresh and local products along with a varied offering of ready to eat goodies every Sunday from 10am to 3pm on the Village High Street. Stalls rotate each week. \n  \nFollow The Wimbledon Village Farmers’ Market on Instagram or Facebook for more details.
URL:https://wimbledonvillage.com/event/wimbledon-village-farmers-market/2026-01-25/
ATTACH;FMTTYPE=image/jpeg:https://wimbledonvillage.com/wp-content/uploads/2023/08/Farmers-Market-vegetables.jpg
END:VEVENT
BEGIN:VEVENT
DTSTART;TZID=Europe/London:20260125T180000
DTEND;TZID=Europe/London:20260125T230000
DTSTAMP:20260420T005255
CREATED:20260104T122504Z
LAST-MODIFIED:20260104T122504Z
UID:10008748-1769364000-1769382000@wimbledonvillage.com
SUMMARY:Burns Night at the Dog & Fox
DESCRIPTION:Enjoy a cracking Burns Night at the Dog & Fox where they’ll be serving up the classic haggis\, neeps & tatties\, the scotch will be flowing and the Scottish tunes will be spinning! \n\n  \nWhere & When: Dog & Fox\, Sunday 25th January\, 6 – 11 pm \n  \n 
URL:https://wimbledonvillage.com/event/burns-night-at-the-dog-fox-3/
ATTACH;FMTTYPE=image/png:https://wimbledonvillage.com/wp-content/uploads/2025/01/Screenshot-2025-01-07-at-22.45.3.png
END:VEVENT
BEGIN:VEVENT
DTSTART;TZID=Europe/London:20260125T190000
DTEND;TZID=Europe/London:20260125T220000
DTSTAMP:20260420T005255
CREATED:20260104T123926Z
LAST-MODIFIED:20260104T124105Z
UID:10006452-1769367600-1769378400@wimbledonvillage.com
SUMMARY:Burns Night Pub Quiz @ the Fire Stables
DESCRIPTION:The Fire Stable weekly quiz gets a Burns Night rework! It’s still sharp\, still competitive\, just with a little extra Scottish soul (and a dram or two whispering encouragement). Expect Burns-inspired questions\, clever curveballs and our signature quiz flair – paired with beautifully executed plates and expertly poured whiskies that reward both the winners and the valiant almosts. \n  \nBring your brightest teammates\, sharpen your trivia instincts and settle in for a Burns Night Sunday where the questions are testing\, the food is exceptional and the whisky is very much part of the plan (as it should be). \n  \nWhere & When: Fire Stables\, from 7 – 10 pm.
URL:https://wimbledonvillage.com/event/pub-quiz-the-fire-stables-2/
ATTACH;FMTTYPE=image/jpeg:https://wimbledonvillage.com/wp-content/uploads/2024/01/rsz_pexels-elevate-1269025.jpg
END:VEVENT
BEGIN:VEVENT
DTSTART;TZID=Europe/London:20260126T133000
DTEND;TZID=Europe/London:20260126T150000
DTSTAMP:20260420T005255
CREATED:20251115T222907Z
LAST-MODIFIED:20260322T191634Z
UID:10008607-1769434200-1769439600@wimbledonvillage.com
SUMMARY:Prams & Pinot Wine Tasting
DESCRIPTION:A wine tasting welcoming all parents & prams. \n  \nEnjoy and learn about 4 seasonal wines accompanied with light nibbles\, in a relaxed and informal environment with plenty of pram space. Spittoons and a small changing table are available. \n  \nEnjoy an exclusive discount\, only available on the tasting day: Get 10% off your order when you purchase any of the wines tasted. \n  \nWhere & When: Friarwood Wines & Spirits on selected Mondays\, 1:30-3pm. Recommended arrival time\, 1.20pm \n  \nTickets: £25pp
URL:https://wimbledonvillage.com/event/prams-pinot-wine-tasting/2026-01-26/
ATTACH;FMTTYPE=image/png:https://wimbledonvillage.com/wp-content/uploads/2024/08/Mumdays-Wine-Tastings_2022.png
END:VEVENT
BEGIN:VEVENT
DTSTART;TZID=Europe/London:20260127T193000
DTEND;TZID=Europe/London:20260127T224500
DTSTAMP:20260420T005255
CREATED:20250922T102723Z
LAST-MODIFIED:20260202T082017Z
UID:10002228-1769542200-1769553900@wimbledonvillage.com
SUMMARY:Pub Quiz @ The Rose & Crown
DESCRIPTION:Grab your cleverest pals & put your knowledge to the test with fantastic quiz master Duncan at the weekly Rose & Crown pub quiz. \n  \nWhere & When: The Rose & Crown\, 55 High Street\, Wimbledon Village\, London SW19 5BA\, every Tuesday from 7.30 – 10.45 pm (except during the Wimbledon tennis fortnight).
URL:https://wimbledonvillage.com/event/rose-crown-pub-quiz-3/2026-01-27/
ATTACH;FMTTYPE=image/jpeg:https://wimbledonvillage.com/wp-content/uploads/2023/08/Rose-Crown-pub-quiz-image.jpg
END:VEVENT
BEGIN:VEVENT
DTSTART;TZID=Europe/London:20260128T190000
DTEND;TZID=Europe/London:20260128T220000
DTSTAMP:20260420T005255
CREATED:20240428T113530Z
LAST-MODIFIED:20250831T125653Z
UID:10006803-1769626800-1769637600@wimbledonvillage.com
SUMMARY:Pub Quiz @ The Dog & Fox
DESCRIPTION:Grab your team\, get your brain in gear and get quizzical at the Dog & Fox. \n  \nWhere & When: The Dog & Fox\, 24 High Street\, Wimbledon Village\, London SW19 5EA\, every Wednesday night\, 7 – 10 pm.
URL:https://wimbledonvillage.com/event/pub-quiz-the-dog-fox/2026-01-28/
ATTACH;FMTTYPE=image/png:https://wimbledonvillage.com/wp-content/uploads/2024/04/Dog-Fox-pub-quiz-image.png
END:VEVENT
BEGIN:VEVENT
DTSTART;TZID=Europe/London:20260131T090000
DTEND;TZID=Europe/London:20260131T100000
DTSTAMP:20260420T005255
CREATED:20230819T151954Z
LAST-MODIFIED:20250831T130729Z
UID:10007572-1769850000-1769853600@wimbledonvillage.com
SUMMARY:Wimbledon Common Parkrun
DESCRIPTION:A free\, fun\, and friendly weekly 5k community event. Participants can choose to walk\, jog\, run\, volunteer or just spectate. \n  \nThe run starts from near the Windmill car park every Saturday at 9am. \n  \nJoin other runners and supporters for a post run coffee at the Windmill Cafe.
URL:https://wimbledonvillage.com/event/wimbledon-common-park-run/2026-01-31/
ATTACH;FMTTYPE=image/jpeg:https://wimbledonvillage.com/wp-content/uploads/2023/08/Wimbledon-Common-Parkrun-runners-enjoying-the-course.jpg
END:VEVENT
BEGIN:VEVENT
DTSTART;TZID=Europe/London:20260131T103000
DTEND;TZID=Europe/London:20260131T120000
DTSTAMP:20260420T005255
CREATED:20230819T155822Z
LAST-MODIFIED:20250831T132807Z
UID:10008264-1769855400-1769860800@wimbledonvillage.com
SUMMARY:Wimbledon Common and Village Walk & Talk
DESCRIPTION:A free and fun ‘walk and talk’ every Saturday morning around Wimbledon Common and Wimbledon Village. \n  \nWalk and talks are a chance for all generations to take a stroll\, chat\, meet friends and neighbours\, make new friends and enjoy their local area and green spaces together. From older adults to young children\, from buggies to beagles – everybody can join in. \n  \nNo booking\, no reservations\, just turn up and you will get a very warm welcome. \n  \nWhen & Where: 10.30am at the Wimbledon War Memorial on The Green\, at the corner of Parkside and The Causeway.
URL:https://wimbledonvillage.com/event/weekly-walk-talk/2026-01-31/
ATTACH;FMTTYPE=image/jpeg:https://wimbledonvillage.com/wp-content/uploads/2023/08/Walk-Talk-Wimbledon-Common-walkers-on-a-sunny-day.jpg
END:VEVENT
BEGIN:VEVENT
DTSTART;TZID=Europe/London:20260201T080000
DTEND;TZID=Europe/London:20260201T110000
DTSTAMP:20260420T005255
CREATED:20260104T121718Z
LAST-MODIFIED:20260104T121848Z
UID:10008689-1769932800-1769943600@wimbledonvillage.com
SUMMARY:Southside Hustle Classic Car Meet
DESCRIPTION:A perfect morning out for car enthusiasts\, this informal monthly gathering of classic car owners in Wimbledon Village features a stunning and eclectic array of cars\, some incredibly rare. \n  \nWhere & When: Wimbledon Common Southside at the Village end\, near the Farmer’s Market\, from 8am to around 11am on the first Sunday of each month. \n  \nImage Credit: @paolojgibelli
URL:https://wimbledonvillage.com/event/southside-hustle-classic-car-meet/2026-02-01/
ATTACH;FMTTYPE=image/jpeg:https://wimbledonvillage.com/wp-content/uploads/2025/05/470221591_18338295316150563_9185.jpg
END:VEVENT
BEGIN:VEVENT
DTSTART;TZID=Europe/London:20260201T100000
DTEND;TZID=Europe/London:20260201T120000
DTSTAMP:20260420T005255
CREATED:20260104T115356Z
LAST-MODIFIED:20260104T115356Z
UID:10008684-1769940000-1769947200@wimbledonvillage.com
SUMMARY:Wimbledon Common Nature Club: Bird Feeders
DESCRIPTION:The Wimbledon Common Nature Club meets on the first Sunday of each month between 10am and 12 noon to do hands on activities with nature\, from making bird feeders to examining life under a microscope. Events are suitable for 6 – 14 year olds. Parents are welcome to come along too. \n  \nIn the February get-together\, ‘Bird Feeders’\, the children will help feed our feathered friends! \n  \nWhere & When: Information Centre\, Windmill Road\, Wimbledon Common on Sunday 1st February from 10 am – 12 pm. \n  \nCost: Free\, although the Club welcomes donations towards equipment and invited guests. \n  \nFor more information and contact details please click the button below.
URL:https://wimbledonvillage.com/event/wimbledon-common-nature-club-bird-feeders/
ATTACH;FMTTYPE=image/jpeg:https://wimbledonvillage.com/wp-content/uploads/2025/01/Wimbledon-Common-Nature-Club-two.jpg
END:VEVENT
BEGIN:VEVENT
DTSTART;TZID=Europe/London:20260201T100000
DTEND;TZID=Europe/London:20260201T150000
DTSTAMP:20260420T005255
CREATED:20230819T162853Z
LAST-MODIFIED:20250831T125135Z
UID:10005761-1769940000-1769958000@wimbledonvillage.com
SUMMARY:Wimbledon Village Farmers' Market
DESCRIPTION:The Village Farmers’ Market serves up a range of fabulous farm fresh and local products along with a varied offering of ready to eat goodies every Sunday from 10am to 3pm on the Village High Street. Stalls rotate each week. \n  \nFollow The Wimbledon Village Farmers’ Market on Instagram or Facebook for more details.
URL:https://wimbledonvillage.com/event/wimbledon-village-farmers-market/2026-02-01/
ATTACH;FMTTYPE=image/jpeg:https://wimbledonvillage.com/wp-content/uploads/2023/08/Farmers-Market-vegetables.jpg
END:VEVENT
BEGIN:VEVENT
DTSTART;TZID=Europe/London:20260201T190000
DTEND;TZID=Europe/London:20260201T220000
DTSTAMP:20260420T005255
CREATED:20240108T125908Z
LAST-MODIFIED:20250831T125309Z
UID:10006453-1769972400-1769983200@wimbledonvillage.com
SUMMARY:Pub Quiz @ the Fire Stables
DESCRIPTION:Put your thinking hat on because this is a game for real players. Call your smartest friends and put together a winning team to answer questions about general knowledge\, music\, geography\, everything and nothing. A £50 bar tab is up for grabs each week. \n  \nWhere & When: Fire Stables\, every Sunday from 7 – 10 pm.
URL:https://wimbledonvillage.com/event/pub-quiz-the-fire-stables/2026-02-01/
ATTACH;FMTTYPE=image/jpeg:https://wimbledonvillage.com/wp-content/uploads/2024/01/rsz_pexels-elevate-1269025.jpg
END:VEVENT
BEGIN:VEVENT
DTSTART;TZID=Europe/London:20260203T100000
DTEND;TZID=Europe/London:20260203T110000
DTSTAMP:20260420T005255
CREATED:20260104T114342Z
LAST-MODIFIED:20260104T114342Z
UID:10008667-1770112800-1770116400@wimbledonvillage.com
SUMMARY:Wimbledon Common Healthy Walks
DESCRIPTION:Take a little outdoor exercise and at the same time learn about the history and current management of the Commons at this regular programme of healthy walks on Wimbledon Common. \n  \nThese moderate walks take place every three weeks and last for approximately 1 hour. They are led by one of the Commons’ full-time staff or a regular volunteer. \n  \nWhere and When: Meeting/end point is outside the wooden garages near to the Rangers Office on Windmill Road. Time: 10am-11am. Booking is not required. \n  \nWalk dates for 2026: \n\n13 January\n3 February\n24 February\n17 March\n7 April\n28 April\n19 May\n9 June\n30 June\n21 July\n11 August\n1 September\n22 September\n13 October\n3 November\n24 November\n15 December
URL:https://wimbledonvillage.com/event/wimbledon-common-healthy-walks-3/2026-02-03/
ATTACH;FMTTYPE=image/jpeg:https://wimbledonvillage.com/wp-content/uploads/2025/02/img20230815105914035hdr_cropped_.jpg
END:VEVENT
BEGIN:VEVENT
DTSTART;TZID=Europe/London:20260203T193000
DTEND;TZID=Europe/London:20260203T224500
DTSTAMP:20260420T005255
CREATED:20250922T102723Z
LAST-MODIFIED:20260202T082017Z
UID:10002229-1770147000-1770158700@wimbledonvillage.com
SUMMARY:Pub Quiz @ The Rose & Crown
DESCRIPTION:Grab your cleverest pals & put your knowledge to the test with fantastic quiz master Duncan at the weekly Rose & Crown pub quiz. \n  \nWhere & When: The Rose & Crown\, 55 High Street\, Wimbledon Village\, London SW19 5BA\, every Tuesday from 7.30 – 10.45 pm (except during the Wimbledon tennis fortnight).
URL:https://wimbledonvillage.com/event/rose-crown-pub-quiz-3/2026-02-03/
ATTACH;FMTTYPE=image/jpeg:https://wimbledonvillage.com/wp-content/uploads/2023/08/Rose-Crown-pub-quiz-image.jpg
END:VEVENT
BEGIN:VEVENT
DTSTART;TZID=Europe/London:20260204T190000
DTEND;TZID=Europe/London:20260204T220000
DTSTAMP:20260420T005255
CREATED:20240428T113530Z
LAST-MODIFIED:20250831T125653Z
UID:10006804-1770231600-1770242400@wimbledonvillage.com
SUMMARY:Pub Quiz @ The Dog & Fox
DESCRIPTION:Grab your team\, get your brain in gear and get quizzical at the Dog & Fox. \n  \nWhere & When: The Dog & Fox\, 24 High Street\, Wimbledon Village\, London SW19 5EA\, every Wednesday night\, 7 – 10 pm.
URL:https://wimbledonvillage.com/event/pub-quiz-the-dog-fox/2026-02-04/
ATTACH;FMTTYPE=image/png:https://wimbledonvillage.com/wp-content/uploads/2024/04/Dog-Fox-pub-quiz-image.png
END:VEVENT
BEGIN:VEVENT
DTSTART;TZID=Europe/London:20260206T143000
DTEND;TZID=Europe/London:20260329T170000
DTSTAMP:20260420T005255
CREATED:20260126T163902Z
LAST-MODIFIED:20260201T174817Z
UID:10008846-1770388200-1774803600@wimbledonvillage.com
SUMMARY:Exhibition: Objects of Enchantment
DESCRIPTION:Thoughtfully presented and beautifully interpreted\, Objects of Enchantment encourages visitors to pause\, look closely and consider how the ordinary becomes extraordinary\, and what happens when a simple object – a teacup\, a toy\, a chair – is lifted from daily life and placed on a museum plinth or turned into a painting. \n  \nArtist in residence Alastair Gordon turns his eye to the Museum’s collection\, reinterpreting familiar objects and inviting viewers to reconsider what makes something worthy of attention\, revealing how context\, perception and imagination can turn the mundane into the marvellous. \n  \nAlastair is a local artist who creates meticulously detailed paintings. His practice draws on the 17th-century quodlibet tradition of trompe-l’oeil\, challenging viewers’ perceptions of authenticity and artifice. \n  \nWhere & When: Wimbledon Museum\, from Friday 6th February to Sunday 29th March on Fridays\, Saturdays & Sundays from 2:30pm to 5pm \n  \nBooking/Cost: Free entry\, no booking required.
URL:https://wimbledonvillage.com/event/exhibition-objects-of-enchantment/
ATTACH;FMTTYPE=image/jpeg:https://wimbledonvillage.com/wp-content/uploads/2026/01/Screenshot-2026-01-16-at-13.24.1.jpg
END:VEVENT
BEGIN:VEVENT
DTSTART;TZID=Europe/London:20260206T180000
DTEND;TZID=Europe/London:20260206T193000
DTSTAMP:20260420T005255
CREATED:20260119T183838Z
LAST-MODIFIED:20260119T183838Z
UID:10008847-1770400800-1770406200@wimbledonvillage.com
SUMMARY:California Wine Tasting @ Jeroboams
DESCRIPTION:Experience some of the hugely diverse wines of The Golden State. Explore some of the classic Californian styles that changed the wine world 50 years ago\, and some of the new wave of producers making innovative wines today. There will also be a few nibbles alongside. \n  \nWhere & When: Jeroboams\, Friday 6th February\, 6 – 7.30 pm \n  \nTickets: £45 pp. Buy on Eventbrite through the link below\, or purchase in store.
URL:https://wimbledonvillage.com/event/california-wine-tasting-jeroboams/
ATTACH;FMTTYPE=image/jpeg:https://wimbledonvillage.com/wp-content/uploads/2026/01/https-cdn.evbuc_.com-images-117-5.jpg
END:VEVENT
BEGIN:VEVENT
DTSTART;TZID=Europe/London:20260207T090000
DTEND;TZID=Europe/London:20260207T100000
DTSTAMP:20260420T005255
CREATED:20230819T151954Z
LAST-MODIFIED:20250831T130729Z
UID:10007573-1770454800-1770458400@wimbledonvillage.com
SUMMARY:Wimbledon Common Parkrun
DESCRIPTION:A free\, fun\, and friendly weekly 5k community event. Participants can choose to walk\, jog\, run\, volunteer or just spectate. \n  \nThe run starts from near the Windmill car park every Saturday at 9am. \n  \nJoin other runners and supporters for a post run coffee at the Windmill Cafe.
URL:https://wimbledonvillage.com/event/wimbledon-common-park-run/2026-02-07/
ATTACH;FMTTYPE=image/jpeg:https://wimbledonvillage.com/wp-content/uploads/2023/08/Wimbledon-Common-Parkrun-runners-enjoying-the-course.jpg
END:VEVENT
BEGIN:VEVENT
DTSTART;TZID=Europe/London:20260207T103000
DTEND;TZID=Europe/London:20260207T120000
DTSTAMP:20260420T005255
CREATED:20230819T155822Z
LAST-MODIFIED:20250831T132807Z
UID:10008265-1770460200-1770465600@wimbledonvillage.com
SUMMARY:Wimbledon Common and Village Walk & Talk
DESCRIPTION:A free and fun ‘walk and talk’ every Saturday morning around Wimbledon Common and Wimbledon Village. \n  \nWalk and talks are a chance for all generations to take a stroll\, chat\, meet friends and neighbours\, make new friends and enjoy their local area and green spaces together. From older adults to young children\, from buggies to beagles – everybody can join in. \n  \nNo booking\, no reservations\, just turn up and you will get a very warm welcome. \n  \nWhen & Where: 10.30am at the Wimbledon War Memorial on The Green\, at the corner of Parkside and The Causeway.
URL:https://wimbledonvillage.com/event/weekly-walk-talk/2026-02-07/
ATTACH;FMTTYPE=image/jpeg:https://wimbledonvillage.com/wp-content/uploads/2023/08/Walk-Talk-Wimbledon-Common-walkers-on-a-sunny-day.jpg
END:VEVENT
BEGIN:VEVENT
DTSTART;TZID=Europe/London:20260208T100000
DTEND;TZID=Europe/London:20260208T150000
DTSTAMP:20260420T005255
CREATED:20230819T162853Z
LAST-MODIFIED:20250831T125135Z
UID:10005762-1770544800-1770562800@wimbledonvillage.com
SUMMARY:Wimbledon Village Farmers' Market
DESCRIPTION:The Village Farmers’ Market serves up a range of fabulous farm fresh and local products along with a varied offering of ready to eat goodies every Sunday from 10am to 3pm on the Village High Street. Stalls rotate each week. \n  \nFollow The Wimbledon Village Farmers’ Market on Instagram or Facebook for more details.
URL:https://wimbledonvillage.com/event/wimbledon-village-farmers-market/2026-02-08/
ATTACH;FMTTYPE=image/jpeg:https://wimbledonvillage.com/wp-content/uploads/2023/08/Farmers-Market-vegetables.jpg
END:VEVENT
BEGIN:VEVENT
DTSTART;TZID=Europe/London:20260208T190000
DTEND;TZID=Europe/London:20260208T220000
DTSTAMP:20260420T005255
CREATED:20240108T125908Z
LAST-MODIFIED:20250831T125309Z
UID:10006454-1770577200-1770588000@wimbledonvillage.com
SUMMARY:Pub Quiz @ the Fire Stables
DESCRIPTION:Put your thinking hat on because this is a game for real players. Call your smartest friends and put together a winning team to answer questions about general knowledge\, music\, geography\, everything and nothing. A £50 bar tab is up for grabs each week. \n  \nWhere & When: Fire Stables\, every Sunday from 7 – 10 pm.
URL:https://wimbledonvillage.com/event/pub-quiz-the-fire-stables/2026-02-08/
ATTACH;FMTTYPE=image/jpeg:https://wimbledonvillage.com/wp-content/uploads/2024/01/rsz_pexels-elevate-1269025.jpg
END:VEVENT
BEGIN:VEVENT
DTSTART;TZID=Europe/London:20260209T133000
DTEND;TZID=Europe/London:20260209T150000
DTSTAMP:20260420T005255
CREATED:20251115T222907Z
LAST-MODIFIED:20260322T191634Z
UID:10008608-1770643800-1770649200@wimbledonvillage.com
SUMMARY:Prams & Pinot Wine Tasting
DESCRIPTION:A wine tasting welcoming all parents & prams. \n  \nEnjoy and learn about 4 seasonal wines accompanied with light nibbles\, in a relaxed and informal environment with plenty of pram space. Spittoons and a small changing table are available. \n  \nEnjoy an exclusive discount\, only available on the tasting day: Get 10% off your order when you purchase any of the wines tasted. \n  \nWhere & When: Friarwood Wines & Spirits on selected Mondays\, 1:30-3pm. Recommended arrival time\, 1.20pm \n  \nTickets: £25pp
URL:https://wimbledonvillage.com/event/prams-pinot-wine-tasting/2026-02-09/
ATTACH;FMTTYPE=image/png:https://wimbledonvillage.com/wp-content/uploads/2024/08/Mumdays-Wine-Tastings_2022.png
END:VEVENT
BEGIN:VEVENT
DTSTART;TZID=Europe/London:20260210T193000
DTEND;TZID=Europe/London:20260210T224500
DTSTAMP:20260420T005255
CREATED:20250922T102723Z
LAST-MODIFIED:20260202T082017Z
UID:10002230-1770751800-1770763500@wimbledonvillage.com
SUMMARY:Pub Quiz @ The Rose & Crown
DESCRIPTION:Grab your cleverest pals & put your knowledge to the test with fantastic quiz master Duncan at the weekly Rose & Crown pub quiz. \n  \nWhere & When: The Rose & Crown\, 55 High Street\, Wimbledon Village\, London SW19 5BA\, every Tuesday from 7.30 – 10.45 pm (except during the Wimbledon tennis fortnight).
URL:https://wimbledonvillage.com/event/rose-crown-pub-quiz-3/2026-02-10/
ATTACH;FMTTYPE=image/jpeg:https://wimbledonvillage.com/wp-content/uploads/2023/08/Rose-Crown-pub-quiz-image.jpg
END:VEVENT
BEGIN:VEVENT
DTSTART;TZID=Europe/London:20260211T190000
DTEND;TZID=Europe/London:20260211T220000
DTSTAMP:20260420T005255
CREATED:20240428T113530Z
LAST-MODIFIED:20250831T125653Z
UID:10006805-1770836400-1770847200@wimbledonvillage.com
SUMMARY:Pub Quiz @ The Dog & Fox
DESCRIPTION:Grab your team\, get your brain in gear and get quizzical at the Dog & Fox. \n  \nWhere & When: The Dog & Fox\, 24 High Street\, Wimbledon Village\, London SW19 5EA\, every Wednesday night\, 7 – 10 pm.
URL:https://wimbledonvillage.com/event/pub-quiz-the-dog-fox/2026-02-11/
ATTACH;FMTTYPE=image/png:https://wimbledonvillage.com/wp-content/uploads/2024/04/Dog-Fox-pub-quiz-image.png
END:VEVENT
BEGIN:VEVENT
DTSTART;TZID=Europe/London:20260211T193000
DTEND;TZID=Europe/London:20260211T213000
DTSTAMP:20260420T005255
CREATED:20251124T175441Z
LAST-MODIFIED:20260202T084836Z
UID:10008627-1770838200-1770845400@wimbledonvillage.com
SUMMARY:Me\, Myself & I: Self Portraiture Through the Ages
DESCRIPTION:A Lecture for The Arts Society Wimbledon by Jacky Klein \n  \nSelf-portraiture has created some of the most interesting and memorable images in art. This lecture examines this most personal and revealing of genres\, how depictions have shifted over time; likeness and ‘truth’\, and why artists have relentlessly made images of themselves in their explorations of the world.  From Michelangelo to Van Dyck to Rembrandt and many more\, we come right up to date\, looking at Kahlo\, Warhol\, to Marina Abramovic\, to explore what it means to make self-portraits today. \n  \nWhere & When: The Sacred Heart Church Hall on Wednesday 11th February at 8 pm (coffee from 7.30 pm). Also available on Zoom. \n  \nTickets: Members free. Visitors & guests: £10. See website for details.
URL:https://wimbledonvillage.com/event/me-myself-i-self-portraiture-through-the-ages/
ATTACH;FMTTYPE=image/jpeg:https://wimbledonvillage.com/wp-content/uploads/2025/11/Screenshot-2025-11-24-at-17.39.2.jpg
END:VEVENT
BEGIN:VEVENT
DTSTART;TZID=Europe/London:20260212T100000
DTEND;TZID=Europe/London:20260212T104500
DTSTAMP:20260420T005255
CREATED:20260108T173122Z
LAST-MODIFIED:20260108T173141Z
UID:10008844-1770890400-1770893100@wimbledonvillage.com
SUMMARY:Cuppa with a Copper
DESCRIPTION:The regular ‘Cuppa with a Copper’ sessions are designed to give local residents an opportunity to discuss any local policing issues. \n  \nWhere & When: Rose & Crown\, @ 10 – 10.45 am on Thursday 12th February \n  \nBooking: Drop-in session\, booking not required
URL:https://wimbledonvillage.com/event/cuppa-with-a-coppa-2/
ATTACH;FMTTYPE=image/jpeg:https://wimbledonvillage.com/wp-content/uploads/2023/09/Police-Drop-In-Surgery-image.jpg
END:VEVENT
BEGIN:VEVENT
DTSTART;TZID=Europe/London:20260212T190000
DTEND;TZID=Europe/London:20260212T210000
DTSTAMP:20260420T005255
CREATED:20260205T132619Z
LAST-MODIFIED:20260205T132619Z
UID:10008887-1770922800-1770930000@wimbledonvillage.com
SUMMARY:Bring Up The Music Love
DESCRIPTION:This Valentines’s explore the endless theme of LOVE in all its forms in all genres of music at this unique concert which closes the gap between the musical genres. \n\n\n\n  \nTen exceptional performers will allow the listeners to discover the fluidity and unity of music – from classical through jazz\, country\, folk to rock and pop. \n\n  \nWhere & When: St John the Baptist on Thursday 12th February\, 7 – 9 pm \n  \n\n\n\n\n\nTickets: £25
URL:https://wimbledonvillage.com/event/bring-up-the-music-love/
ATTACH;FMTTYPE=image/jpeg:https://wimbledonvillage.com/wp-content/uploads/2026/02/Screenshot-2026-02-05-at-13.11.2.jpg
END:VEVENT
BEGIN:VEVENT
DTSTART;TZID=Europe/London:20260213T100000
DTEND;TZID=Europe/London:20260215T190000
DTSTAMP:20260420T005256
CREATED:20260206T140203Z
LAST-MODIFIED:20260206T140203Z
UID:10008888-1770976800-1771182000@wimbledonvillage.com
SUMMARY:Valentine's Weekend Whisky and Wine Tasting @ Amathus
DESCRIPTION:Looking for that perfect Valentine’s Day gift? Get to the heart of the matter – drop in to Amathus Wimbledon for their free Valentine’s whisky and wine sampling. \n  \nThe Heart Cut – Saturday 14th February\, 12pm to 4pm \n  \nGift ideas for the whisky lover in your life … enjoy a guided whisky and chocolate tasting with The Heart Cut – award-winning Independent Bottler. The Heart Cut co-founder and whisky expert\, Georgie Bell\, will pair three of their single-cask whiskies with chocolate\, exploring how sweetness\, texture and depth unfold together. \n\n  \n\nChâteau Vieux Moulin “I Love You” Cinsault – Friday 13th to Sunday 15th February\, 10am to 7pm \n  \nGifts for the natural wine lover … try the aptly named “I Love You”\, a seductive\, light-bodied\, silky red – organic with no added sulphur. \n\n  \n\nQuady Elysium Black Muscat – Friday 13th to Sunday 15th February\, 10am to 7pm \n  \nGifts for the sweet wine lover … sample the gorgeous “Elysium”\, a red dessert wine with lychee-rose aromas and cherry flavours. Delicious with red-fruit and dark-chocolate desserts. \n\n  \n\nWhere & When: Amathus\, Friday 13th February 2026 to Sunday 15th February. See times for each tasting above. \n  \nTickets: Free\, walk-in event. No booking required.
URL:https://wimbledonvillage.com/event/valentines-weekend-whisky-and-wine-tasting-amathus/
ATTACH;FMTTYPE=image/jpeg:https://wimbledonvillage.com/wp-content/uploads/2026/02/pexels-enginakyurt-6690531.jpg
END:VEVENT
BEGIN:VEVENT
DTSTART;TZID=Europe/London:20260214T090000
DTEND;TZID=Europe/London:20260214T100000
DTSTAMP:20260420T005256
CREATED:20230819T151954Z
LAST-MODIFIED:20250831T130729Z
UID:10007574-1771059600-1771063200@wimbledonvillage.com
SUMMARY:Wimbledon Common Parkrun
DESCRIPTION:A free\, fun\, and friendly weekly 5k community event. Participants can choose to walk\, jog\, run\, volunteer or just spectate. \n  \nThe run starts from near the Windmill car park every Saturday at 9am. \n  \nJoin other runners and supporters for a post run coffee at the Windmill Cafe.
URL:https://wimbledonvillage.com/event/wimbledon-common-park-run/2026-02-14/
ATTACH;FMTTYPE=image/jpeg:https://wimbledonvillage.com/wp-content/uploads/2023/08/Wimbledon-Common-Parkrun-runners-enjoying-the-course.jpg
END:VEVENT
END:VCALENDAR