BEGIN:VCALENDAR
VERSION:2.0
PRODID:-//Wimbledon Village - ECPv6.15.20//NONSGML v1.0//EN
CALSCALE:GREGORIAN
METHOD:PUBLISH
X-ORIGINAL-URL:https://wimbledonvillage.com
X-WR-CALDESC:Events for Wimbledon Village
REFRESH-INTERVAL;VALUE=DURATION:PT1H
X-Robots-Tag:noindex
X-PUBLISHED-TTL:PT1H
BEGIN:VTIMEZONE
TZID:Europe/London
BEGIN:DAYLIGHT
TZOFFSETFROM:+0000
TZOFFSETTO:+0100
TZNAME:BST
DTSTART:20290325T010000
END:DAYLIGHT
BEGIN:STANDARD
TZOFFSETFROM:+0100
TZOFFSETTO:+0000
TZNAME:GMT
DTSTART:20291028T010000
END:STANDARD
BEGIN:DAYLIGHT
TZOFFSETFROM:+0000
TZOFFSETTO:+0100
TZNAME:BST
DTSTART:20300331T010000
END:DAYLIGHT
BEGIN:STANDARD
TZOFFSETFROM:+0100
TZOFFSETTO:+0000
TZNAME:GMT
DTSTART:20301027T010000
END:STANDARD
BEGIN:DAYLIGHT
TZOFFSETFROM:+0000
TZOFFSETTO:+0100
TZNAME:BST
DTSTART:20310330T010000
END:DAYLIGHT
BEGIN:STANDARD
TZOFFSETFROM:+0100
TZOFFSETTO:+0000
TZNAME:GMT
DTSTART:20311026T010000
END:STANDARD
END:VTIMEZONE
BEGIN:VEVENT
DTSTART;TZID=Europe/London:20301008T200000
DTEND;TZID=Europe/London:20301008T220000
DTSTAMP:20260421T071402
CREATED:20260301T153138Z
LAST-MODIFIED:20260301T153254Z
UID:10009147-1917720000-1917727200@wimbledonvillage.com
SUMMARY:Pub Quiz @ The Hand in Hand
DESCRIPTION:Get your brainiest mates together\, come up with the funniest team name and put your trivia knowledge to the test at the Hand in Hands’ weekly quiz for a chance to win one of the lovely prizes on offer. \n  \nQuizmaster John Spain will put you through your paces from general knowledge to music and sport. You’ve got to be in it\, to win it! \n  \nWhere & When: Hand in Hand\, every Tuesday from 8 -10 pm.
URL:https://wimbledonvillage.com/event/pub-quiz-the-hand-in-hand/2030-10-08/
ATTACH;FMTTYPE=image/jpeg:https://wimbledonvillage.com/wp-content/uploads/2024/04/Screenshot-2026-03-01-at-15.29.0.jpg
END:VEVENT
BEGIN:VEVENT
DTSTART;TZID=Europe/London:20301012T140000
DTEND;TZID=Europe/London:20301012T150000
DTSTAMP:20260421T071402
CREATED:20260104T133826Z
LAST-MODIFIED:20260104T133826Z
UID:10008839-1918044000-1918047600@wimbledonvillage.com
SUMMARY:Wimbledon Village Stables Open Day
DESCRIPTION:On the second Saturday of every month\, the Village Stables invites visitors to explore the yard\, meet the horses\, and see how everything runs behind the scenes. \n  \nIt’s a great opportunity to learn about membership options\, and see the Equicise horse simulator\, designed for all ages and abilities. Plus children will love meeting Mr Fudge\, the friendly Shetland pony! \n  \nWhere & When: Wimbledon Village Stables on the second Saturday of every month\, from 2 – 3 pm. \n  \nBooking: No booking required – just turn up and enjoy a relaxed\, informative afternoon.
URL:https://wimbledonvillage.com/event/wimbledon-village-stables-open-day/2030-10-12/
ATTACH;FMTTYPE=image/jpeg:https://wimbledonvillage.com/wp-content/uploads/2025/03/IMG_7836.jpg
END:VEVENT
BEGIN:VEVENT
DTSTART;TZID=Europe/London:20301013T190000
DTEND;TZID=Europe/London:20301013T220000
DTSTAMP:20260421T071402
CREATED:20240108T125908Z
LAST-MODIFIED:20250831T125309Z
UID:10008755-1918148400-1918159200@wimbledonvillage.com
SUMMARY:Pub Quiz @ the Fire Stables
DESCRIPTION:Put your thinking hat on because this is a game for real players. Call your smartest friends and put together a winning team to answer questions about general knowledge\, music\, geography\, everything and nothing. A £50 bar tab is up for grabs each week. \n  \nWhere & When: Fire Stables\, every Sunday from 7 – 10 pm.
URL:https://wimbledonvillage.com/event/pub-quiz-the-fire-stables/2030-10-13/
ATTACH;FMTTYPE=image/jpeg:https://wimbledonvillage.com/wp-content/uploads/2024/01/rsz_pexels-elevate-1269025.jpg
END:VEVENT
BEGIN:VEVENT
DTSTART;TZID=Europe/London:20301015T193000
DTEND;TZID=Europe/London:20301015T224500
DTSTAMP:20260421T071402
CREATED:20250922T102723Z
LAST-MODIFIED:20260202T082017Z
UID:10008863-1918323000-1918334700@wimbledonvillage.com
SUMMARY:Pub Quiz @ The Rose & Crown
DESCRIPTION:Grab your cleverest pals & put your knowledge to the test with fantastic quiz master Duncan at the weekly Rose & Crown pub quiz. \n  \nWhere & When: The Rose & Crown\, 55 High Street\, Wimbledon Village\, London SW19 5BA\, every Tuesday from 7.30 – 10.45 pm (except during the Wimbledon tennis fortnight).
URL:https://wimbledonvillage.com/event/rose-crown-pub-quiz-3/2030-10-15/
ATTACH;FMTTYPE=image/jpeg:https://wimbledonvillage.com/wp-content/uploads/2023/08/Rose-Crown-pub-quiz-image.jpg
END:VEVENT
BEGIN:VEVENT
DTSTART;TZID=Europe/London:20301015T200000
DTEND;TZID=Europe/London:20301015T220000
DTSTAMP:20260421T071402
CREATED:20260301T153138Z
LAST-MODIFIED:20260301T153254Z
UID:10009148-1918324800-1918332000@wimbledonvillage.com
SUMMARY:Pub Quiz @ The Hand in Hand
DESCRIPTION:Get your brainiest mates together\, come up with the funniest team name and put your trivia knowledge to the test at the Hand in Hands’ weekly quiz for a chance to win one of the lovely prizes on offer. \n  \nQuizmaster John Spain will put you through your paces from general knowledge to music and sport. You’ve got to be in it\, to win it! \n  \nWhere & When: Hand in Hand\, every Tuesday from 8 -10 pm.
URL:https://wimbledonvillage.com/event/pub-quiz-the-hand-in-hand/2030-10-15/
ATTACH;FMTTYPE=image/jpeg:https://wimbledonvillage.com/wp-content/uploads/2024/04/Screenshot-2026-03-01-at-15.29.0.jpg
END:VEVENT
BEGIN:VEVENT
DTSTART;TZID=Europe/London:20301020T190000
DTEND;TZID=Europe/London:20301020T220000
DTSTAMP:20260421T071402
CREATED:20240108T125908Z
LAST-MODIFIED:20250831T125309Z
UID:10008756-1918753200-1918764000@wimbledonvillage.com
SUMMARY:Pub Quiz @ the Fire Stables
DESCRIPTION:Put your thinking hat on because this is a game for real players. Call your smartest friends and put together a winning team to answer questions about general knowledge\, music\, geography\, everything and nothing. A £50 bar tab is up for grabs each week. \n  \nWhere & When: Fire Stables\, every Sunday from 7 – 10 pm.
URL:https://wimbledonvillage.com/event/pub-quiz-the-fire-stables/2030-10-20/
ATTACH;FMTTYPE=image/jpeg:https://wimbledonvillage.com/wp-content/uploads/2024/01/rsz_pexels-elevate-1269025.jpg
END:VEVENT
BEGIN:VEVENT
DTSTART;TZID=Europe/London:20301022T193000
DTEND;TZID=Europe/London:20301022T224500
DTSTAMP:20260421T071402
CREATED:20250922T102723Z
LAST-MODIFIED:20260202T082017Z
UID:10008864-1918927800-1918939500@wimbledonvillage.com
SUMMARY:Pub Quiz @ The Rose & Crown
DESCRIPTION:Grab your cleverest pals & put your knowledge to the test with fantastic quiz master Duncan at the weekly Rose & Crown pub quiz. \n  \nWhere & When: The Rose & Crown\, 55 High Street\, Wimbledon Village\, London SW19 5BA\, every Tuesday from 7.30 – 10.45 pm (except during the Wimbledon tennis fortnight).
URL:https://wimbledonvillage.com/event/rose-crown-pub-quiz-3/2030-10-22/
ATTACH;FMTTYPE=image/jpeg:https://wimbledonvillage.com/wp-content/uploads/2023/08/Rose-Crown-pub-quiz-image.jpg
END:VEVENT
BEGIN:VEVENT
DTSTART;TZID=Europe/London:20301022T200000
DTEND;TZID=Europe/London:20301022T220000
DTSTAMP:20260421T071402
CREATED:20260301T153138Z
LAST-MODIFIED:20260301T153254Z
UID:10009149-1918929600-1918936800@wimbledonvillage.com
SUMMARY:Pub Quiz @ The Hand in Hand
DESCRIPTION:Get your brainiest mates together\, come up with the funniest team name and put your trivia knowledge to the test at the Hand in Hands’ weekly quiz for a chance to win one of the lovely prizes on offer. \n  \nQuizmaster John Spain will put you through your paces from general knowledge to music and sport. You’ve got to be in it\, to win it! \n  \nWhere & When: Hand in Hand\, every Tuesday from 8 -10 pm.
URL:https://wimbledonvillage.com/event/pub-quiz-the-hand-in-hand/2030-10-22/
ATTACH;FMTTYPE=image/jpeg:https://wimbledonvillage.com/wp-content/uploads/2024/04/Screenshot-2026-03-01-at-15.29.0.jpg
END:VEVENT
BEGIN:VEVENT
DTSTART;TZID=Europe/London:20301027T190000
DTEND;TZID=Europe/London:20301027T220000
DTSTAMP:20260421T071402
CREATED:20240108T125908Z
LAST-MODIFIED:20250831T125309Z
UID:10008757-1919358000-1919368800@wimbledonvillage.com
SUMMARY:Pub Quiz @ the Fire Stables
DESCRIPTION:Put your thinking hat on because this is a game for real players. Call your smartest friends and put together a winning team to answer questions about general knowledge\, music\, geography\, everything and nothing. A £50 bar tab is up for grabs each week. \n  \nWhere & When: Fire Stables\, every Sunday from 7 – 10 pm.
URL:https://wimbledonvillage.com/event/pub-quiz-the-fire-stables/2030-10-27/
ATTACH;FMTTYPE=image/jpeg:https://wimbledonvillage.com/wp-content/uploads/2024/01/rsz_pexels-elevate-1269025.jpg
END:VEVENT
BEGIN:VEVENT
DTSTART;TZID=Europe/London:20301029T193000
DTEND;TZID=Europe/London:20301029T224500
DTSTAMP:20260421T071402
CREATED:20250922T102723Z
LAST-MODIFIED:20260202T082017Z
UID:10008865-1919532600-1919544300@wimbledonvillage.com
SUMMARY:Pub Quiz @ The Rose & Crown
DESCRIPTION:Grab your cleverest pals & put your knowledge to the test with fantastic quiz master Duncan at the weekly Rose & Crown pub quiz. \n  \nWhere & When: The Rose & Crown\, 55 High Street\, Wimbledon Village\, London SW19 5BA\, every Tuesday from 7.30 – 10.45 pm (except during the Wimbledon tennis fortnight).
URL:https://wimbledonvillage.com/event/rose-crown-pub-quiz-3/2030-10-29/
ATTACH;FMTTYPE=image/jpeg:https://wimbledonvillage.com/wp-content/uploads/2023/08/Rose-Crown-pub-quiz-image.jpg
END:VEVENT
BEGIN:VEVENT
DTSTART;TZID=Europe/London:20301029T200000
DTEND;TZID=Europe/London:20301029T220000
DTSTAMP:20260421T071402
CREATED:20260301T153138Z
LAST-MODIFIED:20260301T153254Z
UID:10009150-1919534400-1919541600@wimbledonvillage.com
SUMMARY:Pub Quiz @ The Hand in Hand
DESCRIPTION:Get your brainiest mates together\, come up with the funniest team name and put your trivia knowledge to the test at the Hand in Hands’ weekly quiz for a chance to win one of the lovely prizes on offer. \n  \nQuizmaster John Spain will put you through your paces from general knowledge to music and sport. You’ve got to be in it\, to win it! \n  \nWhere & When: Hand in Hand\, every Tuesday from 8 -10 pm.
URL:https://wimbledonvillage.com/event/pub-quiz-the-hand-in-hand/2030-10-29/
ATTACH;FMTTYPE=image/jpeg:https://wimbledonvillage.com/wp-content/uploads/2024/04/Screenshot-2026-03-01-at-15.29.0.jpg
END:VEVENT
BEGIN:VEVENT
DTSTART;TZID=Europe/London:20301103T080000
DTEND;TZID=Europe/London:20301103T110000
DTSTAMP:20260421T071402
CREATED:20260104T121718Z
LAST-MODIFIED:20260104T121848Z
UID:10008746-1919923200-1919934000@wimbledonvillage.com
SUMMARY:Southside Hustle Classic Car Meet
DESCRIPTION:A perfect morning out for car enthusiasts\, this informal monthly gathering of classic car owners in Wimbledon Village features a stunning and eclectic array of cars\, some incredibly rare. \n  \nWhere & When: Wimbledon Common Southside at the Village end\, near the Farmer’s Market\, from 8am to around 11am on the first Sunday of each month. \n  \nImage Credit: @paolojgibelli
URL:https://wimbledonvillage.com/event/southside-hustle-classic-car-meet/2030-11-03/
ATTACH;FMTTYPE=image/jpeg:https://wimbledonvillage.com/wp-content/uploads/2025/05/470221591_18338295316150563_9185.jpg
END:VEVENT
BEGIN:VEVENT
DTSTART;TZID=Europe/London:20301103T190000
DTEND;TZID=Europe/London:20301103T220000
DTSTAMP:20260421T071402
CREATED:20240108T125908Z
LAST-MODIFIED:20250831T125309Z
UID:10008758-1919962800-1919973600@wimbledonvillage.com
SUMMARY:Pub Quiz @ the Fire Stables
DESCRIPTION:Put your thinking hat on because this is a game for real players. Call your smartest friends and put together a winning team to answer questions about general knowledge\, music\, geography\, everything and nothing. A £50 bar tab is up for grabs each week. \n  \nWhere & When: Fire Stables\, every Sunday from 7 – 10 pm.
URL:https://wimbledonvillage.com/event/pub-quiz-the-fire-stables/2030-11-03/
ATTACH;FMTTYPE=image/jpeg:https://wimbledonvillage.com/wp-content/uploads/2024/01/rsz_pexels-elevate-1269025.jpg
END:VEVENT
BEGIN:VEVENT
DTSTART;TZID=Europe/London:20301105T193000
DTEND;TZID=Europe/London:20301105T224500
DTSTAMP:20260421T071402
CREATED:20250922T102723Z
LAST-MODIFIED:20260202T082017Z
UID:10008866-1920137400-1920149100@wimbledonvillage.com
SUMMARY:Pub Quiz @ The Rose & Crown
DESCRIPTION:Grab your cleverest pals & put your knowledge to the test with fantastic quiz master Duncan at the weekly Rose & Crown pub quiz. \n  \nWhere & When: The Rose & Crown\, 55 High Street\, Wimbledon Village\, London SW19 5BA\, every Tuesday from 7.30 – 10.45 pm (except during the Wimbledon tennis fortnight).
URL:https://wimbledonvillage.com/event/rose-crown-pub-quiz-3/2030-11-05/
ATTACH;FMTTYPE=image/jpeg:https://wimbledonvillage.com/wp-content/uploads/2023/08/Rose-Crown-pub-quiz-image.jpg
END:VEVENT
BEGIN:VEVENT
DTSTART;TZID=Europe/London:20301105T200000
DTEND;TZID=Europe/London:20301105T220000
DTSTAMP:20260421T071402
CREATED:20260301T153138Z
LAST-MODIFIED:20260301T153254Z
UID:10009151-1920139200-1920146400@wimbledonvillage.com
SUMMARY:Pub Quiz @ The Hand in Hand
DESCRIPTION:Get your brainiest mates together\, come up with the funniest team name and put your trivia knowledge to the test at the Hand in Hands’ weekly quiz for a chance to win one of the lovely prizes on offer. \n  \nQuizmaster John Spain will put you through your paces from general knowledge to music and sport. You’ve got to be in it\, to win it! \n  \nWhere & When: Hand in Hand\, every Tuesday from 8 -10 pm.
URL:https://wimbledonvillage.com/event/pub-quiz-the-hand-in-hand/2030-11-05/
ATTACH;FMTTYPE=image/jpeg:https://wimbledonvillage.com/wp-content/uploads/2024/04/Screenshot-2026-03-01-at-15.29.0.jpg
END:VEVENT
BEGIN:VEVENT
DTSTART;TZID=Europe/London:20301109T140000
DTEND;TZID=Europe/London:20301109T150000
DTSTAMP:20260421T071402
CREATED:20260104T133826Z
LAST-MODIFIED:20260104T133826Z
UID:10008840-1920463200-1920466800@wimbledonvillage.com
SUMMARY:Wimbledon Village Stables Open Day
DESCRIPTION:On the second Saturday of every month\, the Village Stables invites visitors to explore the yard\, meet the horses\, and see how everything runs behind the scenes. \n  \nIt’s a great opportunity to learn about membership options\, and see the Equicise horse simulator\, designed for all ages and abilities. Plus children will love meeting Mr Fudge\, the friendly Shetland pony! \n  \nWhere & When: Wimbledon Village Stables on the second Saturday of every month\, from 2 – 3 pm. \n  \nBooking: No booking required – just turn up and enjoy a relaxed\, informative afternoon.
URL:https://wimbledonvillage.com/event/wimbledon-village-stables-open-day/2030-11-09/
ATTACH;FMTTYPE=image/jpeg:https://wimbledonvillage.com/wp-content/uploads/2025/03/IMG_7836.jpg
END:VEVENT
BEGIN:VEVENT
DTSTART;TZID=Europe/London:20301110T190000
DTEND;TZID=Europe/London:20301110T220000
DTSTAMP:20260421T071402
CREATED:20240108T125908Z
LAST-MODIFIED:20250831T125309Z
UID:10008759-1920567600-1920578400@wimbledonvillage.com
SUMMARY:Pub Quiz @ the Fire Stables
DESCRIPTION:Put your thinking hat on because this is a game for real players. Call your smartest friends and put together a winning team to answer questions about general knowledge\, music\, geography\, everything and nothing. A £50 bar tab is up for grabs each week. \n  \nWhere & When: Fire Stables\, every Sunday from 7 – 10 pm.
URL:https://wimbledonvillage.com/event/pub-quiz-the-fire-stables/2030-11-10/
ATTACH;FMTTYPE=image/jpeg:https://wimbledonvillage.com/wp-content/uploads/2024/01/rsz_pexels-elevate-1269025.jpg
END:VEVENT
BEGIN:VEVENT
DTSTART;TZID=Europe/London:20301112T193000
DTEND;TZID=Europe/London:20301112T224500
DTSTAMP:20260421T071402
CREATED:20250922T102723Z
LAST-MODIFIED:20260202T082017Z
UID:10008867-1920742200-1920753900@wimbledonvillage.com
SUMMARY:Pub Quiz @ The Rose & Crown
DESCRIPTION:Grab your cleverest pals & put your knowledge to the test with fantastic quiz master Duncan at the weekly Rose & Crown pub quiz. \n  \nWhere & When: The Rose & Crown\, 55 High Street\, Wimbledon Village\, London SW19 5BA\, every Tuesday from 7.30 – 10.45 pm (except during the Wimbledon tennis fortnight).
URL:https://wimbledonvillage.com/event/rose-crown-pub-quiz-3/2030-11-12/
ATTACH;FMTTYPE=image/jpeg:https://wimbledonvillage.com/wp-content/uploads/2023/08/Rose-Crown-pub-quiz-image.jpg
END:VEVENT
BEGIN:VEVENT
DTSTART;TZID=Europe/London:20301112T200000
DTEND;TZID=Europe/London:20301112T220000
DTSTAMP:20260421T071402
CREATED:20260301T153138Z
LAST-MODIFIED:20260301T153254Z
UID:10009152-1920744000-1920751200@wimbledonvillage.com
SUMMARY:Pub Quiz @ The Hand in Hand
DESCRIPTION:Get your brainiest mates together\, come up with the funniest team name and put your trivia knowledge to the test at the Hand in Hands’ weekly quiz for a chance to win one of the lovely prizes on offer. \n  \nQuizmaster John Spain will put you through your paces from general knowledge to music and sport. You’ve got to be in it\, to win it! \n  \nWhere & When: Hand in Hand\, every Tuesday from 8 -10 pm.
URL:https://wimbledonvillage.com/event/pub-quiz-the-hand-in-hand/2030-11-12/
ATTACH;FMTTYPE=image/jpeg:https://wimbledonvillage.com/wp-content/uploads/2024/04/Screenshot-2026-03-01-at-15.29.0.jpg
END:VEVENT
BEGIN:VEVENT
DTSTART;TZID=Europe/London:20301117T190000
DTEND;TZID=Europe/London:20301117T220000
DTSTAMP:20260421T071402
CREATED:20240108T125908Z
LAST-MODIFIED:20250831T125309Z
UID:10008760-1921172400-1921183200@wimbledonvillage.com
SUMMARY:Pub Quiz @ the Fire Stables
DESCRIPTION:Put your thinking hat on because this is a game for real players. Call your smartest friends and put together a winning team to answer questions about general knowledge\, music\, geography\, everything and nothing. A £50 bar tab is up for grabs each week. \n  \nWhere & When: Fire Stables\, every Sunday from 7 – 10 pm.
URL:https://wimbledonvillage.com/event/pub-quiz-the-fire-stables/2030-11-17/
ATTACH;FMTTYPE=image/jpeg:https://wimbledonvillage.com/wp-content/uploads/2024/01/rsz_pexels-elevate-1269025.jpg
END:VEVENT
BEGIN:VEVENT
DTSTART;TZID=Europe/London:20301119T193000
DTEND;TZID=Europe/London:20301119T224500
DTSTAMP:20260421T071402
CREATED:20250922T102723Z
LAST-MODIFIED:20260202T082017Z
UID:10008868-1921347000-1921358700@wimbledonvillage.com
SUMMARY:Pub Quiz @ The Rose & Crown
DESCRIPTION:Grab your cleverest pals & put your knowledge to the test with fantastic quiz master Duncan at the weekly Rose & Crown pub quiz. \n  \nWhere & When: The Rose & Crown\, 55 High Street\, Wimbledon Village\, London SW19 5BA\, every Tuesday from 7.30 – 10.45 pm (except during the Wimbledon tennis fortnight).
URL:https://wimbledonvillage.com/event/rose-crown-pub-quiz-3/2030-11-19/
ATTACH;FMTTYPE=image/jpeg:https://wimbledonvillage.com/wp-content/uploads/2023/08/Rose-Crown-pub-quiz-image.jpg
END:VEVENT
BEGIN:VEVENT
DTSTART;TZID=Europe/London:20301119T200000
DTEND;TZID=Europe/London:20301119T220000
DTSTAMP:20260421T071402
CREATED:20260301T153138Z
LAST-MODIFIED:20260301T153254Z
UID:10009153-1921348800-1921356000@wimbledonvillage.com
SUMMARY:Pub Quiz @ The Hand in Hand
DESCRIPTION:Get your brainiest mates together\, come up with the funniest team name and put your trivia knowledge to the test at the Hand in Hands’ weekly quiz for a chance to win one of the lovely prizes on offer. \n  \nQuizmaster John Spain will put you through your paces from general knowledge to music and sport. You’ve got to be in it\, to win it! \n  \nWhere & When: Hand in Hand\, every Tuesday from 8 -10 pm.
URL:https://wimbledonvillage.com/event/pub-quiz-the-hand-in-hand/2030-11-19/
ATTACH;FMTTYPE=image/jpeg:https://wimbledonvillage.com/wp-content/uploads/2024/04/Screenshot-2026-03-01-at-15.29.0.jpg
END:VEVENT
BEGIN:VEVENT
DTSTART;TZID=Europe/London:20301124T190000
DTEND;TZID=Europe/London:20301124T220000
DTSTAMP:20260421T071402
CREATED:20240108T125908Z
LAST-MODIFIED:20250831T125309Z
UID:10008761-1921777200-1921788000@wimbledonvillage.com
SUMMARY:Pub Quiz @ the Fire Stables
DESCRIPTION:Put your thinking hat on because this is a game for real players. Call your smartest friends and put together a winning team to answer questions about general knowledge\, music\, geography\, everything and nothing. A £50 bar tab is up for grabs each week. \n  \nWhere & When: Fire Stables\, every Sunday from 7 – 10 pm.
URL:https://wimbledonvillage.com/event/pub-quiz-the-fire-stables/2030-11-24/
ATTACH;FMTTYPE=image/jpeg:https://wimbledonvillage.com/wp-content/uploads/2024/01/rsz_pexels-elevate-1269025.jpg
END:VEVENT
BEGIN:VEVENT
DTSTART;TZID=Europe/London:20301126T193000
DTEND;TZID=Europe/London:20301126T224500
DTSTAMP:20260421T071402
CREATED:20250922T102723Z
LAST-MODIFIED:20260202T082017Z
UID:10008869-1921951800-1921963500@wimbledonvillage.com
SUMMARY:Pub Quiz @ The Rose & Crown
DESCRIPTION:Grab your cleverest pals & put your knowledge to the test with fantastic quiz master Duncan at the weekly Rose & Crown pub quiz. \n  \nWhere & When: The Rose & Crown\, 55 High Street\, Wimbledon Village\, London SW19 5BA\, every Tuesday from 7.30 – 10.45 pm (except during the Wimbledon tennis fortnight).
URL:https://wimbledonvillage.com/event/rose-crown-pub-quiz-3/2030-11-26/
ATTACH;FMTTYPE=image/jpeg:https://wimbledonvillage.com/wp-content/uploads/2023/08/Rose-Crown-pub-quiz-image.jpg
END:VEVENT
BEGIN:VEVENT
DTSTART;TZID=Europe/London:20301126T200000
DTEND;TZID=Europe/London:20301126T220000
DTSTAMP:20260421T071402
CREATED:20260301T153138Z
LAST-MODIFIED:20260301T153254Z
UID:10009154-1921953600-1921960800@wimbledonvillage.com
SUMMARY:Pub Quiz @ The Hand in Hand
DESCRIPTION:Get your brainiest mates together\, come up with the funniest team name and put your trivia knowledge to the test at the Hand in Hands’ weekly quiz for a chance to win one of the lovely prizes on offer. \n  \nQuizmaster John Spain will put you through your paces from general knowledge to music and sport. You’ve got to be in it\, to win it! \n  \nWhere & When: Hand in Hand\, every Tuesday from 8 -10 pm.
URL:https://wimbledonvillage.com/event/pub-quiz-the-hand-in-hand/2030-11-26/
ATTACH;FMTTYPE=image/jpeg:https://wimbledonvillage.com/wp-content/uploads/2024/04/Screenshot-2026-03-01-at-15.29.0.jpg
END:VEVENT
BEGIN:VEVENT
DTSTART;TZID=Europe/London:20301201T080000
DTEND;TZID=Europe/London:20301201T110000
DTSTAMP:20260421T071402
CREATED:20260104T121718Z
LAST-MODIFIED:20260104T121848Z
UID:10008747-1922342400-1922353200@wimbledonvillage.com
SUMMARY:Southside Hustle Classic Car Meet
DESCRIPTION:A perfect morning out for car enthusiasts\, this informal monthly gathering of classic car owners in Wimbledon Village features a stunning and eclectic array of cars\, some incredibly rare. \n  \nWhere & When: Wimbledon Common Southside at the Village end\, near the Farmer’s Market\, from 8am to around 11am on the first Sunday of each month. \n  \nImage Credit: @paolojgibelli
URL:https://wimbledonvillage.com/event/southside-hustle-classic-car-meet/2030-12-01/
ATTACH;FMTTYPE=image/jpeg:https://wimbledonvillage.com/wp-content/uploads/2025/05/470221591_18338295316150563_9185.jpg
END:VEVENT
BEGIN:VEVENT
DTSTART;TZID=Europe/London:20301201T190000
DTEND;TZID=Europe/London:20301201T220000
DTSTAMP:20260421T071402
CREATED:20240108T125908Z
LAST-MODIFIED:20250831T125309Z
UID:10008762-1922382000-1922392800@wimbledonvillage.com
SUMMARY:Pub Quiz @ the Fire Stables
DESCRIPTION:Put your thinking hat on because this is a game for real players. Call your smartest friends and put together a winning team to answer questions about general knowledge\, music\, geography\, everything and nothing. A £50 bar tab is up for grabs each week. \n  \nWhere & When: Fire Stables\, every Sunday from 7 – 10 pm.
URL:https://wimbledonvillage.com/event/pub-quiz-the-fire-stables/2030-12-01/
ATTACH;FMTTYPE=image/jpeg:https://wimbledonvillage.com/wp-content/uploads/2024/01/rsz_pexels-elevate-1269025.jpg
END:VEVENT
BEGIN:VEVENT
DTSTART;TZID=Europe/London:20301203T193000
DTEND;TZID=Europe/London:20301203T224500
DTSTAMP:20260421T071402
CREATED:20250922T102723Z
LAST-MODIFIED:20260202T082017Z
UID:10008870-1922556600-1922568300@wimbledonvillage.com
SUMMARY:Pub Quiz @ The Rose & Crown
DESCRIPTION:Grab your cleverest pals & put your knowledge to the test with fantastic quiz master Duncan at the weekly Rose & Crown pub quiz. \n  \nWhere & When: The Rose & Crown\, 55 High Street\, Wimbledon Village\, London SW19 5BA\, every Tuesday from 7.30 – 10.45 pm (except during the Wimbledon tennis fortnight).
URL:https://wimbledonvillage.com/event/rose-crown-pub-quiz-3/2030-12-03/
ATTACH;FMTTYPE=image/jpeg:https://wimbledonvillage.com/wp-content/uploads/2023/08/Rose-Crown-pub-quiz-image.jpg
END:VEVENT
BEGIN:VEVENT
DTSTART;TZID=Europe/London:20301203T200000
DTEND;TZID=Europe/London:20301203T220000
DTSTAMP:20260421T071402
CREATED:20260301T153138Z
LAST-MODIFIED:20260301T153254Z
UID:10009155-1922558400-1922565600@wimbledonvillage.com
SUMMARY:Pub Quiz @ The Hand in Hand
DESCRIPTION:Get your brainiest mates together\, come up with the funniest team name and put your trivia knowledge to the test at the Hand in Hands’ weekly quiz for a chance to win one of the lovely prizes on offer. \n  \nQuizmaster John Spain will put you through your paces from general knowledge to music and sport. You’ve got to be in it\, to win it! \n  \nWhere & When: Hand in Hand\, every Tuesday from 8 -10 pm.
URL:https://wimbledonvillage.com/event/pub-quiz-the-hand-in-hand/2030-12-03/
ATTACH;FMTTYPE=image/jpeg:https://wimbledonvillage.com/wp-content/uploads/2024/04/Screenshot-2026-03-01-at-15.29.0.jpg
END:VEVENT
BEGIN:VEVENT
DTSTART;TZID=Europe/London:20301208T190000
DTEND;TZID=Europe/London:20301208T220000
DTSTAMP:20260421T071402
CREATED:20240108T125908Z
LAST-MODIFIED:20250831T125309Z
UID:10008763-1922986800-1922997600@wimbledonvillage.com
SUMMARY:Pub Quiz @ the Fire Stables
DESCRIPTION:Put your thinking hat on because this is a game for real players. Call your smartest friends and put together a winning team to answer questions about general knowledge\, music\, geography\, everything and nothing. A £50 bar tab is up for grabs each week. \n  \nWhere & When: Fire Stables\, every Sunday from 7 – 10 pm.
URL:https://wimbledonvillage.com/event/pub-quiz-the-fire-stables/2030-12-08/
ATTACH;FMTTYPE=image/jpeg:https://wimbledonvillage.com/wp-content/uploads/2024/01/rsz_pexels-elevate-1269025.jpg
END:VEVENT
END:VCALENDAR