BEGIN:VCALENDAR
VERSION:2.0
PRODID:-//Wimbledon Village - ECPv6.15.20//NONSGML v1.0//EN
CALSCALE:GREGORIAN
METHOD:PUBLISH
X-ORIGINAL-URL:https://wimbledonvillage.com
X-WR-CALDESC:Events for Wimbledon Village
REFRESH-INTERVAL;VALUE=DURATION:PT1H
X-Robots-Tag:noindex
X-PUBLISHED-TTL:PT1H
BEGIN:VTIMEZONE
TZID:Europe/London
BEGIN:DAYLIGHT
TZOFFSETFROM:+0000
TZOFFSETTO:+0100
TZNAME:BST
DTSTART:20280326T010000
END:DAYLIGHT
BEGIN:STANDARD
TZOFFSETFROM:+0100
TZOFFSETTO:+0000
TZNAME:GMT
DTSTART:20281029T010000
END:STANDARD
BEGIN:DAYLIGHT
TZOFFSETFROM:+0000
TZOFFSETTO:+0100
TZNAME:BST
DTSTART:20290325T010000
END:DAYLIGHT
BEGIN:STANDARD
TZOFFSETFROM:+0100
TZOFFSETTO:+0000
TZNAME:GMT
DTSTART:20291028T010000
END:STANDARD
BEGIN:DAYLIGHT
TZOFFSETFROM:+0000
TZOFFSETTO:+0100
TZNAME:BST
DTSTART:20300331T010000
END:DAYLIGHT
BEGIN:STANDARD
TZOFFSETFROM:+0100
TZOFFSETTO:+0000
TZNAME:GMT
DTSTART:20301027T010000
END:STANDARD
BEGIN:DAYLIGHT
TZOFFSETFROM:+0000
TZOFFSETTO:+0100
TZNAME:BST
DTSTART:20310330T010000
END:DAYLIGHT
BEGIN:STANDARD
TZOFFSETFROM:+0100
TZOFFSETTO:+0000
TZNAME:GMT
DTSTART:20311026T010000
END:STANDARD
END:VTIMEZONE
BEGIN:VEVENT
DTSTART;TZID=Europe/London:20291211T193000
DTEND;TZID=Europe/London:20291211T224500
DTSTAMP:20260421T024941
CREATED:20250922T102723Z
LAST-MODIFIED:20260202T082017Z
UID:10004417-1891711800-1891723500@wimbledonvillage.com
SUMMARY:Pub Quiz @ The Rose & Crown
DESCRIPTION:Grab your cleverest pals & put your knowledge to the test with fantastic quiz master Duncan at the weekly Rose & Crown pub quiz. \n  \nWhere & When: The Rose & Crown\, 55 High Street\, Wimbledon Village\, London SW19 5BA\, every Tuesday from 7.30 – 10.45 pm (except during the Wimbledon tennis fortnight).
URL:https://wimbledonvillage.com/event/rose-crown-pub-quiz-3/2029-12-11/
ATTACH;FMTTYPE=image/jpeg:https://wimbledonvillage.com/wp-content/uploads/2023/08/Rose-Crown-pub-quiz-image.jpg
END:VEVENT
BEGIN:VEVENT
DTSTART;TZID=Europe/London:20291211T200000
DTEND;TZID=Europe/London:20291211T220000
DTSTAMP:20260421T024941
CREATED:20260301T153138Z
LAST-MODIFIED:20260301T153254Z
UID:10009104-1891713600-1891720800@wimbledonvillage.com
SUMMARY:Pub Quiz @ The Hand in Hand
DESCRIPTION:Get your brainiest mates together\, come up with the funniest team name and put your trivia knowledge to the test at the Hand in Hands’ weekly quiz for a chance to win one of the lovely prizes on offer. \n  \nQuizmaster John Spain will put you through your paces from general knowledge to music and sport. You’ve got to be in it\, to win it! \n  \nWhere & When: Hand in Hand\, every Tuesday from 8 -10 pm.
URL:https://wimbledonvillage.com/event/pub-quiz-the-hand-in-hand/2029-12-11/
ATTACH;FMTTYPE=image/jpeg:https://wimbledonvillage.com/wp-content/uploads/2024/04/Screenshot-2026-03-01-at-15.29.0.jpg
END:VEVENT
BEGIN:VEVENT
DTSTART;TZID=Europe/London:20291212T190000
DTEND;TZID=Europe/London:20291212T220000
DTSTAMP:20260421T024941
CREATED:20240428T113530Z
LAST-MODIFIED:20250831T125653Z
UID:10007005-1891796400-1891807200@wimbledonvillage.com
SUMMARY:Pub Quiz @ The Dog & Fox
DESCRIPTION:Grab your team\, get your brain in gear and get quizzical at the Dog & Fox. \n  \nWhere & When: The Dog & Fox\, 24 High Street\, Wimbledon Village\, London SW19 5EA\, every Wednesday night\, 7 – 10 pm.
URL:https://wimbledonvillage.com/event/pub-quiz-the-dog-fox/2029-12-12/
ATTACH;FMTTYPE=image/png:https://wimbledonvillage.com/wp-content/uploads/2024/04/Dog-Fox-pub-quiz-image.png
END:VEVENT
BEGIN:VEVENT
DTSTART;TZID=Europe/London:20291215T090000
DTEND;TZID=Europe/London:20291215T100000
DTSTAMP:20260421T024941
CREATED:20230819T151954Z
LAST-MODIFIED:20250831T130729Z
UID:10007774-1892019600-1892023200@wimbledonvillage.com
SUMMARY:Wimbledon Common Parkrun
DESCRIPTION:A free\, fun\, and friendly weekly 5k community event. Participants can choose to walk\, jog\, run\, volunteer or just spectate. \n  \nThe run starts from near the Windmill car park every Saturday at 9am. \n  \nJoin other runners and supporters for a post run coffee at the Windmill Cafe.
URL:https://wimbledonvillage.com/event/wimbledon-common-park-run/2029-12-15/
ATTACH;FMTTYPE=image/jpeg:https://wimbledonvillage.com/wp-content/uploads/2023/08/Wimbledon-Common-Parkrun-runners-enjoying-the-course.jpg
END:VEVENT
BEGIN:VEVENT
DTSTART;TZID=Europe/London:20291215T103000
DTEND;TZID=Europe/London:20291215T120000
DTSTAMP:20260421T024941
CREATED:20230819T155822Z
LAST-MODIFIED:20250831T132807Z
UID:10008466-1892025000-1892030400@wimbledonvillage.com
SUMMARY:Wimbledon Common and Village Walk & Talk
DESCRIPTION:A free and fun ‘walk and talk’ every Saturday morning around Wimbledon Common and Wimbledon Village. \n  \nWalk and talks are a chance for all generations to take a stroll\, chat\, meet friends and neighbours\, make new friends and enjoy their local area and green spaces together. From older adults to young children\, from buggies to beagles – everybody can join in. \n  \nNo booking\, no reservations\, just turn up and you will get a very warm welcome. \n  \nWhen & Where: 10.30am at the Wimbledon War Memorial on The Green\, at the corner of Parkside and The Causeway.
URL:https://wimbledonvillage.com/event/weekly-walk-talk/2029-12-15/
ATTACH;FMTTYPE=image/jpeg:https://wimbledonvillage.com/wp-content/uploads/2023/08/Walk-Talk-Wimbledon-Common-walkers-on-a-sunny-day.jpg
END:VEVENT
BEGIN:VEVENT
DTSTART;TZID=Europe/London:20291216T100000
DTEND;TZID=Europe/London:20291216T150000
DTSTAMP:20260421T024941
CREATED:20230819T162853Z
LAST-MODIFIED:20250831T125135Z
UID:10005963-1892109600-1892127600@wimbledonvillage.com
SUMMARY:Wimbledon Village Farmers' Market
DESCRIPTION:The Village Farmers’ Market serves up a range of fabulous farm fresh and local products along with a varied offering of ready to eat goodies every Sunday from 10am to 3pm on the Village High Street. Stalls rotate each week. \n  \nFollow The Wimbledon Village Farmers’ Market on Instagram or Facebook for more details.
URL:https://wimbledonvillage.com/event/wimbledon-village-farmers-market/2029-12-16/
ATTACH;FMTTYPE=image/jpeg:https://wimbledonvillage.com/wp-content/uploads/2023/08/Farmers-Market-vegetables.jpg
END:VEVENT
BEGIN:VEVENT
DTSTART;TZID=Europe/London:20291216T190000
DTEND;TZID=Europe/London:20291216T220000
DTSTAMP:20260421T024941
CREATED:20240108T125908Z
LAST-MODIFIED:20250831T125309Z
UID:10006655-1892142000-1892152800@wimbledonvillage.com
SUMMARY:Pub Quiz @ the Fire Stables
DESCRIPTION:Put your thinking hat on because this is a game for real players. Call your smartest friends and put together a winning team to answer questions about general knowledge\, music\, geography\, everything and nothing. A £50 bar tab is up for grabs each week. \n  \nWhere & When: Fire Stables\, every Sunday from 7 – 10 pm.
URL:https://wimbledonvillage.com/event/pub-quiz-the-fire-stables/2029-12-16/
ATTACH;FMTTYPE=image/jpeg:https://wimbledonvillage.com/wp-content/uploads/2024/01/rsz_pexels-elevate-1269025.jpg
END:VEVENT
BEGIN:VEVENT
DTSTART;TZID=Europe/London:20291218T193000
DTEND;TZID=Europe/London:20291218T224500
DTSTAMP:20260421T024941
CREATED:20250922T102723Z
LAST-MODIFIED:20260202T082017Z
UID:10004418-1892316600-1892328300@wimbledonvillage.com
SUMMARY:Pub Quiz @ The Rose & Crown
DESCRIPTION:Grab your cleverest pals & put your knowledge to the test with fantastic quiz master Duncan at the weekly Rose & Crown pub quiz. \n  \nWhere & When: The Rose & Crown\, 55 High Street\, Wimbledon Village\, London SW19 5BA\, every Tuesday from 7.30 – 10.45 pm (except during the Wimbledon tennis fortnight).
URL:https://wimbledonvillage.com/event/rose-crown-pub-quiz-3/2029-12-18/
ATTACH;FMTTYPE=image/jpeg:https://wimbledonvillage.com/wp-content/uploads/2023/08/Rose-Crown-pub-quiz-image.jpg
END:VEVENT
BEGIN:VEVENT
DTSTART;TZID=Europe/London:20291218T200000
DTEND;TZID=Europe/London:20291218T220000
DTSTAMP:20260421T024941
CREATED:20260301T153138Z
LAST-MODIFIED:20260301T153254Z
UID:10009105-1892318400-1892325600@wimbledonvillage.com
SUMMARY:Pub Quiz @ The Hand in Hand
DESCRIPTION:Get your brainiest mates together\, come up with the funniest team name and put your trivia knowledge to the test at the Hand in Hands’ weekly quiz for a chance to win one of the lovely prizes on offer. \n  \nQuizmaster John Spain will put you through your paces from general knowledge to music and sport. You’ve got to be in it\, to win it! \n  \nWhere & When: Hand in Hand\, every Tuesday from 8 -10 pm.
URL:https://wimbledonvillage.com/event/pub-quiz-the-hand-in-hand/2029-12-18/
ATTACH;FMTTYPE=image/jpeg:https://wimbledonvillage.com/wp-content/uploads/2024/04/Screenshot-2026-03-01-at-15.29.0.jpg
END:VEVENT
BEGIN:VEVENT
DTSTART;TZID=Europe/London:20291219T190000
DTEND;TZID=Europe/London:20291219T220000
DTSTAMP:20260421T024941
CREATED:20240428T113530Z
LAST-MODIFIED:20250831T125653Z
UID:10007006-1892401200-1892412000@wimbledonvillage.com
SUMMARY:Pub Quiz @ The Dog & Fox
DESCRIPTION:Grab your team\, get your brain in gear and get quizzical at the Dog & Fox. \n  \nWhere & When: The Dog & Fox\, 24 High Street\, Wimbledon Village\, London SW19 5EA\, every Wednesday night\, 7 – 10 pm.
URL:https://wimbledonvillage.com/event/pub-quiz-the-dog-fox/2029-12-19/
ATTACH;FMTTYPE=image/png:https://wimbledonvillage.com/wp-content/uploads/2024/04/Dog-Fox-pub-quiz-image.png
END:VEVENT
BEGIN:VEVENT
DTSTART;TZID=Europe/London:20291222T090000
DTEND;TZID=Europe/London:20291222T100000
DTSTAMP:20260421T024941
CREATED:20230819T151954Z
LAST-MODIFIED:20250831T130729Z
UID:10007775-1892624400-1892628000@wimbledonvillage.com
SUMMARY:Wimbledon Common Parkrun
DESCRIPTION:A free\, fun\, and friendly weekly 5k community event. Participants can choose to walk\, jog\, run\, volunteer or just spectate. \n  \nThe run starts from near the Windmill car park every Saturday at 9am. \n  \nJoin other runners and supporters for a post run coffee at the Windmill Cafe.
URL:https://wimbledonvillage.com/event/wimbledon-common-park-run/2029-12-22/
ATTACH;FMTTYPE=image/jpeg:https://wimbledonvillage.com/wp-content/uploads/2023/08/Wimbledon-Common-Parkrun-runners-enjoying-the-course.jpg
END:VEVENT
BEGIN:VEVENT
DTSTART;TZID=Europe/London:20291222T103000
DTEND;TZID=Europe/London:20291222T120000
DTSTAMP:20260421T024941
CREATED:20230819T155822Z
LAST-MODIFIED:20250831T132807Z
UID:10008467-1892629800-1892635200@wimbledonvillage.com
SUMMARY:Wimbledon Common and Village Walk & Talk
DESCRIPTION:A free and fun ‘walk and talk’ every Saturday morning around Wimbledon Common and Wimbledon Village. \n  \nWalk and talks are a chance for all generations to take a stroll\, chat\, meet friends and neighbours\, make new friends and enjoy their local area and green spaces together. From older adults to young children\, from buggies to beagles – everybody can join in. \n  \nNo booking\, no reservations\, just turn up and you will get a very warm welcome. \n  \nWhen & Where: 10.30am at the Wimbledon War Memorial on The Green\, at the corner of Parkside and The Causeway.
URL:https://wimbledonvillage.com/event/weekly-walk-talk/2029-12-22/
ATTACH;FMTTYPE=image/jpeg:https://wimbledonvillage.com/wp-content/uploads/2023/08/Walk-Talk-Wimbledon-Common-walkers-on-a-sunny-day.jpg
END:VEVENT
BEGIN:VEVENT
DTSTART;TZID=Europe/London:20291223T100000
DTEND;TZID=Europe/London:20291223T150000
DTSTAMP:20260421T024941
CREATED:20230819T162853Z
LAST-MODIFIED:20250831T125135Z
UID:10005964-1892714400-1892732400@wimbledonvillage.com
SUMMARY:Wimbledon Village Farmers' Market
DESCRIPTION:The Village Farmers’ Market serves up a range of fabulous farm fresh and local products along with a varied offering of ready to eat goodies every Sunday from 10am to 3pm on the Village High Street. Stalls rotate each week. \n  \nFollow The Wimbledon Village Farmers’ Market on Instagram or Facebook for more details.
URL:https://wimbledonvillage.com/event/wimbledon-village-farmers-market/2029-12-23/
ATTACH;FMTTYPE=image/jpeg:https://wimbledonvillage.com/wp-content/uploads/2023/08/Farmers-Market-vegetables.jpg
END:VEVENT
BEGIN:VEVENT
DTSTART;TZID=Europe/London:20291223T190000
DTEND;TZID=Europe/London:20291223T220000
DTSTAMP:20260421T024941
CREATED:20240108T125908Z
LAST-MODIFIED:20250831T125309Z
UID:10006656-1892746800-1892757600@wimbledonvillage.com
SUMMARY:Pub Quiz @ the Fire Stables
DESCRIPTION:Put your thinking hat on because this is a game for real players. Call your smartest friends and put together a winning team to answer questions about general knowledge\, music\, geography\, everything and nothing. A £50 bar tab is up for grabs each week. \n  \nWhere & When: Fire Stables\, every Sunday from 7 – 10 pm.
URL:https://wimbledonvillage.com/event/pub-quiz-the-fire-stables/2029-12-23/
ATTACH;FMTTYPE=image/jpeg:https://wimbledonvillage.com/wp-content/uploads/2024/01/rsz_pexels-elevate-1269025.jpg
END:VEVENT
BEGIN:VEVENT
DTSTART;TZID=Europe/London:20291225T193000
DTEND;TZID=Europe/London:20291225T224500
DTSTAMP:20260421T024941
CREATED:20250922T102723Z
LAST-MODIFIED:20260202T082017Z
UID:10004419-1892921400-1892933100@wimbledonvillage.com
SUMMARY:Pub Quiz @ The Rose & Crown
DESCRIPTION:Grab your cleverest pals & put your knowledge to the test with fantastic quiz master Duncan at the weekly Rose & Crown pub quiz. \n  \nWhere & When: The Rose & Crown\, 55 High Street\, Wimbledon Village\, London SW19 5BA\, every Tuesday from 7.30 – 10.45 pm (except during the Wimbledon tennis fortnight).
URL:https://wimbledonvillage.com/event/rose-crown-pub-quiz-3/2029-12-25/
ATTACH;FMTTYPE=image/jpeg:https://wimbledonvillage.com/wp-content/uploads/2023/08/Rose-Crown-pub-quiz-image.jpg
END:VEVENT
BEGIN:VEVENT
DTSTART;TZID=Europe/London:20291225T200000
DTEND;TZID=Europe/London:20291225T220000
DTSTAMP:20260421T024941
CREATED:20260301T153138Z
LAST-MODIFIED:20260301T153254Z
UID:10009106-1892923200-1892930400@wimbledonvillage.com
SUMMARY:Pub Quiz @ The Hand in Hand
DESCRIPTION:Get your brainiest mates together\, come up with the funniest team name and put your trivia knowledge to the test at the Hand in Hands’ weekly quiz for a chance to win one of the lovely prizes on offer. \n  \nQuizmaster John Spain will put you through your paces from general knowledge to music and sport. You’ve got to be in it\, to win it! \n  \nWhere & When: Hand in Hand\, every Tuesday from 8 -10 pm.
URL:https://wimbledonvillage.com/event/pub-quiz-the-hand-in-hand/2029-12-25/
ATTACH;FMTTYPE=image/jpeg:https://wimbledonvillage.com/wp-content/uploads/2024/04/Screenshot-2026-03-01-at-15.29.0.jpg
END:VEVENT
BEGIN:VEVENT
DTSTART;TZID=Europe/London:20291226T190000
DTEND;TZID=Europe/London:20291226T220000
DTSTAMP:20260421T024941
CREATED:20240428T113530Z
LAST-MODIFIED:20250831T125653Z
UID:10007007-1893006000-1893016800@wimbledonvillage.com
SUMMARY:Pub Quiz @ The Dog & Fox
DESCRIPTION:Grab your team\, get your brain in gear and get quizzical at the Dog & Fox. \n  \nWhere & When: The Dog & Fox\, 24 High Street\, Wimbledon Village\, London SW19 5EA\, every Wednesday night\, 7 – 10 pm.
URL:https://wimbledonvillage.com/event/pub-quiz-the-dog-fox/2029-12-26/
ATTACH;FMTTYPE=image/png:https://wimbledonvillage.com/wp-content/uploads/2024/04/Dog-Fox-pub-quiz-image.png
END:VEVENT
BEGIN:VEVENT
DTSTART;TZID=Europe/London:20291229T090000
DTEND;TZID=Europe/London:20291229T100000
DTSTAMP:20260421T024941
CREATED:20230819T151954Z
LAST-MODIFIED:20250831T130729Z
UID:10007776-1893229200-1893232800@wimbledonvillage.com
SUMMARY:Wimbledon Common Parkrun
DESCRIPTION:A free\, fun\, and friendly weekly 5k community event. Participants can choose to walk\, jog\, run\, volunteer or just spectate. \n  \nThe run starts from near the Windmill car park every Saturday at 9am. \n  \nJoin other runners and supporters for a post run coffee at the Windmill Cafe.
URL:https://wimbledonvillage.com/event/wimbledon-common-park-run/2029-12-29/
ATTACH;FMTTYPE=image/jpeg:https://wimbledonvillage.com/wp-content/uploads/2023/08/Wimbledon-Common-Parkrun-runners-enjoying-the-course.jpg
END:VEVENT
BEGIN:VEVENT
DTSTART;TZID=Europe/London:20291229T103000
DTEND;TZID=Europe/London:20291229T120000
DTSTAMP:20260421T024941
CREATED:20230819T155822Z
LAST-MODIFIED:20250831T132807Z
UID:10008468-1893234600-1893240000@wimbledonvillage.com
SUMMARY:Wimbledon Common and Village Walk & Talk
DESCRIPTION:A free and fun ‘walk and talk’ every Saturday morning around Wimbledon Common and Wimbledon Village. \n  \nWalk and talks are a chance for all generations to take a stroll\, chat\, meet friends and neighbours\, make new friends and enjoy their local area and green spaces together. From older adults to young children\, from buggies to beagles – everybody can join in. \n  \nNo booking\, no reservations\, just turn up and you will get a very warm welcome. \n  \nWhen & Where: 10.30am at the Wimbledon War Memorial on The Green\, at the corner of Parkside and The Causeway.
URL:https://wimbledonvillage.com/event/weekly-walk-talk/2029-12-29/
ATTACH;FMTTYPE=image/jpeg:https://wimbledonvillage.com/wp-content/uploads/2023/08/Walk-Talk-Wimbledon-Common-walkers-on-a-sunny-day.jpg
END:VEVENT
BEGIN:VEVENT
DTSTART;TZID=Europe/London:20291230T100000
DTEND;TZID=Europe/London:20291230T150000
DTSTAMP:20260421T024941
CREATED:20230819T162853Z
LAST-MODIFIED:20250831T125135Z
UID:10005965-1893319200-1893337200@wimbledonvillage.com
SUMMARY:Wimbledon Village Farmers' Market
DESCRIPTION:The Village Farmers’ Market serves up a range of fabulous farm fresh and local products along with a varied offering of ready to eat goodies every Sunday from 10am to 3pm on the Village High Street. Stalls rotate each week. \n  \nFollow The Wimbledon Village Farmers’ Market on Instagram or Facebook for more details.
URL:https://wimbledonvillage.com/event/wimbledon-village-farmers-market/2029-12-30/
ATTACH;FMTTYPE=image/jpeg:https://wimbledonvillage.com/wp-content/uploads/2023/08/Farmers-Market-vegetables.jpg
END:VEVENT
BEGIN:VEVENT
DTSTART;TZID=Europe/London:20291230T190000
DTEND;TZID=Europe/London:20291230T220000
DTSTAMP:20260421T024941
CREATED:20240108T125908Z
LAST-MODIFIED:20250831T125309Z
UID:10006657-1893351600-1893362400@wimbledonvillage.com
SUMMARY:Pub Quiz @ the Fire Stables
DESCRIPTION:Put your thinking hat on because this is a game for real players. Call your smartest friends and put together a winning team to answer questions about general knowledge\, music\, geography\, everything and nothing. A £50 bar tab is up for grabs each week. \n  \nWhere & When: Fire Stables\, every Sunday from 7 – 10 pm.
URL:https://wimbledonvillage.com/event/pub-quiz-the-fire-stables/2029-12-30/
ATTACH;FMTTYPE=image/jpeg:https://wimbledonvillage.com/wp-content/uploads/2024/01/rsz_pexels-elevate-1269025.jpg
END:VEVENT
BEGIN:VEVENT
DTSTART;TZID=Europe/London:20300101T193000
DTEND;TZID=Europe/London:20300101T224500
DTSTAMP:20260421T024941
CREATED:20250922T102723Z
LAST-MODIFIED:20260202T082017Z
UID:10004420-1893526200-1893537900@wimbledonvillage.com
SUMMARY:Pub Quiz @ The Rose & Crown
DESCRIPTION:Grab your cleverest pals & put your knowledge to the test with fantastic quiz master Duncan at the weekly Rose & Crown pub quiz. \n  \nWhere & When: The Rose & Crown\, 55 High Street\, Wimbledon Village\, London SW19 5BA\, every Tuesday from 7.30 – 10.45 pm (except during the Wimbledon tennis fortnight).
URL:https://wimbledonvillage.com/event/rose-crown-pub-quiz-3/2030-01-01/
ATTACH;FMTTYPE=image/jpeg:https://wimbledonvillage.com/wp-content/uploads/2023/08/Rose-Crown-pub-quiz-image.jpg
END:VEVENT
BEGIN:VEVENT
DTSTART;TZID=Europe/London:20300101T200000
DTEND;TZID=Europe/London:20300101T220000
DTSTAMP:20260421T024941
CREATED:20260301T153138Z
LAST-MODIFIED:20260301T153254Z
UID:10009107-1893528000-1893535200@wimbledonvillage.com
SUMMARY:Pub Quiz @ The Hand in Hand
DESCRIPTION:Get your brainiest mates together\, come up with the funniest team name and put your trivia knowledge to the test at the Hand in Hands’ weekly quiz for a chance to win one of the lovely prizes on offer. \n  \nQuizmaster John Spain will put you through your paces from general knowledge to music and sport. You’ve got to be in it\, to win it! \n  \nWhere & When: Hand in Hand\, every Tuesday from 8 -10 pm.
URL:https://wimbledonvillage.com/event/pub-quiz-the-hand-in-hand/2030-01-01/
ATTACH;FMTTYPE=image/jpeg:https://wimbledonvillage.com/wp-content/uploads/2024/04/Screenshot-2026-03-01-at-15.29.0.jpg
END:VEVENT
BEGIN:VEVENT
DTSTART;TZID=Europe/London:20300102T190000
DTEND;TZID=Europe/London:20300102T220000
DTSTAMP:20260421T024941
CREATED:20240428T113530Z
LAST-MODIFIED:20250831T125653Z
UID:10007008-1893610800-1893621600@wimbledonvillage.com
SUMMARY:Pub Quiz @ The Dog & Fox
DESCRIPTION:Grab your team\, get your brain in gear and get quizzical at the Dog & Fox. \n  \nWhere & When: The Dog & Fox\, 24 High Street\, Wimbledon Village\, London SW19 5EA\, every Wednesday night\, 7 – 10 pm.
URL:https://wimbledonvillage.com/event/pub-quiz-the-dog-fox/2030-01-02/
ATTACH;FMTTYPE=image/png:https://wimbledonvillage.com/wp-content/uploads/2024/04/Dog-Fox-pub-quiz-image.png
END:VEVENT
BEGIN:VEVENT
DTSTART;TZID=Europe/London:20300105T090000
DTEND;TZID=Europe/London:20300105T100000
DTSTAMP:20260421T024941
CREATED:20230819T151954Z
LAST-MODIFIED:20250831T130729Z
UID:10007777-1893834000-1893837600@wimbledonvillage.com
SUMMARY:Wimbledon Common Parkrun
DESCRIPTION:A free\, fun\, and friendly weekly 5k community event. Participants can choose to walk\, jog\, run\, volunteer or just spectate. \n  \nThe run starts from near the Windmill car park every Saturday at 9am. \n  \nJoin other runners and supporters for a post run coffee at the Windmill Cafe.
URL:https://wimbledonvillage.com/event/wimbledon-common-park-run/2030-01-05/
ATTACH;FMTTYPE=image/jpeg:https://wimbledonvillage.com/wp-content/uploads/2023/08/Wimbledon-Common-Parkrun-runners-enjoying-the-course.jpg
END:VEVENT
BEGIN:VEVENT
DTSTART;TZID=Europe/London:20300105T103000
DTEND;TZID=Europe/London:20300105T120000
DTSTAMP:20260421T024941
CREATED:20230819T155822Z
LAST-MODIFIED:20250831T132807Z
UID:10008469-1893839400-1893844800@wimbledonvillage.com
SUMMARY:Wimbledon Common and Village Walk & Talk
DESCRIPTION:A free and fun ‘walk and talk’ every Saturday morning around Wimbledon Common and Wimbledon Village. \n  \nWalk and talks are a chance for all generations to take a stroll\, chat\, meet friends and neighbours\, make new friends and enjoy their local area and green spaces together. From older adults to young children\, from buggies to beagles – everybody can join in. \n  \nNo booking\, no reservations\, just turn up and you will get a very warm welcome. \n  \nWhen & Where: 10.30am at the Wimbledon War Memorial on The Green\, at the corner of Parkside and The Causeway.
URL:https://wimbledonvillage.com/event/weekly-walk-talk/2030-01-05/
ATTACH;FMTTYPE=image/jpeg:https://wimbledonvillage.com/wp-content/uploads/2023/08/Walk-Talk-Wimbledon-Common-walkers-on-a-sunny-day.jpg
END:VEVENT
BEGIN:VEVENT
DTSTART;TZID=Europe/London:20300106T080000
DTEND;TZID=Europe/London:20300106T110000
DTSTAMP:20260421T024941
CREATED:20260104T121718Z
LAST-MODIFIED:20260104T121848Z
UID:10008736-1893916800-1893927600@wimbledonvillage.com
SUMMARY:Southside Hustle Classic Car Meet
DESCRIPTION:A perfect morning out for car enthusiasts\, this informal monthly gathering of classic car owners in Wimbledon Village features a stunning and eclectic array of cars\, some incredibly rare. \n  \nWhere & When: Wimbledon Common Southside at the Village end\, near the Farmer’s Market\, from 8am to around 11am on the first Sunday of each month. \n  \nImage Credit: @paolojgibelli
URL:https://wimbledonvillage.com/event/southside-hustle-classic-car-meet/2030-01-06/
ATTACH;FMTTYPE=image/jpeg:https://wimbledonvillage.com/wp-content/uploads/2025/05/470221591_18338295316150563_9185.jpg
END:VEVENT
BEGIN:VEVENT
DTSTART;TZID=Europe/London:20300106T100000
DTEND;TZID=Europe/London:20300106T150000
DTSTAMP:20260421T024941
CREATED:20230819T162853Z
LAST-MODIFIED:20250831T125135Z
UID:10005966-1893924000-1893942000@wimbledonvillage.com
SUMMARY:Wimbledon Village Farmers' Market
DESCRIPTION:The Village Farmers’ Market serves up a range of fabulous farm fresh and local products along with a varied offering of ready to eat goodies every Sunday from 10am to 3pm on the Village High Street. Stalls rotate each week. \n  \nFollow The Wimbledon Village Farmers’ Market on Instagram or Facebook for more details.
URL:https://wimbledonvillage.com/event/wimbledon-village-farmers-market/2030-01-06/
ATTACH;FMTTYPE=image/jpeg:https://wimbledonvillage.com/wp-content/uploads/2023/08/Farmers-Market-vegetables.jpg
END:VEVENT
BEGIN:VEVENT
DTSTART;TZID=Europe/London:20300106T190000
DTEND;TZID=Europe/London:20300106T220000
DTSTAMP:20260421T024941
CREATED:20240108T125908Z
LAST-MODIFIED:20250831T125309Z
UID:10006658-1893956400-1893967200@wimbledonvillage.com
SUMMARY:Pub Quiz @ the Fire Stables
DESCRIPTION:Put your thinking hat on because this is a game for real players. Call your smartest friends and put together a winning team to answer questions about general knowledge\, music\, geography\, everything and nothing. A £50 bar tab is up for grabs each week. \n  \nWhere & When: Fire Stables\, every Sunday from 7 – 10 pm.
URL:https://wimbledonvillage.com/event/pub-quiz-the-fire-stables/2030-01-06/
ATTACH;FMTTYPE=image/jpeg:https://wimbledonvillage.com/wp-content/uploads/2024/01/rsz_pexels-elevate-1269025.jpg
END:VEVENT
BEGIN:VEVENT
DTSTART;TZID=Europe/London:20300108T193000
DTEND;TZID=Europe/London:20300108T224500
DTSTAMP:20260421T024941
CREATED:20250922T102723Z
LAST-MODIFIED:20260202T082017Z
UID:10004421-1894131000-1894142700@wimbledonvillage.com
SUMMARY:Pub Quiz @ The Rose & Crown
DESCRIPTION:Grab your cleverest pals & put your knowledge to the test with fantastic quiz master Duncan at the weekly Rose & Crown pub quiz. \n  \nWhere & When: The Rose & Crown\, 55 High Street\, Wimbledon Village\, London SW19 5BA\, every Tuesday from 7.30 – 10.45 pm (except during the Wimbledon tennis fortnight).
URL:https://wimbledonvillage.com/event/rose-crown-pub-quiz-3/2030-01-08/
ATTACH;FMTTYPE=image/jpeg:https://wimbledonvillage.com/wp-content/uploads/2023/08/Rose-Crown-pub-quiz-image.jpg
END:VEVENT
END:VCALENDAR