BEGIN:VCALENDAR
VERSION:2.0
PRODID:-//Wimbledon Village - ECPv6.15.20//NONSGML v1.0//EN
CALSCALE:GREGORIAN
METHOD:PUBLISH
X-ORIGINAL-URL:https://wimbledonvillage.com
X-WR-CALDESC:Events for Wimbledon Village
REFRESH-INTERVAL;VALUE=DURATION:PT1H
X-Robots-Tag:noindex
X-PUBLISHED-TTL:PT1H
BEGIN:VTIMEZONE
TZID:Europe/London
BEGIN:DAYLIGHT
TZOFFSETFROM:+0000
TZOFFSETTO:+0100
TZNAME:BST
DTSTART:20230326T010000
END:DAYLIGHT
BEGIN:STANDARD
TZOFFSETFROM:+0100
TZOFFSETTO:+0000
TZNAME:GMT
DTSTART:20231029T010000
END:STANDARD
BEGIN:DAYLIGHT
TZOFFSETFROM:+0000
TZOFFSETTO:+0100
TZNAME:BST
DTSTART:20240331T010000
END:DAYLIGHT
BEGIN:STANDARD
TZOFFSETFROM:+0100
TZOFFSETTO:+0000
TZNAME:GMT
DTSTART:20241027T010000
END:STANDARD
BEGIN:DAYLIGHT
TZOFFSETFROM:+0000
TZOFFSETTO:+0100
TZNAME:BST
DTSTART:20250330T010000
END:DAYLIGHT
BEGIN:STANDARD
TZOFFSETFROM:+0100
TZOFFSETTO:+0000
TZNAME:GMT
DTSTART:20251026T010000
END:STANDARD
END:VTIMEZONE
BEGIN:VEVENT
DTSTART;TZID=Europe/London:20240712T080000
DTEND;TZID=Europe/London:20240712T170000
DTSTAMP:20260422T210518
CREATED:20240630T091422Z
LAST-MODIFIED:20240630T102756Z
UID:10003056-1720771200-1720803600@wimbledonvillage.com
SUMMARY:Live Music: Modern Apes @ the Rose & Crown
DESCRIPTION:Get in the party spirit with crowd favourites The Modern Apes. This 60’s tribute band is a firm favourite in the Wimbledon calendar\, filling the dance floor in the Rose marquee with their energetic performances of classic pop and rock songs that changed the world – from the Rolling Stones and the Beatles to Mod classics from The Small Faces and The Who. \n  \nWhere & When: The Marquee at the Rose & Crown\, from 8pm on 4th\, 5th\, 11th and 12th July \n  \nTickets: FREE\, no booking required. \n 
URL:https://wimbledonvillage.com/event/live-music-modern-apes-the-rose-crown/2024-07-12/
ATTACH;FMTTYPE=image/png:https://wimbledonvillage.com/wp-content/uploads/2024/06/Screenshot-2024-06-30-at-10.11.0.png
END:VEVENT
BEGIN:VEVENT
DTSTART;TZID=Europe/London:20240711T080000
DTEND;TZID=Europe/London:20240711T170000
DTSTAMP:20260422T210518
CREATED:20240705T120222Z
LAST-MODIFIED:20240705T120222Z
UID:10003322-1720684800-1720717200@wimbledonvillage.com
SUMMARY:Live Music: B4-99 at the Dog & Fox
DESCRIPTION:The aptly named B4-99 is set to get the whole pub rocking with a host of banging tunes from before 1999! \n  \nWhere & When: Dog & Fox\, Thursday 11th July\, 9 pm – Midnight \n  \nBooking: Not required. FREE event.
URL:https://wimbledonvillage.com/event/live-music-b4-99-at-the-dog-fox/
ATTACH;FMTTYPE=image/png:https://wimbledonvillage.com/wp-content/uploads/2024/07/Screenshot-2024-07-05-at-12.54.2.png
END:VEVENT
BEGIN:VEVENT
DTSTART;TZID=Europe/London:20240711T080000
DTEND;TZID=Europe/London:20240711T170000
DTSTAMP:20260422T210518
CREATED:20240630T091422Z
LAST-MODIFIED:20240630T102756Z
UID:10003055-1720684800-1720717200@wimbledonvillage.com
SUMMARY:Live Music: Modern Apes @ the Rose & Crown
DESCRIPTION:Get in the party spirit with crowd favourites The Modern Apes. This 60’s tribute band is a firm favourite in the Wimbledon calendar\, filling the dance floor in the Rose marquee with their energetic performances of classic pop and rock songs that changed the world – from the Rolling Stones and the Beatles to Mod classics from The Small Faces and The Who. \n  \nWhere & When: The Marquee at the Rose & Crown\, from 8pm on 4th\, 5th\, 11th and 12th July \n  \nTickets: FREE\, no booking required. \n 
URL:https://wimbledonvillage.com/event/live-music-modern-apes-the-rose-crown/2024-07-11/
ATTACH;FMTTYPE=image/png:https://wimbledonvillage.com/wp-content/uploads/2024/06/Screenshot-2024-06-30-at-10.11.0.png
END:VEVENT
BEGIN:VEVENT
DTSTART;TZID=Europe/London:20240710T190000
DTEND;TZID=Europe/London:20240710T220000
DTSTAMP:20260422T210518
CREATED:20240428T113530Z
LAST-MODIFIED:20250831T125653Z
UID:10006724-1720638000-1720648800@wimbledonvillage.com
SUMMARY:Pub Quiz @ The Dog & Fox
DESCRIPTION:Grab your team\, get your brain in gear and get quizzical at the Dog & Fox. \n  \nWhere & When: The Dog & Fox\, 24 High Street\, Wimbledon Village\, London SW19 5EA\, every Wednesday night\, 7 – 10 pm.
URL:https://wimbledonvillage.com/event/pub-quiz-the-dog-fox/2024-07-10/
ATTACH;FMTTYPE=image/png:https://wimbledonvillage.com/wp-content/uploads/2024/04/Dog-Fox-pub-quiz-image.png
END:VEVENT
BEGIN:VEVENT
DTSTART;TZID=Europe/London:20240710T090000
DTEND;TZID=Europe/London:20240710T180000
DTSTAMP:20260422T210518
CREATED:20230825T093421Z
LAST-MODIFIED:20240226T121649Z
UID:10000702-1720602000-1720634400@wimbledonvillage.com
SUMMARY:Beer Masterclass at the Hand in Hand
DESCRIPTION:Join the Hand in Hand’s General Manager Andrew on the second Wednesday of each month from 7 – 8.30 pm for a beer masterclass. You’ll ‘hop’ away with expert knowledge of all things beer\, starting from the raw materials\, the brewing process\, and the fun part: getting to try the beer! \n  \nSpaces for the Masterclasses are extremely limited\, so make sure you book your spot in advance online at handinhand@youngs.co.uk or call 020 8946 5720. \n  \n100% of ticket sales revenue from the events is donated to Wimbledon and Putney Commons.
URL:https://wimbledonvillage.com/event/beer-masterclass-at-the-hand-in-hand/2024-07-10/
ATTACH;FMTTYPE=image/jpeg:https://wimbledonvillage.com/wp-content/uploads/2023/08/Hand-in-Hands-GM-Andrew-promotiing-the-beer-masterclass.jpg
END:VEVENT
BEGIN:VEVENT
DTSTART;TZID=Europe/London:20240709T193000
DTEND;TZID=Europe/London:20240709T224500
DTSTAMP:20260422T210518
CREATED:20240222T093828Z
LAST-MODIFIED:20250831T125428Z
UID:10002147-1720553400-1720565100@wimbledonvillage.com
SUMMARY:Pub Quiz @ The Rose & Crown
DESCRIPTION:Grab your cleverest pals & put your knowledge to the test with fantastic quiz master Duncan at the weekly Rose & Crown pub quiz. \n  \nWhere & When: The Rose & Crown\, 55 High Street\, Wimbledon Village\, London SW19 5BA\, every Tuesday from 7.30 – 10.45 pm (except during the Wimbledon tennis fortnight).
URL:https://wimbledonvillage.com/event/rose-crown-pub-quiz/2024-07-09/
ATTACH;FMTTYPE=image/jpeg:https://wimbledonvillage.com/wp-content/uploads/2023/08/Rose-Crown-pub-quiz-image.jpg
END:VEVENT
BEGIN:VEVENT
DTSTART;TZID=Europe/London:20240708T000000
DTEND;TZID=Europe/London:20240711T000000
DTSTAMP:20260422T210518
CREATED:20240625T144251Z
LAST-MODIFIED:20240625T144546Z
UID:10003047-1720396800-1720656000@wimbledonvillage.com
SUMMARY:Planet Art Summer Camp
DESCRIPTION:Planet Art’s next creative camp is another crafting extravaganza. The ‘Really Useful Camp’ is all about hands-on fun\, inspiring kids to create stuff they’ll actually use at home. From funky pencil holders to snazzy candle holders\, and nifty organizers to cool project folders\, your little artists will get to make it all. \n  \nThe daily schedule will be packed with exciting activities\, and all the usual fun and games. \n  \nSuitable for children aged 4 – 8 years old (4-year-olds must be in Reception).  Older siblings can be accepted on request. \n  \nWhere & When: Wilberforce House\, The Study Prep\, Camp Road\, Wimbledon\, SW19 4UN\, from 9.30 am – 3 pm on 8th\, 9th\, 10th\, 11th July 2024. \n  \nCost: £55 per day.
URL:https://wimbledonvillage.com/event/planet-art-summer-camp/
ATTACH;FMTTYPE=image/jpeg:https://wimbledonvillage.com/wp-content/uploads/2024/06/IMG_6493.jpg
END:VEVENT
BEGIN:VEVENT
DTSTART;TZID=Europe/London:20240707T190000
DTEND;TZID=Europe/London:20240707T220000
DTSTAMP:20260422T210518
CREATED:20240108T125908Z
LAST-MODIFIED:20250831T125309Z
UID:10006371-1720378800-1720389600@wimbledonvillage.com
SUMMARY:Pub Quiz @ the Fire Stables
DESCRIPTION:Put your thinking hat on because this is a game for real players. Call your smartest friends and put together a winning team to answer questions about general knowledge\, music\, geography\, everything and nothing. A £50 bar tab is up for grabs each week. \n  \nWhere & When: Fire Stables\, every Sunday from 7 – 10 pm.
URL:https://wimbledonvillage.com/event/pub-quiz-the-fire-stables/2024-07-07/
ATTACH;FMTTYPE=image/jpeg:https://wimbledonvillage.com/wp-content/uploads/2024/01/rsz_pexels-elevate-1269025.jpg
END:VEVENT
BEGIN:VEVENT
DTSTART;TZID=Europe/London:20240707T100000
DTEND;TZID=Europe/London:20240707T150000
DTSTAMP:20260422T210518
CREATED:20230819T162853Z
LAST-MODIFIED:20250831T125135Z
UID:10005679-1720346400-1720364400@wimbledonvillage.com
SUMMARY:Wimbledon Village Farmers' Market
DESCRIPTION:The Village Farmers’ Market serves up a range of fabulous farm fresh and local products along with a varied offering of ready to eat goodies every Sunday from 10am to 3pm on the Village High Street. Stalls rotate each week. \n  \nFollow The Wimbledon Village Farmers’ Market on Instagram or Facebook for more details.
URL:https://wimbledonvillage.com/event/wimbledon-village-farmers-market/2024-07-07/
ATTACH;FMTTYPE=image/jpeg:https://wimbledonvillage.com/wp-content/uploads/2023/08/Farmers-Market-vegetables.jpg
END:VEVENT
BEGIN:VEVENT
DTSTART;TZID=Europe/London:20240707T080000
DTEND;TZID=Europe/London:20240707T170000
DTSTAMP:20260422T210518
CREATED:20240629T164232Z
LAST-MODIFIED:20240705T120604Z
UID:10003050-1720339200-1720371600@wimbledonvillage.com
SUMMARY:Live Music: wathefunk @ the Dog & Fox
DESCRIPTION:Get your dancing shoes on and head to the Dog & Fox for a dynamic live funk\, soul and pop show from wathefunk. Enjoy a huge selection of hits from retro 60s\, right up to the present day. \n  \nWhere & When: The Dog & Fox\, Wimbledon Village. Saturday 6th July / Sunday 7th July / Saturday 13th July / Sunday 14th July. From 9pm till late. \n  \nTickets: Booking not required. Free entry.
URL:https://wimbledonvillage.com/event/live-music-wathefunk/2024-07-07/
ATTACH;FMTTYPE=image/jpeg:https://wimbledonvillage.com/wp-content/uploads/2024/06/8ee86c_90a10c353b6147d0b28af9041.jpg
END:VEVENT
BEGIN:VEVENT
DTSTART;TZID=Europe/London:20240707T080000
DTEND;TZID=Europe/London:20240707T170000
DTSTAMP:20260422T210518
CREATED:20240610T175848Z
LAST-MODIFIED:20240610T180135Z
UID:10003038-1720339200-1720371600@wimbledonvillage.com
SUMMARY:Treasure Island - Theatre @ Southside House
DESCRIPTION:Enjoy a wonderful Sunday afternoon with this adaptation of Robert Louis Stevenson’s Treasure Island from Shadow Road Productions. \n  \nAdventure\, courage\, mutiny and mayhem come together in a tightly knit script\, packed with both drama and humour and Shadow Road’s trademark riveting sword fights. \n  \nWhere & When: Southside House Garden\, 3-4 Woodhayes Road\, London. SW19 4RJ\, at 4 – 5.30 pm\, on Sunday 7th July. \n  \nTickets: Adult £18\, Child/Student £12\, Family £45. Booking fee applies. \n 
URL:https://wimbledonvillage.com/event/treasure-island-theatre-southside-house-garden/
ATTACH;FMTTYPE=image/jpeg:https://wimbledonvillage.com/wp-content/uploads/2024/06/unnamed-9.jpg
END:VEVENT
BEGIN:VEVENT
DTSTART;TZID=Europe/London:20240706T103000
DTEND;TZID=Europe/London:20240706T120000
DTSTAMP:20260422T210518
CREATED:20230819T155822Z
LAST-MODIFIED:20250831T132807Z
UID:10008183-1720261800-1720267200@wimbledonvillage.com
SUMMARY:Wimbledon Common and Village Walk & Talk
DESCRIPTION:A free and fun ‘walk and talk’ every Saturday morning around Wimbledon Common and Wimbledon Village. \n  \nWalk and talks are a chance for all generations to take a stroll\, chat\, meet friends and neighbours\, make new friends and enjoy their local area and green spaces together. From older adults to young children\, from buggies to beagles – everybody can join in. \n  \nNo booking\, no reservations\, just turn up and you will get a very warm welcome. \n  \nWhen & Where: 10.30am at the Wimbledon War Memorial on The Green\, at the corner of Parkside and The Causeway.
URL:https://wimbledonvillage.com/event/weekly-walk-talk/2024-07-06/
ATTACH;FMTTYPE=image/jpeg:https://wimbledonvillage.com/wp-content/uploads/2023/08/Walk-Talk-Wimbledon-Common-walkers-on-a-sunny-day.jpg
END:VEVENT
BEGIN:VEVENT
DTSTART;TZID=Europe/London:20240706T090000
DTEND;TZID=Europe/London:20240706T100000
DTSTAMP:20260422T210518
CREATED:20230819T151954Z
LAST-MODIFIED:20250831T130729Z
UID:10007490-1720256400-1720260000@wimbledonvillage.com
SUMMARY:Wimbledon Common Parkrun
DESCRIPTION:A free\, fun\, and friendly weekly 5k community event. Participants can choose to walk\, jog\, run\, volunteer or just spectate. \n  \nThe run starts from near the Windmill car park every Saturday at 9am. \n  \nJoin other runners and supporters for a post run coffee at the Windmill Cafe.
URL:https://wimbledonvillage.com/event/wimbledon-common-park-run/2024-07-06/
ATTACH;FMTTYPE=image/jpeg:https://wimbledonvillage.com/wp-content/uploads/2023/08/Wimbledon-Common-Parkrun-runners-enjoying-the-course.jpg
END:VEVENT
BEGIN:VEVENT
DTSTART;TZID=Europe/London:20240706T080000
DTEND;TZID=Europe/London:20240706T170000
DTSTAMP:20260422T210518
CREATED:20260420T110027Z
LAST-MODIFIED:20260420T110542Z
UID:10003057-1720252800-1720285200@wimbledonvillage.com
SUMMARY:Live Music: Coot @ the Rose & Crown
DESCRIPTION:Dance till you drop as Coot rocks the Rose marquee with their sets of classic tunes\, lovingly hand-picked from the golden era of popular music. Expect Beatles\, Dylan\, Motown\, Fleetwood Mac\, Simon & Garfunkel and more. \n  \nWhere & When: The marquee at the Rose & Crown\, from 8pm on 6th & 13th July. \n  \nTickets: FREE\, no booking required.
URL:https://wimbledonvillage.com/event/live-music-coot-the-rose-crown/2024-07-06/
ATTACH;FMTTYPE=image/jpeg:https://wimbledonvillage.com/wp-content/uploads/2024/06/359420691_771121701681236_147793.jpg
END:VEVENT
BEGIN:VEVENT
DTSTART;TZID=Europe/London:20240706T080000
DTEND;TZID=Europe/London:20240706T170000
DTSTAMP:20260422T210518
CREATED:20240629T164232Z
LAST-MODIFIED:20240705T120604Z
UID:10003049-1720252800-1720285200@wimbledonvillage.com
SUMMARY:Live Music: wathefunk @ the Dog & Fox
DESCRIPTION:Get your dancing shoes on and head to the Dog & Fox for a dynamic live funk\, soul and pop show from wathefunk. Enjoy a huge selection of hits from retro 60s\, right up to the present day. \n  \nWhere & When: The Dog & Fox\, Wimbledon Village. Saturday 6th July / Sunday 7th July / Saturday 13th July / Sunday 14th July. From 9pm till late. \n  \nTickets: Booking not required. Free entry.
URL:https://wimbledonvillage.com/event/live-music-wathefunk/2024-07-06/
ATTACH;FMTTYPE=image/jpeg:https://wimbledonvillage.com/wp-content/uploads/2024/06/8ee86c_90a10c353b6147d0b28af9041.jpg
END:VEVENT
BEGIN:VEVENT
DTSTART;TZID=Europe/London:20240706T080000
DTEND;TZID=Europe/London:20240706T170000
DTSTAMP:20260422T210518
CREATED:20240515T125310Z
LAST-MODIFIED:20240515T125310Z
UID:10003013-1720252800-1720285200@wimbledonvillage.com
SUMMARY:Guided Walk: Summer Medicinal Herbs for Calm and Sleep
DESCRIPTION:In the first of the Friends of Cannizaro Park‘s seasonal herbal medicine walks\, Nadia Hill\, a local medical herbalist and naturopath\, will focus on botanical medicines that lift the spirits\, calm anxiety\, increase memory and aid sleep and well-being.  \n  \nFor more information on Nadia\, visit https://wimbledonherbalist.com. \n  \nWhere & When: Cannizaro Park\, from 10.30 am – 12.00 noon on Saturday 6th July. \n  \nTickets: Bookable through the FOC Eventbrite page. On sale from early June.
URL:https://wimbledonvillage.com/event/guided-walk-summer-medicinal-herbs-for-calm-and-sleep/
ATTACH;FMTTYPE=image/jpeg:https://wimbledonvillage.com/wp-content/uploads/2024/05/remi-j-g2wCSmuNwYQ-unsplash.jpg
END:VEVENT
BEGIN:VEVENT
DTSTART;TZID=Europe/London:20240705T080000
DTEND;TZID=Europe/London:20240705T170000
DTSTAMP:20260422T210518
CREATED:20240630T091422Z
LAST-MODIFIED:20240630T102756Z
UID:10003054-1720166400-1720198800@wimbledonvillage.com
SUMMARY:Live Music: Modern Apes @ the Rose & Crown
DESCRIPTION:Get in the party spirit with crowd favourites The Modern Apes. This 60’s tribute band is a firm favourite in the Wimbledon calendar\, filling the dance floor in the Rose marquee with their energetic performances of classic pop and rock songs that changed the world – from the Rolling Stones and the Beatles to Mod classics from The Small Faces and The Who. \n  \nWhere & When: The Marquee at the Rose & Crown\, from 8pm on 4th\, 5th\, 11th and 12th July \n  \nTickets: FREE\, no booking required. \n 
URL:https://wimbledonvillage.com/event/live-music-modern-apes-the-rose-crown/2024-07-05/
ATTACH;FMTTYPE=image/png:https://wimbledonvillage.com/wp-content/uploads/2024/06/Screenshot-2024-06-30-at-10.11.0.png
END:VEVENT
BEGIN:VEVENT
DTSTART;TZID=Europe/London:20240704T080000
DTEND;TZID=Europe/London:20240704T170000
DTSTAMP:20260422T210518
CREATED:20240630T091422Z
LAST-MODIFIED:20240630T102756Z
UID:10003053-1720080000-1720112400@wimbledonvillage.com
SUMMARY:Live Music: Modern Apes @ the Rose & Crown
DESCRIPTION:Get in the party spirit with crowd favourites The Modern Apes. This 60’s tribute band is a firm favourite in the Wimbledon calendar\, filling the dance floor in the Rose marquee with their energetic performances of classic pop and rock songs that changed the world – from the Rolling Stones and the Beatles to Mod classics from The Small Faces and The Who. \n  \nWhere & When: The Marquee at the Rose & Crown\, from 8pm on 4th\, 5th\, 11th and 12th July \n  \nTickets: FREE\, no booking required. \n 
URL:https://wimbledonvillage.com/event/live-music-modern-apes-the-rose-crown/2024-07-04/
ATTACH;FMTTYPE=image/png:https://wimbledonvillage.com/wp-content/uploads/2024/06/Screenshot-2024-06-30-at-10.11.0.png
END:VEVENT
BEGIN:VEVENT
DTSTART;TZID=Europe/London:20240704T080000
DTEND;TZID=Europe/London:20240704T170000
DTSTAMP:20260422T210518
CREATED:20240414T182815Z
LAST-MODIFIED:20240414T182815Z
UID:10002432-1720080000-1720112400@wimbledonvillage.com
SUMMARY:Africa Travel Showcase
DESCRIPTION:Join Swords Travel for an evening of Africa travel inspiration. During the event you’ll get the chance to speak to a team of experts about your future travel plans and learn about some of the best places Africa has to offer. \n  \nWhen & Where: Thursday 4th July 2024\, 6:30 – 8 pm at Swords Travel\, 38A High Street\, Wimbledon Village\, SW19 5BY
URL:https://wimbledonvillage.com/event/africa-travel-showcase/
ATTACH;FMTTYPE=image/jpeg:https://wimbledonvillage.com/wp-content/uploads/2024/04/Africa.jpg.jpg
END:VEVENT
BEGIN:VEVENT
DTSTART;TZID=Europe/London:20240703T190000
DTEND;TZID=Europe/London:20240703T220000
DTSTAMP:20260422T210518
CREATED:20240428T113530Z
LAST-MODIFIED:20250831T125653Z
UID:10006723-1720033200-1720044000@wimbledonvillage.com
SUMMARY:Pub Quiz @ The Dog & Fox
DESCRIPTION:Grab your team\, get your brain in gear and get quizzical at the Dog & Fox. \n  \nWhere & When: The Dog & Fox\, 24 High Street\, Wimbledon Village\, London SW19 5EA\, every Wednesday night\, 7 – 10 pm.
URL:https://wimbledonvillage.com/event/pub-quiz-the-dog-fox/2024-07-03/
ATTACH;FMTTYPE=image/png:https://wimbledonvillage.com/wp-content/uploads/2024/04/Dog-Fox-pub-quiz-image.png
END:VEVENT
BEGIN:VEVENT
DTSTART;TZID=Europe/London:20240703T080000
DTEND;TZID=Europe/London:20240703T170000
DTSTAMP:20260422T210518
CREATED:20240622T091124Z
LAST-MODIFIED:20240622T100436Z
UID:10003040-1719993600-1720026000@wimbledonvillage.com
SUMMARY:Time & Leisure Tennis Networking Party
DESCRIPTION:Experience the buzz of the Village during the Championships at Time & Leisure’s Tennis Networking Party. \n  \nEnjoy a glass of delicious Champagne from Wimbledon Distillers on arrival plus a light afternoon tea of strawberries and scones. Network with other amazing local businesses while catching up with all the Centre Court action\, which will be on screen. \n  \nWhere & When: Common Ground\, 55A High Street\, Wimbledon Village\, on Wednesday 3rd July from 5pm – 7pm. \n  \nTickets: £30
URL:https://wimbledonvillage.com/event/time-leisure-tennis-networking-party/
ATTACH;FMTTYPE=image/jpeg:https://wimbledonvillage.com/wp-content/uploads/2024/06/unnamed-10.jpg
END:VEVENT
BEGIN:VEVENT
DTSTART;TZID=Europe/London:20240702T193000
DTEND;TZID=Europe/London:20240702T224500
DTSTAMP:20260422T210518
CREATED:20240222T093828Z
LAST-MODIFIED:20250831T125428Z
UID:10002146-1719948600-1719960300@wimbledonvillage.com
SUMMARY:Pub Quiz @ The Rose & Crown
DESCRIPTION:Grab your cleverest pals & put your knowledge to the test with fantastic quiz master Duncan at the weekly Rose & Crown pub quiz. \n  \nWhere & When: The Rose & Crown\, 55 High Street\, Wimbledon Village\, London SW19 5BA\, every Tuesday from 7.30 – 10.45 pm (except during the Wimbledon tennis fortnight).
URL:https://wimbledonvillage.com/event/rose-crown-pub-quiz/2024-07-02/
ATTACH;FMTTYPE=image/jpeg:https://wimbledonvillage.com/wp-content/uploads/2023/08/Rose-Crown-pub-quiz-image.jpg
END:VEVENT
BEGIN:VEVENT
DTSTART;TZID=Europe/London:20240701T090000
DTEND;TZID=Europe/London:20240714T180000
DTSTAMP:20260422T210518
CREATED:20240110T205933Z
LAST-MODIFIED:20240308T083139Z
UID:10002074-1719824400-1720980000@wimbledonvillage.com
SUMMARY:The Championships
DESCRIPTION:Pimm’s at the ready! The world’s most famous tennis tournament returns for 2024. Will Alcaraz claim his second Wimbledon title? \n  \nImage: AELTC
URL:https://wimbledonvillage.com/event/the-championships-wimbledon/
ATTACH;FMTTYPE=image/png:https://wimbledonvillage.com/wp-content/uploads/2024/01/Screenshot-2024-01-10-at-20.54.1.png
END:VEVENT
BEGIN:VEVENT
DTSTART;TZID=Europe/London:20240701T090000
DTEND;TZID=Europe/London:20240701T180000
DTSTAMP:20260422T210518
CREATED:20240522T103127Z
LAST-MODIFIED:20240522T103543Z
UID:10003025-1719824400-1719856800@wimbledonvillage.com
SUMMARY:Mumdays: Wine Tasting @ Friarwood
DESCRIPTION:A regular Monday afternoon wine tasting event that welcomes all parents & prams. \n  \nEnjoy and learn about 4 wines\, accompanied by light nibbles in a relaxed and informal environment. \n  \nSpitoons are provided\, plus there’s plenty of pram space and even a changing table. \n  \nEnjoy 10% discount on any wines tasted when purchased on the day. \n  \nWhere & When: Friarwood Wines from 1.30 pm – 3 pm\, but it is recommended attendees arrive by 1.20 pm. \n  \n 
URL:https://wimbledonvillage.com/event/mumdays-wine-tasting-friarwood-2/2024-07-01/
ATTACH;FMTTYPE=image/jpeg:https://wimbledonvillage.com/wp-content/uploads/2023/08/Friarwood-Mumdays-Promotional-Image.jpg
END:VEVENT
BEGIN:VEVENT
DTSTART;TZID=Europe/London:20240630T190000
DTEND;TZID=Europe/London:20240630T220000
DTSTAMP:20260422T210518
CREATED:20240108T125908Z
LAST-MODIFIED:20250831T125309Z
UID:10006370-1719774000-1719784800@wimbledonvillage.com
SUMMARY:Pub Quiz @ the Fire Stables
DESCRIPTION:Put your thinking hat on because this is a game for real players. Call your smartest friends and put together a winning team to answer questions about general knowledge\, music\, geography\, everything and nothing. A £50 bar tab is up for grabs each week. \n  \nWhere & When: Fire Stables\, every Sunday from 7 – 10 pm.
URL:https://wimbledonvillage.com/event/pub-quiz-the-fire-stables/2024-06-30/
ATTACH;FMTTYPE=image/jpeg:https://wimbledonvillage.com/wp-content/uploads/2024/01/rsz_pexels-elevate-1269025.jpg
END:VEVENT
BEGIN:VEVENT
DTSTART;TZID=Europe/London:20240630T100000
DTEND;TZID=Europe/London:20240630T150000
DTSTAMP:20260422T210518
CREATED:20230819T162853Z
LAST-MODIFIED:20250831T125135Z
UID:10005678-1719741600-1719759600@wimbledonvillage.com
SUMMARY:Wimbledon Village Farmers' Market
DESCRIPTION:The Village Farmers’ Market serves up a range of fabulous farm fresh and local products along with a varied offering of ready to eat goodies every Sunday from 10am to 3pm on the Village High Street. Stalls rotate each week. \n  \nFollow The Wimbledon Village Farmers’ Market on Instagram or Facebook for more details.
URL:https://wimbledonvillage.com/event/wimbledon-village-farmers-market/2024-06-30/
ATTACH;FMTTYPE=image/jpeg:https://wimbledonvillage.com/wp-content/uploads/2023/08/Farmers-Market-vegetables.jpg
END:VEVENT
BEGIN:VEVENT
DTSTART;TZID=Europe/London:20240629T103000
DTEND;TZID=Europe/London:20240629T120000
DTSTAMP:20260422T210518
CREATED:20230819T155822Z
LAST-MODIFIED:20250831T132807Z
UID:10008182-1719657000-1719662400@wimbledonvillage.com
SUMMARY:Wimbledon Common and Village Walk & Talk
DESCRIPTION:A free and fun ‘walk and talk’ every Saturday morning around Wimbledon Common and Wimbledon Village. \n  \nWalk and talks are a chance for all generations to take a stroll\, chat\, meet friends and neighbours\, make new friends and enjoy their local area and green spaces together. From older adults to young children\, from buggies to beagles – everybody can join in. \n  \nNo booking\, no reservations\, just turn up and you will get a very warm welcome. \n  \nWhen & Where: 10.30am at the Wimbledon War Memorial on The Green\, at the corner of Parkside and The Causeway.
URL:https://wimbledonvillage.com/event/weekly-walk-talk/2024-06-29/
ATTACH;FMTTYPE=image/jpeg:https://wimbledonvillage.com/wp-content/uploads/2023/08/Walk-Talk-Wimbledon-Common-walkers-on-a-sunny-day.jpg
END:VEVENT
BEGIN:VEVENT
DTSTART;TZID=Europe/London:20240629T090000
DTEND;TZID=Europe/London:20240629T180000
DTSTAMP:20260422T210518
CREATED:20240115T110805Z
LAST-MODIFIED:20240917T131955Z
UID:10002077-1719651600-1719684000@wimbledonvillage.com
SUMMARY:Forest Bathing @ Cannizaro Park
DESCRIPTION:Enjoy a guided slow sensory walk and immerse yourself in the wooded world of Cannizaro Park. \n  \nJoin Susanne Meis\, an experienced Forest Bathing Guide and Nature Wellbeing Educator to calm your mind\, energise your body and connect deeply with nature. \n  \nWhere & When? : Cannizaro Park from 10.30 am – 12 pm \n  \nFollow the Friends of Cannizaro Park on Eventbrite to receive an email or app notification when their events are ready to book.
URL:https://wimbledonvillage.com/event/forest-bathing-cannizaro-park/2024-06-29/
ATTACH;FMTTYPE=image/jpeg:https://wimbledonvillage.com/wp-content/uploads/2023/08/Forest-Bathing-Walk-@-Cannizaro-Park.jpg
END:VEVENT
BEGIN:VEVENT
DTSTART;TZID=Europe/London:20240629T090000
DTEND;TZID=Europe/London:20240629T180000
DTSTAMP:20260422T210518
CREATED:20240110T195808Z
LAST-MODIFIED:20240308T083326Z
UID:10002073-1719651600-1719684000@wimbledonvillage.com
SUMMARY:Academy Choir Wimbledon
DESCRIPTION:The Academy Choir Wimbledon performs pieces by Stravinksy\, Brahms\, Mendelssohn\, Bruckner\, Poulenc and Messiaen. \n  \nWhere & When: 7pm at St John’s Church\, Spencer Hill\, London SW19 4NZ \n​
URL:https://wimbledonvillage.com/event/academy-choir-wimbledon/
ATTACH;FMTTYPE=image/png:https://wimbledonvillage.com/wp-content/uploads/2024/01/Screenshot-2024-01-10-at-19.51.4.png
END:VEVENT
BEGIN:VEVENT
DTSTART;TZID=Europe/London:20240629T090000
DTEND;TZID=Europe/London:20240629T100000
DTSTAMP:20260422T210518
CREATED:20230819T151954Z
LAST-MODIFIED:20250831T130729Z
UID:10007489-1719651600-1719655200@wimbledonvillage.com
SUMMARY:Wimbledon Common Parkrun
DESCRIPTION:A free\, fun\, and friendly weekly 5k community event. Participants can choose to walk\, jog\, run\, volunteer or just spectate. \n  \nThe run starts from near the Windmill car park every Saturday at 9am. \n  \nJoin other runners and supporters for a post run coffee at the Windmill Cafe.
URL:https://wimbledonvillage.com/event/wimbledon-common-park-run/2024-06-29/
ATTACH;FMTTYPE=image/jpeg:https://wimbledonvillage.com/wp-content/uploads/2023/08/Wimbledon-Common-Parkrun-runners-enjoying-the-course.jpg
END:VEVENT
END:VCALENDAR