BEGIN:VCALENDAR
VERSION:2.0
PRODID:-//Wimbledon Village - ECPv6.15.20//NONSGML v1.0//EN
CALSCALE:GREGORIAN
METHOD:PUBLISH
X-WR-CALNAME:Wimbledon Village
X-ORIGINAL-URL:https://wimbledonvillage.com
X-WR-CALDESC:Events for Wimbledon Village
REFRESH-INTERVAL;VALUE=DURATION:PT1H
X-Robots-Tag:noindex
X-PUBLISHED-TTL:PT1H
BEGIN:VTIMEZONE
TZID:Europe/London
BEGIN:DAYLIGHT
TZOFFSETFROM:+0000
TZOFFSETTO:+0100
TZNAME:BST
DTSTART:20220327T010000
END:DAYLIGHT
BEGIN:STANDARD
TZOFFSETFROM:+0100
TZOFFSETTO:+0000
TZNAME:GMT
DTSTART:20221030T010000
END:STANDARD
BEGIN:DAYLIGHT
TZOFFSETFROM:+0000
TZOFFSETTO:+0100
TZNAME:BST
DTSTART:20230326T010000
END:DAYLIGHT
BEGIN:STANDARD
TZOFFSETFROM:+0100
TZOFFSETTO:+0000
TZNAME:GMT
DTSTART:20231029T010000
END:STANDARD
BEGIN:DAYLIGHT
TZOFFSETFROM:+0000
TZOFFSETTO:+0100
TZNAME:BST
DTSTART:20240331T010000
END:DAYLIGHT
BEGIN:STANDARD
TZOFFSETFROM:+0100
TZOFFSETTO:+0000
TZNAME:GMT
DTSTART:20241027T010000
END:STANDARD
END:VTIMEZONE
BEGIN:VEVENT
DTSTART;TZID=Europe/London:20231027T090000
DTEND;TZID=Europe/London:20231027T180000
DTSTAMP:20260422T203626
CREATED:20230925T121535Z
LAST-MODIFIED:20230925T122636Z
UID:10000088-1698397200-1698429600@wimbledonvillage.com
SUMMARY:Police Drop-In Surgery
DESCRIPTION:Each month the Village Ward Police Team holds drop-in surgeries for members of the community to ask any questions\, raise concerns or request crime prevention advice. \n  \nThese sessions are held at various locations in and around the Village. This Autumn the events are on: \n\nFriday 27th October at 1pm in the Windmill Tearooms\nSaturday 18th November at 10 am in Carluccio’s\nSaturday 16th December at 9am in Wimbledon Park Cafe
URL:https://wimbledonvillage.com/event/police-drop-in-surgery/
ATTACH;FMTTYPE=image/jpeg:https://wimbledonvillage.com/wp-content/uploads/2023/09/Police-Drop-In-Surgery-image.jpg
END:VEVENT
BEGIN:VEVENT
DTSTART;TZID=Europe/London:20231022T090000
DTEND;TZID=Europe/London:20231022T180000
DTSTAMP:20260422T203626
CREATED:20230825T165946Z
LAST-MODIFIED:20230825T170246Z
UID:10000073-1697965200-1697997600@wimbledonvillage.com
SUMMARY:Wimbledon Common Bird Walk
DESCRIPTION:Join local experts on a walk to spot the Autumn bird life on the Commons. Length of Walk: Approximately 2/2.5 hours\, 2-3 miles. \n  \nAs numbers are strictly limited\, booking is essential. \n  \nPlease see WPCC website for more details and how to reserve your spot.
URL:https://wimbledonvillage.com/event/wimbledon-common-bird-walk/
ATTACH;FMTTYPE=image/jpeg:https://wimbledonvillage.com/wp-content/uploads/2023/08/Wimbledon-Common-Bird-Walk-Image.jpg
END:VEVENT
BEGIN:VEVENT
DTSTART;TZID=Europe/London:20231021T160000
DTEND;TZID=Europe/London:20231021T173000
DTSTAMP:20260422T203626
CREATED:20230825T160624Z
LAST-MODIFIED:20240308T101007Z
UID:10000067-1697904000-1697909400@wimbledonvillage.com
SUMMARY:A Conspiracy History of the World
DESCRIPTION:A Wimbledon National Trust Association Talk by Andy Thomas. \n  \nPart of a varied programme of lectures held once a month on Saturday afternoons in the autumn and winter/spring. \n  \nTalks start at 3 pm with tea/coffee and biscuits served from 2.30 (charged at 50p). \n  \nVenue: Christ Church Hall\, 2a Cottenham Park Road\, London\, SW20 0RZ \n  \nTicket cost: WNTA members £4.00 Non members £4.50 \n  \nFor more details visit the Wimbledon National Trust Association website.
URL:https://wimbledonvillage.com/event/national-trust-association-talk-a-conspiracy-history-of-the-world/
ATTACH;FMTTYPE=image/jpeg:https://wimbledonvillage.com/wp-content/uploads/2023/08/National-Trust-Logo-white-on-purple.jpg
END:VEVENT
BEGIN:VEVENT
DTSTART;TZID=Europe/London:20231015T110000
DTEND;TZID=Europe/London:20231015T130000
DTSTAMP:20260422T203626
CREATED:20230925T113609Z
LAST-MODIFIED:20231015T155655Z
UID:10000087-1697367600-1697374800@wimbledonvillage.com
SUMMARY:Police Community Liaison & Bike Marking Event
DESCRIPTION:Once a month\, between 10 am and 12 pm the Village Police take a stall at the Sunday Farmers Market on the High Street to meet members of the community\, hear concerns and offer crime prevention advice. They also offer theft-deterrent bike-marking on these days (See bikeregister.com for more details) \n\n  \nThe Autumn 2023 sessions are being held on: \n\n15th October\n12th November\n17th December\n\n\n\n\n\n\n  \nFor more details: \nT: 020 7175 9762 \nEmail: village@met.police.pnn.uk \nTwitter: @MPSVillageVW \n 
URL:https://wimbledonvillage.com/event/3844/
ATTACH;FMTTYPE=image/jpeg:https://wimbledonvillage.com/wp-content/uploads/2023/09/Bike-Marketing-Event-at-Farmers-Market.jpg
END:VEVENT
BEGIN:VEVENT
DTSTART;TZID=Europe/London:20231012T183000
DTEND;TZID=Europe/London:20231022T183000
DTSTAMP:20260422T203626
CREATED:20230825T141552Z
LAST-MODIFIED:20231011T110807Z
UID:10000065-1697135400-1697999400@wimbledonvillage.com
SUMMARY:BookFest 2023
DESCRIPTION:BookFest returns for its sixteenth year this autumn with 10 days of thought-provoking\, inspiring and entertaining events focussed on culture\, community and global connection. \n  \n\nMikaela Loach\, Clive Myrie\, Ben Okri\, Steve Backshall\, Peter Frankopan\, Annie MacManus\, Wes Streeting\, Anne Enright\, Afua Hirsch\, Paterson Joseph\, Kate Mosse\, Rick Stein and Janice Hallett feature in a stellar line-up of literary stars\, celebrities\, politicians\, sports personalities\, historians\, economists and academics.\n\n  \n\nThe festival’s celebrated schools programme will feature events from former Children’s Laureate Cressida Cowell\, as well Stephen Mulhern\, Sathnam Sanghera\, and award-winning authors SF Said and Katherine Rundell\, with more events due to be announced for the public children and families programme in the coming weeks.\n\n  \nClick here for the full 2023 programme. \n  \nFor venue and ticket information please see the BookFest website.
URL:https://wimbledonvillage.com/event/bookfest-2023/
ATTACH;FMTTYPE=image/jpeg:https://wimbledonvillage.com/wp-content/uploads/2023/08/BookFest-2023-promo-image.jpg
END:VEVENT
BEGIN:VEVENT
DTSTART;TZID=Europe/London:20231012T090000
DTEND;TZID=Europe/London:20231012T180000
DTSTAMP:20260422T203626
CREATED:20230918T125310Z
LAST-MODIFIED:20230918T125840Z
UID:10000084-1697101200-1697133600@wimbledonvillage.com
SUMMARY:Come & Meet Todd White
DESCRIPTION:Clarendon Fine Art will be presenting new original artwork & collectable editions by Todd White “the coolest artist on the planet” – BBC. \n  \nTodd White will be at Clarendon Fine Art in Wimbledon Village from 6 – 8pm on Thursday October 12th. \n  \nFor more details and to reserve your place at the event visit the Clarendon Fine Art website.
URL:https://wimbledonvillage.com/event/come-meet-todd-white/
ATTACH;FMTTYPE=image/jpeg:https://wimbledonvillage.com/wp-content/uploads/2023/09/Todd-White.jpg
END:VEVENT
BEGIN:VEVENT
DTSTART;TZID=Europe/London:20231011T210000
DTEND;TZID=Europe/London:20231011T223000
DTSTAMP:20260422T203626
CREATED:20230825T101742Z
LAST-MODIFIED:20240308T101140Z
UID:10000061-1697058000-1697063400@wimbledonvillage.com
SUMMARY:Cambodia: The Sacred Art of Angkor and Living Arts
DESCRIPTION:An Arts Society Lecture by Denise Heywood\n  \nThe Hindu temple complex of Angkor in Cambodia is the greatest archaeological site in Asia. Within an area of 400 square kilometres there are dozens of temples\, many covered in jungle but the most important of them all is Angkor Wat. Built in the 12th century\, Angkor Wat is the biggest religious monument in the world and measures a square mile. This lecture from Denise Heywood will focus on the artistic heritage and religious symbolism of Angkor. It will reveal the historical background and show the evolution of the Khymer empire and its flowering of sculptural art which was dedicated to religious building. Other temples such as the Bayon\, and Banteay Srei\, will also be highlighted. \n  \nVenue: Sacred Heart Church Hall\, Edge Hill\, London SW19 4LU. Lectures are also available on Zoom. \n  \nTime: 8 – 9.30 pm (with coffee available from 7.30 pm)
URL:https://wimbledonvillage.com/event/arts-society-lecture-cambodia-the-sacred-art-of-angor-and-living-arts/
ATTACH;FMTTYPE=image/jpeg:https://wimbledonvillage.com/wp-content/uploads/2023/08/Angkor-Wat-image-for-Arts-Society-lecture.jpg
END:VEVENT
BEGIN:VEVENT
DTSTART;TZID=Europe/London:20231010T200000
DTEND;TZID=Europe/London:20231010T230000
DTSTAMP:20260422T203626
CREATED:20230825T095616Z
LAST-MODIFIED:20231015T154448Z
UID:10000060-1696968000-1696978800@wimbledonvillage.com
SUMMARY:Winemaker Dinner at The Black Lamb
DESCRIPTION:Brompton Wine invites you to enjoy a night of wine insight and Italian-inspired food with winemaker Daniel Grace from Il Molino di Grace in Tuscany. \n  \nTickets are £80 per head and include a three course meal and accompanying wines. Reception drinks from 7pm\, dinner at 7.30pm. \n  \nVenue: The Black Lamb\, 67 High Street\, Wimbledon Village. \n  \nFor more details and to book please click here.
URL:https://wimbledonvillage.com/event/winemaker-dinner-at-the-black-lamb/
ATTACH;FMTTYPE=image/jpeg:https://wimbledonvillage.com/wp-content/uploads/2023/08/Il-Molino-di-Grace-in-Tuscany.jpg
END:VEVENT
BEGIN:VEVENT
DTSTART;TZID=Europe/London:20231007T090000
DTEND;TZID=Europe/London:20231007T180000
DTSTAMP:20260422T203626
CREATED:20230821T122211Z
LAST-MODIFIED:20230825T131910Z
UID:10000053-1696669200-1696701600@wimbledonvillage.com
SUMMARY:Waggy Walk : Charity Fundraiser
DESCRIPTION:This annual fundraising event from Wimbledon Guild is open to everyone – with and without dogs – and offers a short (4km) or a longer (7km) route option on beautiful Wimbledon Common. And for the first time this year\, if you’d like company as you walk then head to the start point just before midday and meet new people to enjoy the route together. \n  \nParticipants are invited to enjoy free pre-walk drinks and snacks at the award-winning Hand in Hand pub and re-energise with a delicious sausage roll from local caterers Two Teaspoons at the end.  Meanwhile every registered four legged friend will receive a fantastic complimentary goody bag from luxury pet boutique Pet Pavilion\, and additional goodies from local estate agents John D Wood and Centre Court shopping centre. \n  \nAll money raised from the event will help fund the Guild’s vital work providing financial\, emotional and practical support to people across Merton. \n  \nWhen and where? \nSaturday 7 October 2023 \nCheck in between: 10.30am – 2.00pm \nWalk between: 10.30am – 2.30pm \nCheck in at the Hand in Hand pub\, 6 Crooked Billet\, Wimbledon Common\, SW19 4RQ \n  \nMake sure to buy tickets in advance as they cost more on the day. \n  \nClick here for more details and to book.
URL:https://wimbledonvillage.com/event/waggy-walk-charity-fundraiser/
ATTACH;FMTTYPE=image/jpeg:https://wimbledonvillage.com/wp-content/uploads/2023/08/2023-Waggy-Walk-poster-cropped.jpg
END:VEVENT
BEGIN:VEVENT
DTSTART;TZID=Europe/London:20231001T130000
DTEND;TZID=Europe/London:20231015T173000
DTSTAMP:20260422T203626
CREATED:20231015T151320Z
LAST-MODIFIED:20231015T151441Z
UID:10000091-1696165200-1697391000@wimbledonvillage.com
SUMMARY:Jack Morrocco - 70th Birthday Exhibition
DESCRIPTION:A major exhibition of recent paintings celebrating Jack’s 70th birthday. \nWhen: 1st – 15th October\, with private view event on Sunday 1st October from 12 – 3 pm \nWhere: Wimbledon Fine Art\, 41 Church Road\, Wimbledon Village\, London SW19 5DQ \nAll paintings can be viewed on the Stafford Gallery website. \n 
URL:https://wimbledonvillage.com/event/jack-morrocco-70th-birthday-exhibition/
ATTACH;FMTTYPE=image/jpeg:https://wimbledonvillage.com/wp-content/uploads/2023/10/Jack-Morrocco-Exhibition-Image.jpg
END:VEVENT
BEGIN:VEVENT
DTSTART;TZID=Europe/London:20230930T120000
DTEND;TZID=Europe/London:20230930T180000
DTSTAMP:20260422T203626
CREATED:20230905T170024Z
LAST-MODIFIED:20230905T170134Z
UID:10000080-1696075200-1696096800@wimbledonvillage.com
SUMMARY:AFC Wimbledon Wombles Walk
DESCRIPTION:The Wombles Walk… Back To Plough Lane is a 5km or 10km sponsored walk taking place on 30th September in aid of AFC Wimbledon Foundation. The walks are open to everyone and are non-competitive. \n  \nThe 10km walk circles Wimbledon Common\, where AFC Wimbledon held football trials just over 21 years ago\, while the 5km walk circles Wimbledon Park. Both walks end at Plough Lane in time to enjoy the men’s 1st team home game vs Tranmere Rovers at 3pm. \n  \nAll participants will receive fundraising support\, an AFC Wimbledon Foundation t-shirt and a training programme\, created by Execfit\, to help prepare for the walk. Rest stops with refreshments are provided along the route and all finishers receive a medal at the Cherry Red Records Stadium before the game. \n  \nAdult entry is £15 and junior entry is just £5. For tickets and more information please visit the AFC Foundation website. \n 
URL:https://wimbledonvillage.com/event/afc-wimbledon-wombles-walk/
ATTACH;FMTTYPE=image/jpeg:https://wimbledonvillage.com/wp-content/uploads/2023/09/Wombles-Walk-Poster-cropped.jpg
END:VEVENT
BEGIN:VEVENT
DTSTART;TZID=Europe/London:20230918T090000
DTEND;TZID=Europe/London:20230918T180000
DTSTAMP:20260422T203626
CREATED:20230918T113209Z
LAST-MODIFIED:20230918T113349Z
UID:10000083-1695027600-1695060000@wimbledonvillage.com
SUMMARY:Macmillan Christmas Shopping Fair
DESCRIPTION:Avoid the last minute Xmas rush! Stock up early on your Christmas gifts and cards and support Macmillan Merton in the process. With a wonderful range of hand-picked stalls there’s gifts for everyone. \n  \nThis year’s event will be held on Saturday 10th November 2023 at The Coach House at the Dog & Fox\, 24 High Street\, Wimbledon Village. \n  \nFor more details please visit the Macmillan Merton website.
URL:https://wimbledonvillage.com/event/macmillan-christmas-shopping-fair/
ATTACH;FMTTYPE=image/jpeg:https://wimbledonvillage.com/wp-content/uploads/2023/09/Macmillan-Christmas-Fair-selection-of-wrapped-presents.jpg
END:VEVENT
BEGIN:VEVENT
DTSTART;TZID=Europe/London:20230917T120000
DTEND;TZID=Europe/London:20230917T180000
DTSTAMP:20260422T203626
CREATED:20230831T090615Z
LAST-MODIFIED:20231106T124653Z
UID:10000078-1694952000-1694973600@wimbledonvillage.com
SUMMARY:Cannizaro Art in the Park
DESCRIPTION:Aimed at art lovers\, park lovers\, budding artists and families alike\, Art in the Park promises a full day of fun and creativity for the whole community to enjoy. It combines free art activities\, a sculpture trail and an art fair showcasing local talent. \nIn the beautiful surroundings of Grade II* listed Cannizaro Park you will find a host of free family-friendly creative activities\, from a workshop making sculptures from natural materials\, to clay modelling and a giant communal drawing. Follow the sculpture trail through the trees down to the Cannizaro Art Studios\, which will be open for the weekend. \nJust a few short steps away from the park entrance\, visitors will find an art fair on the lawn in front of stunning Cannizaro House\, where more than 60 artists and makers will be showcasing a range of local talent in painting\, printmaking\, ceramics and jewellery-making. \nFor more details visit www.commonworksgallery.org.
URL:https://wimbledonvillage.com/event/cannizaro-art-in-the-park/
ATTACH;FMTTYPE=image/jpeg:https://wimbledonvillage.com/wp-content/uploads/2023/08/Cannizaro-Art-in-the-Park-poster.jpg
END:VEVENT
BEGIN:VEVENT
DTSTART;TZID=Europe/London:20230910T130000
DTEND;TZID=Europe/London:20230924T170000
DTSTAMP:20260422T203626
CREATED:20230829T125534Z
LAST-MODIFIED:20230917T105921Z
UID:10000077-1694350800-1695574800@wimbledonvillage.com
SUMMARY:Art Exhibition: Kirsty Wither and Euan McGregor PAI
DESCRIPTION:An exhibition of new paintings from both artists. \n  \nWhere & When: \n  \nWimbledon Fine Art\, 41 Church Road\, Wimbledon Village. \n  \n10th – 24th September\, with private view event on 10th September  from 12 – 3.30 pm. \n  \nFor more details and to book for the private view please visit the Wimbledon Fine Art website.
URL:https://wimbledonvillage.com/event/art-exhibition-kirsty-wither-and-euan-mcgregor-pai/
ATTACH;FMTTYPE=image/jpeg:https://wimbledonvillage.com/wp-content/uploads/2023/08/Painting-by-Euan-McGregor-PAI.jpg
END:VEVENT
END:VCALENDAR