BEGIN:VCALENDAR
VERSION:2.0
PRODID:-//Wimbledon Village - ECPv6.15.20//NONSGML v1.0//EN
CALSCALE:GREGORIAN
METHOD:PUBLISH
X-WR-CALNAME:Wimbledon Village
X-ORIGINAL-URL:https://wimbledonvillage.com
X-WR-CALDESC:Events for Wimbledon Village
REFRESH-INTERVAL;VALUE=DURATION:PT1H
X-Robots-Tag:noindex
X-PUBLISHED-TTL:PT1H
BEGIN:VTIMEZONE
TZID:Europe/London
BEGIN:DAYLIGHT
TZOFFSETFROM:+0000
TZOFFSETTO:+0100
TZNAME:BST
DTSTART:20240331T010000
END:DAYLIGHT
BEGIN:STANDARD
TZOFFSETFROM:+0100
TZOFFSETTO:+0000
TZNAME:GMT
DTSTART:20241027T010000
END:STANDARD
BEGIN:DAYLIGHT
TZOFFSETFROM:+0000
TZOFFSETTO:+0100
TZNAME:BST
DTSTART:20250330T010000
END:DAYLIGHT
BEGIN:STANDARD
TZOFFSETFROM:+0100
TZOFFSETTO:+0000
TZNAME:GMT
DTSTART:20251026T010000
END:STANDARD
BEGIN:DAYLIGHT
TZOFFSETFROM:+0000
TZOFFSETTO:+0100
TZNAME:BST
DTSTART:20260329T010000
END:DAYLIGHT
BEGIN:STANDARD
TZOFFSETFROM:+0100
TZOFFSETTO:+0000
TZNAME:GMT
DTSTART:20261025T010000
END:STANDARD
END:VTIMEZONE
BEGIN:VEVENT
DTSTART;TZID=Europe/London:20251231T190000
DTEND;TZID=Europe/London:20251231T220000
DTSTAMP:20260419T234904
CREATED:20240428T113530Z
LAST-MODIFIED:20250831T125653Z
UID:10006799-1767207600-1767218400@wimbledonvillage.com
SUMMARY:Pub Quiz @ The Dog & Fox
DESCRIPTION:Grab your team\, get your brain in gear and get quizzical at the Dog & Fox. \n  \nWhere & When: The Dog & Fox\, 24 High Street\, Wimbledon Village\, London SW19 5EA\, every Wednesday night\, 7 – 10 pm.
URL:https://wimbledonvillage.com/event/pub-quiz-the-dog-fox/2025-12-31/
ATTACH;FMTTYPE=image/png:https://wimbledonvillage.com/wp-content/uploads/2024/04/Dog-Fox-pub-quiz-image.png
END:VEVENT
BEGIN:VEVENT
DTSTART;TZID=Europe/London:20251230T193000
DTEND;TZID=Europe/London:20251230T224500
DTSTAMP:20260419T234904
CREATED:20250922T102723Z
LAST-MODIFIED:20260202T082017Z
UID:10002224-1767123000-1767134700@wimbledonvillage.com
SUMMARY:Pub Quiz @ The Rose & Crown
DESCRIPTION:Grab your cleverest pals & put your knowledge to the test with fantastic quiz master Duncan at the weekly Rose & Crown pub quiz. \n  \nWhere & When: The Rose & Crown\, 55 High Street\, Wimbledon Village\, London SW19 5BA\, every Tuesday from 7.30 – 10.45 pm (except during the Wimbledon tennis fortnight).
URL:https://wimbledonvillage.com/event/rose-crown-pub-quiz-3/2025-12-30/
ATTACH;FMTTYPE=image/jpeg:https://wimbledonvillage.com/wp-content/uploads/2023/08/Rose-Crown-pub-quiz-image.jpg
END:VEVENT
BEGIN:VEVENT
DTSTART;TZID=Europe/London:20251228T190000
DTEND;TZID=Europe/London:20251228T220000
DTSTAMP:20260419T234904
CREATED:20240108T125908Z
LAST-MODIFIED:20250831T125309Z
UID:10006448-1766948400-1766959200@wimbledonvillage.com
SUMMARY:Pub Quiz @ the Fire Stables
DESCRIPTION:Put your thinking hat on because this is a game for real players. Call your smartest friends and put together a winning team to answer questions about general knowledge\, music\, geography\, everything and nothing. A £50 bar tab is up for grabs each week. \n  \nWhere & When: Fire Stables\, every Sunday from 7 – 10 pm.
URL:https://wimbledonvillage.com/event/pub-quiz-the-fire-stables/2025-12-28/
ATTACH;FMTTYPE=image/jpeg:https://wimbledonvillage.com/wp-content/uploads/2024/01/rsz_pexels-elevate-1269025.jpg
END:VEVENT
BEGIN:VEVENT
DTSTART;TZID=Europe/London:20251228T100000
DTEND;TZID=Europe/London:20251228T150000
DTSTAMP:20260419T234904
CREATED:20230819T162853Z
LAST-MODIFIED:20250831T125135Z
UID:10005756-1766916000-1766934000@wimbledonvillage.com
SUMMARY:Wimbledon Village Farmers' Market
DESCRIPTION:The Village Farmers’ Market serves up a range of fabulous farm fresh and local products along with a varied offering of ready to eat goodies every Sunday from 10am to 3pm on the Village High Street. Stalls rotate each week. \n  \nFollow The Wimbledon Village Farmers’ Market on Instagram or Facebook for more details.
URL:https://wimbledonvillage.com/event/wimbledon-village-farmers-market/2025-12-28/
ATTACH;FMTTYPE=image/jpeg:https://wimbledonvillage.com/wp-content/uploads/2023/08/Farmers-Market-vegetables.jpg
END:VEVENT
BEGIN:VEVENT
DTSTART;TZID=Europe/London:20251227T103000
DTEND;TZID=Europe/London:20251227T120000
DTSTAMP:20260419T234904
CREATED:20230819T155822Z
LAST-MODIFIED:20250831T132807Z
UID:10008259-1766831400-1766836800@wimbledonvillage.com
SUMMARY:Wimbledon Common and Village Walk & Talk
DESCRIPTION:A free and fun ‘walk and talk’ every Saturday morning around Wimbledon Common and Wimbledon Village. \n  \nWalk and talks are a chance for all generations to take a stroll\, chat\, meet friends and neighbours\, make new friends and enjoy their local area and green spaces together. From older adults to young children\, from buggies to beagles – everybody can join in. \n  \nNo booking\, no reservations\, just turn up and you will get a very warm welcome. \n  \nWhen & Where: 10.30am at the Wimbledon War Memorial on The Green\, at the corner of Parkside and The Causeway.
URL:https://wimbledonvillage.com/event/weekly-walk-talk/2025-12-27/
ATTACH;FMTTYPE=image/jpeg:https://wimbledonvillage.com/wp-content/uploads/2023/08/Walk-Talk-Wimbledon-Common-walkers-on-a-sunny-day.jpg
END:VEVENT
BEGIN:VEVENT
DTSTART;TZID=Europe/London:20251227T090000
DTEND;TZID=Europe/London:20251227T100000
DTSTAMP:20260419T234904
CREATED:20230819T151954Z
LAST-MODIFIED:20250831T130729Z
UID:10007567-1766826000-1766829600@wimbledonvillage.com
SUMMARY:Wimbledon Common Parkrun
DESCRIPTION:A free\, fun\, and friendly weekly 5k community event. Participants can choose to walk\, jog\, run\, volunteer or just spectate. \n  \nThe run starts from near the Windmill car park every Saturday at 9am. \n  \nJoin other runners and supporters for a post run coffee at the Windmill Cafe.
URL:https://wimbledonvillage.com/event/wimbledon-common-park-run/2025-12-27/
ATTACH;FMTTYPE=image/jpeg:https://wimbledonvillage.com/wp-content/uploads/2023/08/Wimbledon-Common-Parkrun-runners-enjoying-the-course.jpg
END:VEVENT
BEGIN:VEVENT
DTSTART;TZID=Europe/London:20251224T190000
DTEND;TZID=Europe/London:20251224T220000
DTSTAMP:20260419T234904
CREATED:20240428T113530Z
LAST-MODIFIED:20250831T125653Z
UID:10006798-1766602800-1766613600@wimbledonvillage.com
SUMMARY:Pub Quiz @ The Dog & Fox
DESCRIPTION:Grab your team\, get your brain in gear and get quizzical at the Dog & Fox. \n  \nWhere & When: The Dog & Fox\, 24 High Street\, Wimbledon Village\, London SW19 5EA\, every Wednesday night\, 7 – 10 pm.
URL:https://wimbledonvillage.com/event/pub-quiz-the-dog-fox/2025-12-24/
ATTACH;FMTTYPE=image/png:https://wimbledonvillage.com/wp-content/uploads/2024/04/Dog-Fox-pub-quiz-image.png
END:VEVENT
BEGIN:VEVENT
DTSTART;TZID=Europe/London:20251223T193000
DTEND;TZID=Europe/London:20251223T224500
DTSTAMP:20260419T234904
CREATED:20250922T102723Z
LAST-MODIFIED:20260202T082017Z
UID:10002222-1766518200-1766529900@wimbledonvillage.com
SUMMARY:Pub Quiz @ The Rose & Crown
DESCRIPTION:Grab your cleverest pals & put your knowledge to the test with fantastic quiz master Duncan at the weekly Rose & Crown pub quiz. \n  \nWhere & When: The Rose & Crown\, 55 High Street\, Wimbledon Village\, London SW19 5BA\, every Tuesday from 7.30 – 10.45 pm (except during the Wimbledon tennis fortnight).
URL:https://wimbledonvillage.com/event/rose-crown-pub-quiz-3/2025-12-23/
ATTACH;FMTTYPE=image/jpeg:https://wimbledonvillage.com/wp-content/uploads/2023/08/Rose-Crown-pub-quiz-image.jpg
END:VEVENT
BEGIN:VEVENT
DTSTART;TZID=Europe/London:20251223T080000
DTEND;TZID=Europe/London:20251223T170000
DTSTAMP:20260419T234904
CREATED:20250208T102615Z
LAST-MODIFIED:20250831T133614Z
UID:10004292-1766476800-1766509200@wimbledonvillage.com
SUMMARY:Wimbledon Common Healthy Walks
DESCRIPTION:Take a little outdoor exercise and at the same time learn about the history and current management of the Commons at this regular programme of healthy walks on Wimbledon Common. \n  \nThese moderate walks take place every three weeks and last for approximately 1 hour. They are led by one of the Commons’ full-time staff or a regular volunteer. \n  \nWhere and When: Meeting/end point is outside the wooden garages near to the Rangers Office on Windmill Road. Time: 10am-11am. Booking is not required. \n  \nWalk dates for 2025: \n\n11 February\n4 March\n25 March\n15 April\n6 May\n27 May\n17 June\n8 July\n29 July\n19 August\n9 September\n30 September\n21 October\n11 November\n2 December\n23 December
URL:https://wimbledonvillage.com/event/wimbledon-common-healthy-walks-2/2025-12-23/
ATTACH;FMTTYPE=image/jpeg:https://wimbledonvillage.com/wp-content/uploads/2025/02/img20230815105914035hdr_cropped_.jpg
END:VEVENT
BEGIN:VEVENT
DTSTART;TZID=Europe/London:20251221T190000
DTEND;TZID=Europe/London:20251221T220000
DTSTAMP:20260419T234904
CREATED:20240108T125908Z
LAST-MODIFIED:20250831T125309Z
UID:10006447-1766343600-1766354400@wimbledonvillage.com
SUMMARY:Pub Quiz @ the Fire Stables
DESCRIPTION:Put your thinking hat on because this is a game for real players. Call your smartest friends and put together a winning team to answer questions about general knowledge\, music\, geography\, everything and nothing. A £50 bar tab is up for grabs each week. \n  \nWhere & When: Fire Stables\, every Sunday from 7 – 10 pm.
URL:https://wimbledonvillage.com/event/pub-quiz-the-fire-stables/2025-12-21/
ATTACH;FMTTYPE=image/jpeg:https://wimbledonvillage.com/wp-content/uploads/2024/01/rsz_pexels-elevate-1269025.jpg
END:VEVENT
BEGIN:VEVENT
DTSTART;TZID=Europe/London:20251221T170000
DTEND;TZID=Europe/London:20251221T200000
DTSTAMP:20260419T234904
CREATED:20251217T102216Z
LAST-MODIFIED:20251217T102216Z
UID:10008643-1766336400-1766347200@wimbledonvillage.com
SUMMARY:Christmas Carols at The Ivy Cafe Wimbledon
DESCRIPTION:Enjoy an enchanting evening of live Christmas carols as you indulge in seasonal favourites and raise a glass to the most wonderful time of the year. \n  \nWhere & When: The Ivy Cafe Wimbledon\, Sunday\, 21st December\, 5 – 8 pm.
URL:https://wimbledonvillage.com/event/christmas-carols-at-the-ivy-cafe-wimbledon/
ATTACH;FMTTYPE=image/jpeg:https://wimbledonvillage.com/wp-content/uploads/2025/12/WINE-POUR-1000x1221px-1.jpg
END:VEVENT
BEGIN:VEVENT
DTSTART;TZID=Europe/London:20251221T100000
DTEND;TZID=Europe/London:20251221T150000
DTSTAMP:20260419T234904
CREATED:20230819T162853Z
LAST-MODIFIED:20250831T125135Z
UID:10005755-1766311200-1766329200@wimbledonvillage.com
SUMMARY:Wimbledon Village Farmers' Market
DESCRIPTION:The Village Farmers’ Market serves up a range of fabulous farm fresh and local products along with a varied offering of ready to eat goodies every Sunday from 10am to 3pm on the Village High Street. Stalls rotate each week. \n  \nFollow The Wimbledon Village Farmers’ Market on Instagram or Facebook for more details.
URL:https://wimbledonvillage.com/event/wimbledon-village-farmers-market/2025-12-21/
ATTACH;FMTTYPE=image/jpeg:https://wimbledonvillage.com/wp-content/uploads/2023/08/Farmers-Market-vegetables.jpg
END:VEVENT
BEGIN:VEVENT
DTSTART;TZID=Europe/London:20251221T093000
DTEND;TZID=Europe/London:20251221T123000
DTSTAMP:20260419T234904
CREATED:20250509T085939Z
LAST-MODIFIED:20250831T142326Z
UID:10004665-1766309400-1766320200@wimbledonvillage.com
SUMMARY:Wimbledon Common Christmas Run
DESCRIPTION:This picturesque course takes you running through the stunning grounds of Wimbledon Common to cover both 5k & 10k distances. Each kilometre is accurately marked out with sign posts and plenty of helpers are on hand to keep runners on track and provide them with encouragement. \n  \nOrganiser: Runthrough. Attendees: 800. \n  \nWhen & Where: Sunday 21st December\, 9.30 am – 12.30 pm\, Wimbledon Common \n  \nCost: £25 – 120
URL:https://wimbledonvillage.com/event/wimbledon-common-christmas-run-2/
ATTACH;FMTTYPE=image/png:https://wimbledonvillage.com/wp-content/uploads/2024/01/Screenshot-2024-01-10-at-16.33.2.png
END:VEVENT
BEGIN:VEVENT
DTSTART;TZID=Europe/London:20251220T103000
DTEND;TZID=Europe/London:20251220T120000
DTSTAMP:20260419T234904
CREATED:20230819T155822Z
LAST-MODIFIED:20250831T132807Z
UID:10008258-1766226600-1766232000@wimbledonvillage.com
SUMMARY:Wimbledon Common and Village Walk & Talk
DESCRIPTION:A free and fun ‘walk and talk’ every Saturday morning around Wimbledon Common and Wimbledon Village. \n  \nWalk and talks are a chance for all generations to take a stroll\, chat\, meet friends and neighbours\, make new friends and enjoy their local area and green spaces together. From older adults to young children\, from buggies to beagles – everybody can join in. \n  \nNo booking\, no reservations\, just turn up and you will get a very warm welcome. \n  \nWhen & Where: 10.30am at the Wimbledon War Memorial on The Green\, at the corner of Parkside and The Causeway.
URL:https://wimbledonvillage.com/event/weekly-walk-talk/2025-12-20/
ATTACH;FMTTYPE=image/jpeg:https://wimbledonvillage.com/wp-content/uploads/2023/08/Walk-Talk-Wimbledon-Common-walkers-on-a-sunny-day.jpg
END:VEVENT
BEGIN:VEVENT
DTSTART;TZID=Europe/London:20251220T090000
DTEND;TZID=Europe/London:20251220T100000
DTSTAMP:20260419T234904
CREATED:20230819T151954Z
LAST-MODIFIED:20250831T130729Z
UID:10007566-1766221200-1766224800@wimbledonvillage.com
SUMMARY:Wimbledon Common Parkrun
DESCRIPTION:A free\, fun\, and friendly weekly 5k community event. Participants can choose to walk\, jog\, run\, volunteer or just spectate. \n  \nThe run starts from near the Windmill car park every Saturday at 9am. \n  \nJoin other runners and supporters for a post run coffee at the Windmill Cafe.
URL:https://wimbledonvillage.com/event/wimbledon-common-park-run/2025-12-20/
ATTACH;FMTTYPE=image/jpeg:https://wimbledonvillage.com/wp-content/uploads/2023/08/Wimbledon-Common-Parkrun-runners-enjoying-the-course.jpg
END:VEVENT
BEGIN:VEVENT
DTSTART;TZID=Europe/London:20251219T193000
DTEND;TZID=Europe/London:20251219T213000
DTSTAMP:20260419T234904
CREATED:20251201T082821Z
LAST-MODIFIED:20251201T082821Z
UID:10008640-1766172600-1766179800@wimbledonvillage.com
SUMMARY:The Jigsaw Players: Mozart by Candlelight
DESCRIPTION:Listen to some of Mozart’s most celebrated masterpieces whilst enjoying mulled wine and mince pies. \n  \nOn the programme: \n\nEine Kleine Nacht Musik K.525\nDuo for violin and viola K.424\nString Quartet K.157\nClarinet Quintet K.581\n\n  \nWhere & When: Christ Church\, Friday 19th Wimbledon @ 7.30 – 9.30 pm \n  \nTickets: £15 (click below to purchase). Students £5 (tickets available on the door). Under 18s free.
URL:https://wimbledonvillage.com/event/the-jigsaw-players-mozart-by-candlelight/
ATTACH;FMTTYPE=image/jpeg:https://wimbledonvillage.com/wp-content/uploads/2025/12/canvas-oil-Wolfgang-Amadeus-Moza.jpg
END:VEVENT
BEGIN:VEVENT
DTSTART;TZID=Europe/London:20251219T160000
DTEND;TZID=Europe/London:20251219T190000
DTSTAMP:20260419T234904
CREATED:20251124T113628Z
LAST-MODIFIED:20251124T113628Z
UID:10008624-1766160000-1766170800@wimbledonvillage.com
SUMMARY:The Lost Explorer Barrel-Top Tasting
DESCRIPTION:This informal customer tasting showcases three high-end mezcals and a wonderful tequila from The Lost Explorer. \n  \nWhere & When: Amathus\, Friday 19th December\, 4 – 7 pm. \n  \nBooking/Tickets: Booking not required\, free event.
URL:https://wimbledonvillage.com/event/the-lost-explorer-barrel-top-tasting/
ATTACH;FMTTYPE=image/jpeg:https://wimbledonvillage.com/wp-content/uploads/2025/11/Screenshot-2025-11-24-at-11.30.5.jpg
END:VEVENT
BEGIN:VEVENT
DTSTART;TZID=Europe/London:20251217T193000
DTEND;TZID=Europe/London:20251217T223000
DTSTAMP:20260419T234904
CREATED:20251124T194508Z
LAST-MODIFIED:20251124T194508Z
UID:10008636-1765999800-1766010600@wimbledonvillage.com
SUMMARY:Man Vs Santa: Mince Pie Eating Competition
DESCRIPTION:Mince-pie-munching time of the year is back and so is the Hand in Hand’s annual Mince Pie Eating Competition! \n  \nWhere & When: Hand in Hand on 17th December from 7.30 pm.
URL:https://wimbledonvillage.com/event/man-vs-santa-mince-pie-eating-competition/
ATTACH;FMTTYPE=image/jpeg:https://wimbledonvillage.com/wp-content/uploads/2025/11/unnamed-24.jpg
END:VEVENT
BEGIN:VEVENT
DTSTART;TZID=Europe/London:20251217T190000
DTEND;TZID=Europe/London:20251217T220000
DTSTAMP:20260419T234904
CREATED:20240428T113530Z
LAST-MODIFIED:20250831T125653Z
UID:10006797-1765998000-1766008800@wimbledonvillage.com
SUMMARY:Pub Quiz @ The Dog & Fox
DESCRIPTION:Grab your team\, get your brain in gear and get quizzical at the Dog & Fox. \n  \nWhere & When: The Dog & Fox\, 24 High Street\, Wimbledon Village\, London SW19 5EA\, every Wednesday night\, 7 – 10 pm.
URL:https://wimbledonvillage.com/event/pub-quiz-the-dog-fox/2025-12-17/
ATTACH;FMTTYPE=image/png:https://wimbledonvillage.com/wp-content/uploads/2024/04/Dog-Fox-pub-quiz-image.png
END:VEVENT
BEGIN:VEVENT
DTSTART;TZID=Europe/London:20251217T180000
DTEND;TZID=Europe/London:20251217T190000
DTSTAMP:20260419T234904
CREATED:20251130T182143Z
LAST-MODIFIED:20251130T182143Z
UID:10008639-1765994400-1765998000@wimbledonvillage.com
SUMMARY:Tasting Event: Cheese Pairing with Hine Cognac
DESCRIPTION:Experience the unparalleled pleasure of pairing cheese with brandy from one of the top houses of Cognac. \n  \nYou’ll sample the diverse flavour profiles of Cognacs from the house of Hine\, ranging from VSOP to Premier Cru XO\, matched with some excellent cheeses\, before clearing the palate with a chilled Champagne. A wonderful pre-Christmas treat! \n  \nWhere & When: Jeroboams\, Wednesday 17th December\, 6 – 7 pm \n  \nTickets: £25pp. To book\, click on the link below or pop in store to buy.
URL:https://wimbledonvillage.com/event/tasting-event-cheese-pairing-with-hine-cognac/
ATTACH;FMTTYPE=image/jpeg:https://wimbledonvillage.com/wp-content/uploads/2025/11/https-cdn.evbuc_.com-images-117-2.jpg
END:VEVENT
BEGIN:VEVENT
DTSTART;TZID=Europe/London:20251217T160000
DTEND;TZID=Europe/London:20251217T190000
DTSTAMP:20260419T234904
CREATED:20251124T112513Z
LAST-MODIFIED:20251124T114745Z
UID:10008623-1765987200-1765998000@wimbledonvillage.com
SUMMARY:Chapel Down Barrel-Top Tasting
DESCRIPTION:Start your Christmas celebrations early. Sample a range of great sparkling wines from this Kent vineyard at this informal tasting. \n  \nWhere & When: Amathus\, Wednesday 17th December\, 4 – 7 pm \n  \nBooking/Tickets: Booking not required\, free event.
URL:https://wimbledonvillage.com/event/chapel-down-barrel-top-tasting/
ATTACH;FMTTYPE=image/jpeg:https://wimbledonvillage.com/wp-content/uploads/2025/11/Brut_Rose_updated_imagery_1_3024.jpg
END:VEVENT
BEGIN:VEVENT
DTSTART;TZID=Europe/London:20251216T200000
DTEND;TZID=Europe/London:20251216T220000
DTSTAMP:20260419T234904
CREATED:20250922T102319Z
LAST-MODIFIED:20251116T101339Z
UID:10002223-1765915200-1765922400@wimbledonvillage.com
SUMMARY:The Big Fat Christmas Quiz @ The Rose & Crown
DESCRIPTION:Grab your cleverest pals & put your knowledge to the test with fantastic quiz master Duncan at this year’s Big Fat Christmas Quiz! \n  \nWhere & When: Rose & Crown from 8 – 10 pm on Tuesday 16th December
URL:https://wimbledonvillage.com/event/rose-crown-pub-quiz-2/
ATTACH;FMTTYPE=image/jpeg:https://wimbledonvillage.com/wp-content/uploads/2023/08/Rose-Crown-pub-quiz-image.jpg
END:VEVENT
BEGIN:VEVENT
DTSTART;TZID=Europe/London:20251216T160000
DTEND;TZID=Europe/London:20251216T190000
DTSTAMP:20260419T234904
CREATED:20251124T111814Z
LAST-MODIFIED:20251124T114712Z
UID:10008622-1765900800-1765911600@wimbledonvillage.com
SUMMARY:Marrakech & California Gin Barrel-Top Tasting
DESCRIPTION:A chance to sample two great gins with very different profiles from CBA Gin Company at this informal customer tasting. \n  \nWhere & When: Amathus\, Tuesday 16th December\, 4 – 7 pm \n  \nBooking/Tickets: Booking not required\, free event.
URL:https://wimbledonvillage.com/event/marrakech-california-gin-barrel-top-tasting/
ATTACH;FMTTYPE=image/jpeg:https://wimbledonvillage.com/wp-content/uploads/2025/11/Screenshot-2025-11-24-at-11.14.3.jpg
END:VEVENT
BEGIN:VEVENT
DTSTART;TZID=Europe/London:20251215T093000
DTEND;TZID=Europe/London:20251217T153000
DTSTAMP:20260419T234904
CREATED:20251110T235517Z
LAST-MODIFIED:20251110T235843Z
UID:10008598-1765791000-1765985400@wimbledonvillage.com
SUMMARY:Planet Art Christmas Camp
DESCRIPTION:Designed for children aged 4–9\, this fun-packed camp offers three joyful days filled with festive arts and crafts\, creative games\, and plenty of Christmas cheer. \n  \nWhere & When: The Study Prep\, Camp Road\, Monday 15th – Wednesday 17th December from 9.30 am – 3.30 pm. \n  \nCost: £65 per day
URL:https://wimbledonvillage.com/event/planet-art-christmas-camp/
ATTACH;FMTTYPE=image/jpeg:https://wimbledonvillage.com/wp-content/uploads/2025/11/IMG_7270.jpg
END:VEVENT
BEGIN:VEVENT
DTSTART;TZID=Europe/London:20251214T190000
DTEND;TZID=Europe/London:20251214T220000
DTSTAMP:20260419T234904
CREATED:20240108T125908Z
LAST-MODIFIED:20250831T125309Z
UID:10006446-1765738800-1765749600@wimbledonvillage.com
SUMMARY:Pub Quiz @ the Fire Stables
DESCRIPTION:Put your thinking hat on because this is a game for real players. Call your smartest friends and put together a winning team to answer questions about general knowledge\, music\, geography\, everything and nothing. A £50 bar tab is up for grabs each week. \n  \nWhere & When: Fire Stables\, every Sunday from 7 – 10 pm.
URL:https://wimbledonvillage.com/event/pub-quiz-the-fire-stables/2025-12-14/
ATTACH;FMTTYPE=image/jpeg:https://wimbledonvillage.com/wp-content/uploads/2024/01/rsz_pexels-elevate-1269025.jpg
END:VEVENT
BEGIN:VEVENT
DTSTART;TZID=Europe/London:20251214T133000
DTEND;TZID=Europe/London:20251214T143000
DTSTAMP:20260419T234904
CREATED:20250922T205309Z
LAST-MODIFIED:20251117T162758Z
UID:10008549-1765719000-1765722600@wimbledonvillage.com
SUMMARY:A Tudor Christmas - Family Craft Workshop
DESCRIPTION:Travel back to December 1546\, when King Henry VIII prepared to visit Wimbledon. Learn about the royal visit and the role of the king’s apothecary\, Thomas Alsop. Create traditional Tudor decorations\, including beeswax candles\, festive table ornaments\, and clove-studded oranges. Perfect for children looking to celebrate Christmas with a historical twist! \n  \nSuitable for children aged 5+. Children must be accompanied by an adult. Max 2 children per adult. \n\n\n  \n\nWhere & When: Wimbledon Museum\, on Sunday 14th December\, from 1.30 – 2.30 pm \n  \nTickets: £15 plus booking fee \n 
URL:https://wimbledonvillage.com/event/a-tudor-christmas-family-craft-workshop-2/
ATTACH;FMTTYPE=image/jpeg:https://wimbledonvillage.com/wp-content/uploads/2025/09/https-cdn.evbuc_.com-images-871-2.jpg
END:VEVENT
BEGIN:VEVENT
DTSTART;TZID=Europe/London:20251214T100000
DTEND;TZID=Europe/London:20251214T150000
DTSTAMP:20260419T234904
CREATED:20230819T162853Z
LAST-MODIFIED:20250831T125135Z
UID:10005754-1765706400-1765724400@wimbledonvillage.com
SUMMARY:Wimbledon Village Farmers' Market
DESCRIPTION:The Village Farmers’ Market serves up a range of fabulous farm fresh and local products along with a varied offering of ready to eat goodies every Sunday from 10am to 3pm on the Village High Street. Stalls rotate each week. \n  \nFollow The Wimbledon Village Farmers’ Market on Instagram or Facebook for more details.
URL:https://wimbledonvillage.com/event/wimbledon-village-farmers-market/2025-12-14/
ATTACH;FMTTYPE=image/jpeg:https://wimbledonvillage.com/wp-content/uploads/2023/08/Farmers-Market-vegetables.jpg
END:VEVENT
BEGIN:VEVENT
DTSTART;TZID=Europe/London:20251213T160000
DTEND;TZID=Europe/London:20251213T170000
DTSTAMP:20260419T234904
CREATED:20250904T182057Z
LAST-MODIFIED:20250904T182057Z
UID:10008535-1765641600-1765645200@wimbledonvillage.com
SUMMARY:Carols at the Windmill 2025
DESCRIPTION:Head to the Wimbledon Windmill for this annual carols sing-a-long\, with hot chocolate\, mulled cider and mince pies. \n  \nWhere & When: Wimbledon Windmill\, Windmill Road\, Wimbledon Common\, London SW19 5NR\, Saturday 13th December from 4 pm. \n  \nIt is a free event\, but donations are most welcome. All money from donations and from sales of drinks and mince pies goes towards the upkeep of the Commons. \n  \nA free of charge\, large car park is situated immediately adjoining the Windmill.
URL:https://wimbledonvillage.com/event/carols-at-the-windmill-2025/
ATTACH;FMTTYPE=image/jpeg:https://wimbledonvillage.com/wp-content/uploads/2024/05/Unknown.jpg
END:VEVENT
BEGIN:VEVENT
DTSTART;TZID=Europe/London:20251213T150000
DTEND;TZID=Europe/London:20251213T170000
DTSTAMP:20260419T234904
CREATED:20251125T182017Z
LAST-MODIFIED:20251125T182116Z
UID:10008637-1765638000-1765645200@wimbledonvillage.com
SUMMARY:Christmas Ornament Felting Workshop
DESCRIPTION:Get into the holiday spirit with an afternoon of needle felting. This tactile craft is easy to learn\, so head along to this fun workshop and try something new! \n  \nYou’ll be guided through two different felting techniques to create your own charming woollen Christmas ornaments. Make something special for your tree or as a beautiful handmade gift. \n  \nFor ages 16+ \n  \nWhere & When: Wimbledon Museum\, Saturday 13th December\, 3 to 5 pm \n  \nTickets: £25 plus booking fee
URL:https://wimbledonvillage.com/event/christmas-ornament-felting-workshop/
ATTACH;FMTTYPE=image/jpeg:https://wimbledonvillage.com/wp-content/uploads/2025/11/https-cdn.evbuc_.com-images-117.jpg
END:VEVENT
BEGIN:VEVENT
DTSTART;TZID=Europe/London:20251213T103000
DTEND;TZID=Europe/London:20251213T120000
DTSTAMP:20260419T234904
CREATED:20230819T155822Z
LAST-MODIFIED:20250831T132807Z
UID:10008257-1765621800-1765627200@wimbledonvillage.com
SUMMARY:Wimbledon Common and Village Walk & Talk
DESCRIPTION:A free and fun ‘walk and talk’ every Saturday morning around Wimbledon Common and Wimbledon Village. \n  \nWalk and talks are a chance for all generations to take a stroll\, chat\, meet friends and neighbours\, make new friends and enjoy their local area and green spaces together. From older adults to young children\, from buggies to beagles – everybody can join in. \n  \nNo booking\, no reservations\, just turn up and you will get a very warm welcome. \n  \nWhen & Where: 10.30am at the Wimbledon War Memorial on The Green\, at the corner of Parkside and The Causeway.
URL:https://wimbledonvillage.com/event/weekly-walk-talk/2025-12-13/
ATTACH;FMTTYPE=image/jpeg:https://wimbledonvillage.com/wp-content/uploads/2023/08/Walk-Talk-Wimbledon-Common-walkers-on-a-sunny-day.jpg
END:VEVENT
END:VCALENDAR